BEGIN:VCALENDAR
VERSION:2.0
PRODID:-//Notorious Jazz - ECPv6.15.17//NONSGML v1.0//EN
CALSCALE:GREGORIAN
METHOD:PUBLISH
X-ORIGINAL-URL:https://notoriousjazz.com
X-WR-CALDESC:Events for Notorious Jazz
REFRESH-INTERVAL;VALUE=DURATION:PT1H
X-Robots-Tag:noindex
X-PUBLISHED-TTL:PT1H
BEGIN:VTIMEZONE
TZID:America/Chicago
BEGIN:DAYLIGHT
TZOFFSETFROM:-0600
TZOFFSETTO:-0500
TZNAME:CDT
DTSTART:20230312T080000
END:DAYLIGHT
BEGIN:STANDARD
TZOFFSETFROM:-0500
TZOFFSETTO:-0600
TZNAME:CST
DTSTART:20231105T070000
END:STANDARD
BEGIN:DAYLIGHT
TZOFFSETFROM:-0600
TZOFFSETTO:-0500
TZNAME:CDT
DTSTART:20240310T080000
END:DAYLIGHT
BEGIN:STANDARD
TZOFFSETFROM:-0500
TZOFFSETTO:-0600
TZNAME:CST
DTSTART:20241103T070000
END:STANDARD
BEGIN:DAYLIGHT
TZOFFSETFROM:-0600
TZOFFSETTO:-0500
TZNAME:CDT
DTSTART:20250309T080000
END:DAYLIGHT
BEGIN:STANDARD
TZOFFSETFROM:-0500
TZOFFSETTO:-0600
TZNAME:CST
DTSTART:20251102T070000
END:STANDARD
END:VTIMEZONE
BEGIN:VEVENT
DTSTART;TZID=America/Chicago:20240531T200000
DTEND;TZID=America/Chicago:20240601T235900
DTSTAMP:20260421T114914
CREATED:20240521T012805Z
LAST-MODIFIED:20240521T112427Z
UID:40905-1717185600-1717286340@notoriousjazz.com
SUMMARY:HOWARD LEVY 4
DESCRIPTION:Howard Levy\, two- time Grammy Award Winner for Pop Music Performance and Instrumental Composition\, is an acknowledged master of the diatonic harmonica\, a superb pianist\, innovative composer\, educator and producer. At the age of 19\, he discovered how to play the diatonic harmonica as a fully chromatic instrument by developing techniques on it that had never existed before. This enabled Howard to take the harmonica out of its usual role as a Folk and Blues instrument\, and into the worlds of Jazz\, Classical\, Middle Eastern music\, and more. His discovery unlocked infinite possibilities for the harmonica world. \nHoward Levy – piano\, harmonica\nChris Siebold – guitar\nJoshua Ramos – bass\nLuis Ewerling – drums
URL:https://notoriousjazz.com/event/howard-levy-4
LOCATION:Green Mill Jazz Club\, 4802 N. Broadway Avenue\, Chicago\, IL\, 60640\, United States
CATEGORIES:Club
ATTACH;FMTTYPE=image/jpeg:https://notoriousjazz.com/wp-content/uploads/2024/05/HOWARD-LEVY.jpg
END:VEVENT
END:VCALENDAR