BEGIN:VCALENDAR
VERSION:2.0
PRODID:-//Notorious Jazz - ECPv6.15.17//NONSGML v1.0//EN
CALSCALE:GREGORIAN
METHOD:PUBLISH
X-WR-CALNAME:Notorious Jazz
X-ORIGINAL-URL:https://notoriousjazz.com
X-WR-CALDESC:Events for Notorious Jazz
REFRESH-INTERVAL;VALUE=DURATION:PT1H
X-Robots-Tag:noindex
X-PUBLISHED-TTL:PT1H
BEGIN:VTIMEZONE
TZID:America/New_York
BEGIN:DAYLIGHT
TZOFFSETFROM:-0500
TZOFFSETTO:-0400
TZNAME:EDT
DTSTART:20230312T070000
END:DAYLIGHT
BEGIN:STANDARD
TZOFFSETFROM:-0400
TZOFFSETTO:-0500
TZNAME:EST
DTSTART:20231105T060000
END:STANDARD
BEGIN:DAYLIGHT
TZOFFSETFROM:-0500
TZOFFSETTO:-0400
TZNAME:EDT
DTSTART:20240310T070000
END:DAYLIGHT
BEGIN:STANDARD
TZOFFSETFROM:-0400
TZOFFSETTO:-0500
TZNAME:EST
DTSTART:20241103T060000
END:STANDARD
BEGIN:DAYLIGHT
TZOFFSETFROM:-0500
TZOFFSETTO:-0400
TZNAME:EDT
DTSTART:20250309T070000
END:DAYLIGHT
BEGIN:STANDARD
TZOFFSETFROM:-0400
TZOFFSETTO:-0500
TZNAME:EST
DTSTART:20251102T060000
END:STANDARD
END:VTIMEZONE
BEGIN:VEVENT
DTSTART;TZID=America/New_York:20240403T203000
DTEND;TZID=America/New_York:20240403T220000
DTSTAMP:20260421T194226
CREATED:20240128T074215Z
LAST-MODIFIED:20240128T074259Z
UID:39040-1712176200-1712181600@notoriousjazz.com
SUMMARY:BRANDEE YOUNGER TRIO
DESCRIPTION:Brandee Younger is a Grammy-nominated harpist\, gaining recognition as the first Black solo artist nominated for Best Instrumental Composition for “Beautiful Is Black” at the 2022 ceremony. Working with artists such as Beyonce\, John Legend\, Lauryn Hill and others\, he demonstrates his ability to seamlessly weave the harp into arrangements and places where the instrument has been historically overlooked. Younger’s achievements are a testament to her deep love for the instrument and her perfect command of it. \nOn April 7\, 2023\, Brandee released her new album “Brand New Life” via Impulse! Records. With singles like “You’re A Girl For One Man Only” and “If It’s Magic”. In 2023\, Brandee performed on NPR Music’s Tiny Desk celebrating Black Music Month. \nLine-up:\nBrandee Younger – harp\nRashaan Carter – double & electric bass\nAllan Mednard – drums \nTickets In Dollars: $41.26
URL:https://notoriousjazz.com/event/brandee-younger-trio
LOCATION:Jassmine\, Wilcza 73\, 00-670 Warsaw\, Poland
CATEGORIES:Club
ATTACH;FMTTYPE=image/jpeg:https://notoriousjazz.com/wp-content/uploads/2024/01/BRANDEE-YOUNGER-1.jpg
END:VEVENT
END:VCALENDAR