BEGIN:VCALENDAR
VERSION:2.0
PRODID:-//Notorious Jazz - ECPv6.15.17//NONSGML v1.0//EN
CALSCALE:GREGORIAN
METHOD:PUBLISH
X-WR-CALNAME:Notorious Jazz
X-ORIGINAL-URL:https://notoriousjazz.com
X-WR-CALDESC:Events for Notorious Jazz
REFRESH-INTERVAL;VALUE=DURATION:PT1H
X-Robots-Tag:noindex
X-PUBLISHED-TTL:PT1H
BEGIN:VTIMEZONE
TZID:America/New_York
BEGIN:DAYLIGHT
TZOFFSETFROM:-0500
TZOFFSETTO:-0400
TZNAME:EDT
DTSTART:20230312T070000
END:DAYLIGHT
BEGIN:STANDARD
TZOFFSETFROM:-0400
TZOFFSETTO:-0500
TZNAME:EST
DTSTART:20231105T060000
END:STANDARD
BEGIN:DAYLIGHT
TZOFFSETFROM:-0500
TZOFFSETTO:-0400
TZNAME:EDT
DTSTART:20240310T070000
END:DAYLIGHT
BEGIN:STANDARD
TZOFFSETFROM:-0400
TZOFFSETTO:-0500
TZNAME:EST
DTSTART:20241103T060000
END:STANDARD
BEGIN:DAYLIGHT
TZOFFSETFROM:-0500
TZOFFSETTO:-0400
TZNAME:EDT
DTSTART:20250309T070000
END:DAYLIGHT
BEGIN:STANDARD
TZOFFSETFROM:-0400
TZOFFSETTO:-0500
TZNAME:EST
DTSTART:20251102T060000
END:STANDARD
END:VTIMEZONE
BEGIN:VEVENT
DTSTART;TZID=America/New_York:20240309T140000
DTEND;TZID=America/New_York:20240310T210000
DTSTAMP:20260421T230230
CREATED:20240121T021207Z
LAST-MODIFIED:20240121T021207Z
UID:38856-1709992800-1710104400@notoriousjazz.com
SUMMARY:BRANDEE YOUNGER: ALICE COLTRANE TRIBUTE
DESCRIPTION:For her final two nights of residency\, Younger honors the life and music of the late harpist and jazz legend Alice Coltrane with her working trio\, strings\, and special guests. An artist chosen by Coltrane’s son Ravi to perform at a series of concerts in her honor as well as her memorial in 2007\, Younger carries on the adventurous spirit of her greatest influence\, infusing her compositions with a 21st century vibrancy and fearless experimentation. \nSaturday Performance | 7:30pm ~ 9:00pm \nSunday Performance | 2:00pm ~ 3:30
URL:https://notoriousjazz.com/event/brandee-younger-alice-coltrane-tribute
LOCATION:SFJazz Center | Miner Auditorium\, 201 Franklin Street\, San Francisco\, CA\, 94102\, United States
CATEGORIES:Concert
ATTACH;FMTTYPE=image/jpeg:https://notoriousjazz.com/wp-content/uploads/2024/01/BRANDEE-YOUNGER.jpeg
END:VEVENT
END:VCALENDAR