BEGIN:VCALENDAR
VERSION:2.0
PRODID:-//Notorious Jazz - ECPv6.15.17//NONSGML v1.0//EN
CALSCALE:GREGORIAN
METHOD:PUBLISH
X-ORIGINAL-URL:https://notoriousjazz.com
X-WR-CALDESC:Events for Notorious Jazz
REFRESH-INTERVAL;VALUE=DURATION:PT1H
X-Robots-Tag:noindex
X-PUBLISHED-TTL:PT1H
BEGIN:VTIMEZONE
TZID:America/New_York
BEGIN:DAYLIGHT
TZOFFSETFROM:-0500
TZOFFSETTO:-0400
TZNAME:EDT
DTSTART:20230312T070000
END:DAYLIGHT
BEGIN:STANDARD
TZOFFSETFROM:-0400
TZOFFSETTO:-0500
TZNAME:EST
DTSTART:20231105T060000
END:STANDARD
BEGIN:DAYLIGHT
TZOFFSETFROM:-0500
TZOFFSETTO:-0400
TZNAME:EDT
DTSTART:20240310T070000
END:DAYLIGHT
BEGIN:STANDARD
TZOFFSETFROM:-0400
TZOFFSETTO:-0500
TZNAME:EST
DTSTART:20241103T060000
END:STANDARD
BEGIN:DAYLIGHT
TZOFFSETFROM:-0500
TZOFFSETTO:-0400
TZNAME:EDT
DTSTART:20250309T070000
END:DAYLIGHT
BEGIN:STANDARD
TZOFFSETFROM:-0400
TZOFFSETTO:-0500
TZNAME:EST
DTSTART:20251102T060000
END:STANDARD
END:VTIMEZONE
BEGIN:VEVENT
DTSTART;TZID=America/New_York:20240818T080000
DTEND;TZID=America/New_York:20240818T170000
DTSTAMP:20260420T031755
CREATED:20240818T210223Z
LAST-MODIFIED:20240818T210223Z
UID:42112-1723968000-1724000400@notoriousjazz.com
SUMMARY:TEDD BAKER QUARTET
DESCRIPTION:Teddy Plays Eddie: The Music of Eddie Harris \nThe Tedd Baker Quartet celebrates the music of the great Eddie Harris! One of Baker’s many influences\, Eddie’s sounds on the saxophone\, his compositions\, publications\, and the stories surrounding him\, are “near and dear… His music is as current now as when first released.” Eddie played the original Keystone Korner many times\, and “All The Way Live” was recorded there with organ great Jimmy Smith. Baker has gotten to know the Harris family over the years and asked permission to present this program. Join the fun for an evening of exciting music with very special guests! \nThe Band: \nTedd Baker ~ saxophone\nHarry Appelman ~ piano & organ\nHamilton Price ~ bass\nQuincy Phillips ~ drums
URL:https://notoriousjazz.com/event/tedd-baker-quartet
LOCATION:Keystone Korner Baltimore\, 1350 Lancaster Street\, Baltimore\, MD\, 21231\, United States
CATEGORIES:Club
ATTACH;FMTTYPE=image/png:https://notoriousjazz.com/wp-content/uploads/2024/08/TEDD-BAKER.png
END:VEVENT
BEGIN:VEVENT
DTSTART;TZID=America/New_York:20240818T183000
DTEND;TZID=America/New_York:20240818T203000
DTSTAMP:20260420T031755
CREATED:20240819T024045Z
LAST-MODIFIED:20240819T024724Z
UID:42124-1724005800-1724013000@notoriousjazz.com
SUMMARY:MARK MORGANELLI & THE JAZZ FORUM ALL~STARS
DESCRIPTION:Flugelhornist Mark Morganelli collaborated with several renowned Brazilian musicians to record 28 tunes by 10 different Brazilian composers\, resulting in 2018’s double-CD\, Brasil! They will evoke the Brazilian spirit along the Hudson Riverfront. \nThe Band: Midi-Accordion\, Vocalist ~ Eddie Monteiro | Drums\,Vocal ~ Nanny Assis | Guitar ~ Roni Ben-Hur | Plus Special Guests. \nConcert at Sleepy Hollow
URL:https://notoriousjazz.com/event/mark-morganelli
LOCATION:Jazz Forum Arts\, 1 Dixon Lane\, Tarrytown\, NY\, 10591\, United States
CATEGORIES:Concert
ATTACH;FMTTYPE=image/jpeg:https://notoriousjazz.com/wp-content/uploads/2024/08/MARK-MORGANELLI.jpg
END:VEVENT
END:VCALENDAR