BEGIN:VCALENDAR
VERSION:2.0
PRODID:-//Notorious Jazz - ECPv6.15.17//NONSGML v1.0//EN
CALSCALE:GREGORIAN
METHOD:PUBLISH
X-WR-CALNAME:Notorious Jazz
X-ORIGINAL-URL:https://notoriousjazz.com
X-WR-CALDESC:Events for Notorious Jazz
REFRESH-INTERVAL;VALUE=DURATION:PT1H
X-Robots-Tag:noindex
X-PUBLISHED-TTL:PT1H
BEGIN:VTIMEZONE
TZID:America/New_York
BEGIN:DAYLIGHT
TZOFFSETFROM:-0500
TZOFFSETTO:-0400
TZNAME:EDT
DTSTART:20230312T070000
END:DAYLIGHT
BEGIN:STANDARD
TZOFFSETFROM:-0400
TZOFFSETTO:-0500
TZNAME:EST
DTSTART:20231105T060000
END:STANDARD
BEGIN:DAYLIGHT
TZOFFSETFROM:-0500
TZOFFSETTO:-0400
TZNAME:EDT
DTSTART:20240310T070000
END:DAYLIGHT
BEGIN:STANDARD
TZOFFSETFROM:-0400
TZOFFSETTO:-0500
TZNAME:EST
DTSTART:20241103T060000
END:STANDARD
BEGIN:DAYLIGHT
TZOFFSETFROM:-0500
TZOFFSETTO:-0400
TZNAME:EDT
DTSTART:20250309T070000
END:DAYLIGHT
BEGIN:STANDARD
TZOFFSETFROM:-0400
TZOFFSETTO:-0500
TZNAME:EST
DTSTART:20251102T060000
END:STANDARD
END:VTIMEZONE
BEGIN:VEVENT
DTSTART;TZID=America/New_York:20240822T183000
DTEND;TZID=America/New_York:20240822T210000
DTSTAMP:20260420T031708
CREATED:20240819T030937Z
LAST-MODIFIED:20240819T030937Z
UID:42131-1724351400-1724360400@notoriousjazz.com
SUMMARY:NANCY KELLY QUARTET
DESCRIPTION:Two-time winner of Downbeat’s “Best Female Jazz Vocalist” Readers’ Poll\, Nancy Kelly has recorded seven critically-acclaimed albums that also topped the radio chart. Her trademark swing/bop\, take-no-prisoners\, soulful\, swinging style takes us back to when jazz – including vocal jazz – was an authentic expression of genuine emotion. \nPlease note\, a Lyndhurst Jazz Access Pass is required which will be available for purchase online on Lyndhurst’s website or you can pay as you enter ($10 per person). \nConcert Location: Lyndhurst
URL:https://notoriousjazz.com/event/nancy-kelly-quartet
LOCATION:Jazz Forum Arts\, 1 Dixon Lane\, Tarrytown\, NY\, 10591\, United States
CATEGORIES:Concert
ATTACH;FMTTYPE=image/jpeg:https://notoriousjazz.com/wp-content/uploads/2024/08/NANCY-KELLY.jpg
END:VEVENT
BEGIN:VEVENT
DTSTART;TZID=America/New_York:20240822T190000
DTEND;TZID=America/New_York:20240822T213000
DTSTAMP:20260420T031708
CREATED:20240818T194720Z
LAST-MODIFIED:20240818T194720Z
UID:42106-1724353200-1724362200@notoriousjazz.com
SUMMARY:AL STRONG
DESCRIPTION:Summer Jazz Jam curated by trumpeter Al Strong in the cocktail bar and lounge.
URL:https://notoriousjazz.com/event/al-strong
LOCATION:Missy Lane’s Assembly Room\, 310 E. Main Street\, Durham\, NC\, 27701\, United States
CATEGORIES:Club
ATTACH;FMTTYPE=image/png:https://notoriousjazz.com/wp-content/uploads/2024/08/AL-STRONG.png
END:VEVENT
END:VCALENDAR