BEGIN:VCALENDAR
VERSION:2.0
PRODID:-//Notorious Jazz - ECPv6.15.17//NONSGML v1.0//EN
CALSCALE:GREGORIAN
METHOD:PUBLISH
X-WR-CALNAME:Notorious Jazz
X-ORIGINAL-URL:https://notoriousjazz.com
X-WR-CALDESC:Events for Notorious Jazz
REFRESH-INTERVAL;VALUE=DURATION:PT1H
X-Robots-Tag:noindex
X-PUBLISHED-TTL:PT1H
BEGIN:VTIMEZONE
TZID:America/New_York
BEGIN:DAYLIGHT
TZOFFSETFROM:-0500
TZOFFSETTO:-0400
TZNAME:EDT
DTSTART:20230312T070000
END:DAYLIGHT
BEGIN:STANDARD
TZOFFSETFROM:-0400
TZOFFSETTO:-0500
TZNAME:EST
DTSTART:20231105T060000
END:STANDARD
BEGIN:DAYLIGHT
TZOFFSETFROM:-0500
TZOFFSETTO:-0400
TZNAME:EDT
DTSTART:20240310T070000
END:DAYLIGHT
BEGIN:STANDARD
TZOFFSETFROM:-0400
TZOFFSETTO:-0500
TZNAME:EST
DTSTART:20241103T060000
END:STANDARD
BEGIN:DAYLIGHT
TZOFFSETFROM:-0500
TZOFFSETTO:-0400
TZNAME:EDT
DTSTART:20250309T070000
END:DAYLIGHT
BEGIN:STANDARD
TZOFFSETFROM:-0400
TZOFFSETTO:-0500
TZNAME:EST
DTSTART:20251102T060000
END:STANDARD
END:VTIMEZONE
BEGIN:VEVENT
DTSTART;TZID=America/New_York:20240825T080000
DTEND;TZID=America/New_York:20240825T170000
DTSTAMP:20260420T031624
CREATED:20240825T202522Z
LAST-MODIFIED:20240825T202522Z
UID:42230-1724572800-1724605200@notoriousjazz.com
SUMMARY:LORI WILLIAMS
DESCRIPTION:Acclaimed international jazz vocalist Lori Williams has a most impressive resume as a performing artist\, veteran music educator and choral director\, songwriter\, producer\, musical theater actress\, jazz radio host on JazzRadioWETF.org\, a business owner at PositiveMusicPM.org\, and artist-in-residence with over 30 years of experience. \nIt is her work as a vocalist and clinician that most satisfies her and has brought the widest amount of recognition. With each performance in a new country comes fresh admirers. Her annual vocal jazz tour and performances at music festivals have taken her all over the world. Her vocal jazz artist residencies have allowed her to work with and mentor students on college campuses in the United States and abroad. \nFor over three decades\, Lori Williams has worked with many notable artists including Oleta Adams\, The Blackbyrds\, Tom Browne\, Jonathan Butler\, Terri Lyne Carrington\, Will Downing\, Nathan East\, James Genus\, Marcus Johnson\, Stanley Jordan\, Maysa\, Najee\, Phil Perry\, and more. \nThe Band: \nLori Williams ~ vocals\nTracey Cutler ~ saxophone\nBenjie Porecki ~ piano\nMichael Bowie ~ bass\nMark Prince ~ drums
URL:https://notoriousjazz.com/event/lori-williams-2
LOCATION:FL
CATEGORIES:Club
ATTACH;FMTTYPE=image/jpeg:https://notoriousjazz.com/wp-content/uploads/2024/08/LORI-WILLIAMS.jpg
END:VEVENT
END:VCALENDAR