BEGIN:VCALENDAR
VERSION:2.0
PRODID:-//Notorious Jazz - ECPv6.15.17//NONSGML v1.0//EN
CALSCALE:GREGORIAN
METHOD:PUBLISH
X-ORIGINAL-URL:https://notoriousjazz.com
X-WR-CALDESC:Events for Notorious Jazz
REFRESH-INTERVAL;VALUE=DURATION:PT1H
X-Robots-Tag:noindex
X-PUBLISHED-TTL:PT1H
BEGIN:VTIMEZONE
TZID:America/New_York
BEGIN:DAYLIGHT
TZOFFSETFROM:-0500
TZOFFSETTO:-0400
TZNAME:EDT
DTSTART:20230312T070000
END:DAYLIGHT
BEGIN:STANDARD
TZOFFSETFROM:-0400
TZOFFSETTO:-0500
TZNAME:EST
DTSTART:20231105T060000
END:STANDARD
BEGIN:DAYLIGHT
TZOFFSETFROM:-0500
TZOFFSETTO:-0400
TZNAME:EDT
DTSTART:20240310T070000
END:DAYLIGHT
BEGIN:STANDARD
TZOFFSETFROM:-0400
TZOFFSETTO:-0500
TZNAME:EST
DTSTART:20241103T060000
END:STANDARD
BEGIN:DAYLIGHT
TZOFFSETFROM:-0500
TZOFFSETTO:-0400
TZNAME:EDT
DTSTART:20250309T070000
END:DAYLIGHT
BEGIN:STANDARD
TZOFFSETFROM:-0400
TZOFFSETTO:-0500
TZNAME:EST
DTSTART:20251102T060000
END:STANDARD
END:VTIMEZONE
BEGIN:VEVENT
DTSTART;TZID=America/New_York:20240827T190000
DTEND;TZID=America/New_York:20240827T223000
DTSTAMP:20260420T031756
CREATED:20240819T034312Z
LAST-MODIFIED:20240819T034312Z
UID:42137-1724785200-1724797800@notoriousjazz.com
SUMMARY:MERLON DEVINE
DESCRIPTION:Love and inspiration can come from many places\, but Merlon Devine’s love and inspiration to play music came from right inside his childhood home. Growing up in Little Rock\, Arkansas with a singing mother and a guitar playing father\, Merlon and his nine siblings lived in a home filled with gospel music. Although Merlon did not have the gift to sing as many of his siblings did\, he eventually found his voice on the saxophone. \nMerlon’s signature sound and gospel tinged expression on the horn has set him apart and propelled him onto various stages to share his musical gift with the world. His music charges the atmosphere\, leaving his listeners refreshed and well.
URL:https://notoriousjazz.com/event/merlon-devine
LOCATION:Blues Alley\, 1073 Wisconsin Avenue NW\, Washington\, DC\, 20007\, United States
CATEGORIES:Club
ATTACH;FMTTYPE=image/jpeg:https://notoriousjazz.com/wp-content/uploads/2024/08/MERLON-DEVINE.jpg
END:VEVENT
BEGIN:VEVENT
DTSTART;TZID=America/New_York:20240827T200000
DTEND;TZID=America/New_York:20240901T233000
DTSTAMP:20260420T031756
CREATED:20240819T043503Z
LAST-MODIFIED:20240819T043503Z
UID:42140-1724788800-1725233400@notoriousjazz.com
SUMMARY:JOE LOVANO & DAVE DOUGLAS QUINTET
DESCRIPTION:Both in sound and improvisational approaches\, the two offer fascinating contrasting and complementary sensibilities. Lovano’s cobalt-blue tone on tenor saxophone paired with Douglas’ crimson-tinged trumpet flares create startling timbres when they play in unison or intertwine improvisational lines. — DownBeat \nThe Band: Joe Lovano – Saxophone | Dave Douglas – Trumpet | Lawrence Fields – Piano | Yasushi Nakamura – Bass | Rudy Royston – Drums \nSeating is assigned on a first-come first-served basis.
URL:https://notoriousjazz.com/event/joe-lovano-dave-douglas-quintet
LOCATION:Village Vanguard\, 178 7th Avenue S\, New York City\, NY\, 10014\, United States
CATEGORIES:Club
ATTACH;FMTTYPE=image/jpeg:https://notoriousjazz.com/wp-content/uploads/2024/08/JOE-LOVANO-DAVE-DOUGLAS.jpg
END:VEVENT
END:VCALENDAR