BEGIN:VCALENDAR
VERSION:2.0
PRODID:-//Notorious Jazz - ECPv6.15.17//NONSGML v1.0//EN
CALSCALE:GREGORIAN
METHOD:PUBLISH
X-WR-CALNAME:Notorious Jazz
X-ORIGINAL-URL:https://notoriousjazz.com
X-WR-CALDESC:Events for Notorious Jazz
REFRESH-INTERVAL;VALUE=DURATION:PT1H
X-Robots-Tag:noindex
X-PUBLISHED-TTL:PT1H
BEGIN:VTIMEZONE
TZID:America/New_York
BEGIN:DAYLIGHT
TZOFFSETFROM:-0500
TZOFFSETTO:-0400
TZNAME:EDT
DTSTART:20230312T070000
END:DAYLIGHT
BEGIN:STANDARD
TZOFFSETFROM:-0400
TZOFFSETTO:-0500
TZNAME:EST
DTSTART:20231105T060000
END:STANDARD
BEGIN:DAYLIGHT
TZOFFSETFROM:-0500
TZOFFSETTO:-0400
TZNAME:EDT
DTSTART:20240310T070000
END:DAYLIGHT
BEGIN:STANDARD
TZOFFSETFROM:-0400
TZOFFSETTO:-0500
TZNAME:EST
DTSTART:20241103T060000
END:STANDARD
BEGIN:DAYLIGHT
TZOFFSETFROM:-0500
TZOFFSETTO:-0400
TZNAME:EDT
DTSTART:20250309T070000
END:DAYLIGHT
BEGIN:STANDARD
TZOFFSETFROM:-0400
TZOFFSETTO:-0500
TZNAME:EST
DTSTART:20251102T060000
END:STANDARD
END:VTIMEZONE
BEGIN:VEVENT
DTSTART;TZID=America/New_York:20240904T193000
DTEND;TZID=America/New_York:20240904T230000
DTSTAMP:20260420T013547
CREATED:20240825T230719Z
LAST-MODIFIED:20240825T230719Z
UID:42251-1725478200-1725490800@notoriousjazz.com
SUMMARY:KASAN BELGRAVE
DESCRIPTION:Multi-woodwind-instrumentalist and Detroit native Kasan Belgrave is well-rounded within the Detroit music community. His musical heritage of passing down the knowledge and exposure of Detroit music to the youth; like his father\, late trumpeter Marcus Belgrave. Kasan has worked with many greats in his young career such as the Queen of Soul Aretha Franklin\, Wynton Marsalis & Jazz @ Lincoln Center\, Dee Bridgewater\, Karriem Riggins\, Theo Crocker\, Etienne Charles\, and many others. In his scholar years at University of Michigan he studied under Robert Hurst\, pianist Benny Green\, and Andrew Bishop\, then continued his studies at MSU under the direction of Diego Rivera and Rodney Whitaker. \nDeeply rooted in the tradition of Black American Music\, Kasan is also congruently involved in parallel domains of the strong techno scene in Detroit; he appeared on the track “On My Own” with Jon Dixon & Moodyman; he has also performed with Scott Grooves\, Carl Craig\, Shigeto\, and Kyle Hall.
URL:https://notoriousjazz.com/event/kasan-belgrave
LOCATION:Cliff Bell’s\, 2030 Park Avenue\, Detroit\, MI\, 48226\, United States
CATEGORIES:Club
ATTACH;FMTTYPE=image/jpeg:https://notoriousjazz.com/wp-content/uploads/2024/08/KASAN-BELGRAVE.jpg
END:VEVENT
END:VCALENDAR