BEGIN:VCALENDAR
VERSION:2.0
PRODID:-//Notorious Jazz - ECPv6.15.17//NONSGML v1.0//EN
CALSCALE:GREGORIAN
METHOD:PUBLISH
X-ORIGINAL-URL:https://notoriousjazz.com
X-WR-CALDESC:Events for Notorious Jazz
REFRESH-INTERVAL;VALUE=DURATION:PT1H
X-Robots-Tag:noindex
X-PUBLISHED-TTL:PT1H
BEGIN:VTIMEZONE
TZID:America/Los_Angeles
BEGIN:DAYLIGHT
TZOFFSETFROM:-0800
TZOFFSETTO:-0700
TZNAME:PDT
DTSTART:20230312T100000
END:DAYLIGHT
BEGIN:STANDARD
TZOFFSETFROM:-0700
TZOFFSETTO:-0800
TZNAME:PST
DTSTART:20231105T090000
END:STANDARD
BEGIN:DAYLIGHT
TZOFFSETFROM:-0800
TZOFFSETTO:-0700
TZNAME:PDT
DTSTART:20240310T100000
END:DAYLIGHT
BEGIN:STANDARD
TZOFFSETFROM:-0700
TZOFFSETTO:-0800
TZNAME:PST
DTSTART:20241103T090000
END:STANDARD
BEGIN:DAYLIGHT
TZOFFSETFROM:-0800
TZOFFSETTO:-0700
TZNAME:PDT
DTSTART:20250309T100000
END:DAYLIGHT
BEGIN:STANDARD
TZOFFSETFROM:-0700
TZOFFSETTO:-0800
TZNAME:PST
DTSTART:20251102T090000
END:STANDARD
END:VTIMEZONE
BEGIN:VEVENT
DTSTART;TZID=America/Los_Angeles:20240911T180000
DTEND;TZID=America/Los_Angeles:20240911T213000
DTSTAMP:20260420T013632
CREATED:20240908T034007Z
LAST-MODIFIED:20240908T171000Z
UID:42417-1726077600-1726090200@notoriousjazz.com
SUMMARY:CHRISTOPHER BROWN QUARTET
DESCRIPTION:Christopher Brown is an acclaimed musician\, composer\, bandleader\, and educator who seeks to be a voice within the advocacy of Jazz music and American culture. And through the expansive range of groups that he has assembled and/or performed with—which span from duos to Jazz big bands to military marching bands and orchestras—his musical and personal experiences have led him towards an interest in synthesizing the principles of jazz with the day-to-day practicalities of life. \nHowever\, given that businesses shape the global market economy that everyone lives and participates in\, is why he has found it useful to integrate business philosophies with that of music to help develop himself and his band. Which as he likes to say\, “we’re all in the same business…the people-trusting-people business. No people\, no business.” \nThe Band: Greg Goebel – piano\, John Nastos – sax\, Chris Brown – drums\, Garrett Baxter – bass.
URL:https://notoriousjazz.com/event/christopher-brown-quartet-2
LOCATION:The 1905\, 830 N Shaver Sreet\, Portland\, OR\, 97227\, United States
CATEGORIES:Club
ATTACH;FMTTYPE=image/jpeg:https://notoriousjazz.com/wp-content/uploads/2024/09/CHRISTOPHER-BROWN.jpeg
END:VEVENT
END:VCALENDAR