BEGIN:VCALENDAR
VERSION:2.0
PRODID:-//Notorious Jazz - ECPv6.15.17//NONSGML v1.0//EN
CALSCALE:GREGORIAN
METHOD:PUBLISH
X-WR-CALNAME:Notorious Jazz
X-ORIGINAL-URL:https://notoriousjazz.com
X-WR-CALDESC:Events for Notorious Jazz
REFRESH-INTERVAL;VALUE=DURATION:PT1H
X-Robots-Tag:noindex
X-PUBLISHED-TTL:PT1H
BEGIN:VTIMEZONE
TZID:America/Los_Angeles
BEGIN:DAYLIGHT
TZOFFSETFROM:-0800
TZOFFSETTO:-0700
TZNAME:PDT
DTSTART:20230312T100000
END:DAYLIGHT
BEGIN:STANDARD
TZOFFSETFROM:-0700
TZOFFSETTO:-0800
TZNAME:PST
DTSTART:20231105T090000
END:STANDARD
BEGIN:DAYLIGHT
TZOFFSETFROM:-0800
TZOFFSETTO:-0700
TZNAME:PDT
DTSTART:20240310T100000
END:DAYLIGHT
BEGIN:STANDARD
TZOFFSETFROM:-0700
TZOFFSETTO:-0800
TZNAME:PST
DTSTART:20241103T090000
END:STANDARD
BEGIN:DAYLIGHT
TZOFFSETFROM:-0800
TZOFFSETTO:-0700
TZNAME:PDT
DTSTART:20250309T100000
END:DAYLIGHT
BEGIN:STANDARD
TZOFFSETFROM:-0700
TZOFFSETTO:-0800
TZNAME:PST
DTSTART:20251102T090000
END:STANDARD
END:VTIMEZONE
BEGIN:VTIMEZONE
TZID:America/Chicago
BEGIN:DAYLIGHT
TZOFFSETFROM:-0600
TZOFFSETTO:-0500
TZNAME:CDT
DTSTART:20230312T080000
END:DAYLIGHT
BEGIN:STANDARD
TZOFFSETFROM:-0500
TZOFFSETTO:-0600
TZNAME:CST
DTSTART:20231105T070000
END:STANDARD
BEGIN:DAYLIGHT
TZOFFSETFROM:-0600
TZOFFSETTO:-0500
TZNAME:CDT
DTSTART:20240310T080000
END:DAYLIGHT
BEGIN:STANDARD
TZOFFSETFROM:-0500
TZOFFSETTO:-0600
TZNAME:CST
DTSTART:20241103T070000
END:STANDARD
BEGIN:DAYLIGHT
TZOFFSETFROM:-0600
TZOFFSETTO:-0500
TZNAME:CDT
DTSTART:20250309T080000
END:DAYLIGHT
BEGIN:STANDARD
TZOFFSETFROM:-0500
TZOFFSETTO:-0600
TZNAME:CST
DTSTART:20251102T070000
END:STANDARD
END:VTIMEZONE
BEGIN:VEVENT
DTSTART;TZID=America/Los_Angeles:20240912T200000
DTEND;TZID=America/Los_Angeles:20240912T220000
DTSTAMP:20260420T013545
CREATED:20240908T042016Z
LAST-MODIFIED:20240908T170859Z
UID:42423-1726171200-1726178400@notoriousjazz.com
SUMMARY:MEL BROWN'S B3 ORGAN GROUP
DESCRIPTION:In fact\, this true all-star band (all four members are Oregon Music Hall Of Fame inductees) has been a sensation going back to 1997\, when they began a 20-year run on Thursday evenings at Portland’s legendary “Jimmy Mak’s” (The Oregonian dubbed them “Jimmy Mak’s signature group”).  They’ve continued their Thursday night tradition at the Jack London Revue for the past 6 years. With a collective resume that reads like a “Who’s Who” of NW jazz\, blues\, and soul\, this group has the talent and confidence to be completely spontaneous–from their blistering solos to their improvised arrangements and segues.  No wonder they’ve thrilled audiences wherever they’ve played.
URL:https://notoriousjazz.com/event/mel-browns-b3-organ-group
LOCATION:The Jack London Revue\, 529 SW 4th\, Portland\, OR\, 97204\, United States
CATEGORIES:Club
ATTACH;FMTTYPE=image/png:https://notoriousjazz.com/wp-content/uploads/2024/09/MEL-BROWN.png
END:VEVENT
BEGIN:VEVENT
DTSTART;TZID=America/Chicago:20240912T210000
DTEND;TZID=America/Chicago:20240912T223000
DTSTAMP:20260420T013545
CREATED:20240908T031534Z
LAST-MODIFIED:20240908T042750Z
UID:42412-1726174800-1726180200@notoriousjazz.com
SUMMARY:CLIFF RICHMOND & THE CLIFFNOTES
DESCRIPTION:Cliff Richmond & the CliffNotes serve up a unique blend of soulful\, swinging & funky jazz\, They incorporate a wide range of styles from mainstream jazz\, to rhythm & blues\, Latin to reggae. Founded by the guitarist & vocalist\, the CliffNotes always features some of Nashville’s most accomplished and versatile musicians and vocalists.
URL:https://notoriousjazz.com/event/cliff-richmond-the-cliffnotes
LOCATION:Rudy’s Jazz Room\, 809 Gleaves Street\, Nashville\, TN\, 37203\, United States
CATEGORIES:Club
END:VEVENT
END:VCALENDAR