BEGIN:VCALENDAR
VERSION:2.0
PRODID:-//Notorious Jazz - ECPv6.15.17//NONSGML v1.0//EN
CALSCALE:GREGORIAN
METHOD:PUBLISH
X-ORIGINAL-URL:https://notoriousjazz.com
X-WR-CALDESC:Events for Notorious Jazz
REFRESH-INTERVAL;VALUE=DURATION:PT1H
X-Robots-Tag:noindex
X-PUBLISHED-TTL:PT1H
BEGIN:VTIMEZONE
TZID:America/New_York
BEGIN:DAYLIGHT
TZOFFSETFROM:-0500
TZOFFSETTO:-0400
TZNAME:EDT
DTSTART:20230312T070000
END:DAYLIGHT
BEGIN:STANDARD
TZOFFSETFROM:-0400
TZOFFSETTO:-0500
TZNAME:EST
DTSTART:20231105T060000
END:STANDARD
BEGIN:DAYLIGHT
TZOFFSETFROM:-0500
TZOFFSETTO:-0400
TZNAME:EDT
DTSTART:20240310T070000
END:DAYLIGHT
BEGIN:STANDARD
TZOFFSETFROM:-0400
TZOFFSETTO:-0500
TZNAME:EST
DTSTART:20241103T060000
END:STANDARD
BEGIN:DAYLIGHT
TZOFFSETFROM:-0500
TZOFFSETTO:-0400
TZNAME:EDT
DTSTART:20250309T070000
END:DAYLIGHT
BEGIN:STANDARD
TZOFFSETFROM:-0400
TZOFFSETTO:-0500
TZNAME:EST
DTSTART:20251102T060000
END:STANDARD
END:VTIMEZONE
BEGIN:VEVENT
DTSTART;TZID=America/New_York:20240919T193000
DTEND;TZID=America/New_York:20240921T210000
DTSTAMP:20260420T013633
CREATED:20240908T023954Z
LAST-MODIFIED:20240908T170736Z
UID:42409-1726774200-1726952400@notoriousjazz.com
SUMMARY:JAZZ AT LINCOLN CENTER | WYNTON MARSALIS
DESCRIPTION:The Ertegun Jazz Concert honoring Mica Ertegun \nThe Jazz at Lincoln Center Orchestra with Wynton Marsalis welcomes audiences back to the House of Swing for the 2024-25 season with electrifying new arrangements of classic 1920s and 30s tunes. Music directed by Wynton Marsalis and saxophonist\, composer\, and Grammy Award-winning scholar Loren Schoenberg and featuring special guests Kurt Elling and Shenel Johns\, Hot Jazz & Swing encourages Rose Theater audiences to get up on their feet. \nExperience dance hall favorites from composers like Fletcher Henderson\, and Duke Ellington\, whose works exploded in fame and infamy during the early days of jazz.
URL:https://notoriousjazz.com/event/jazz-at-lincoln-center-wynton-marsalis
LOCATION:Rose Theater | Jazz At Lincoln Center\, 10 Columbus Circle\, New York City\, NY\, 10019\, United States
CATEGORIES:Concert
ATTACH;FMTTYPE=image/jpeg:https://notoriousjazz.com/wp-content/uploads/2024/09/WYNTON-MARSALIS-1.jpg
END:VEVENT
END:VCALENDAR