BEGIN:VCALENDAR
VERSION:2.0
PRODID:-//Notorious Jazz - ECPv6.15.17//NONSGML v1.0//EN
CALSCALE:GREGORIAN
METHOD:PUBLISH
X-WR-CALNAME:Notorious Jazz
X-ORIGINAL-URL:https://notoriousjazz.com
X-WR-CALDESC:Events for Notorious Jazz
REFRESH-INTERVAL;VALUE=DURATION:PT1H
X-Robots-Tag:noindex
X-PUBLISHED-TTL:PT1H
BEGIN:VTIMEZONE
TZID:America/Denver
BEGIN:DAYLIGHT
TZOFFSETFROM:-0700
TZOFFSETTO:-0600
TZNAME:MDT
DTSTART:20230312T090000
END:DAYLIGHT
BEGIN:STANDARD
TZOFFSETFROM:-0600
TZOFFSETTO:-0700
TZNAME:MST
DTSTART:20231105T080000
END:STANDARD
BEGIN:DAYLIGHT
TZOFFSETFROM:-0700
TZOFFSETTO:-0600
TZNAME:MDT
DTSTART:20240310T090000
END:DAYLIGHT
BEGIN:STANDARD
TZOFFSETFROM:-0600
TZOFFSETTO:-0700
TZNAME:MST
DTSTART:20241103T080000
END:STANDARD
BEGIN:DAYLIGHT
TZOFFSETFROM:-0700
TZOFFSETTO:-0600
TZNAME:MDT
DTSTART:20250309T090000
END:DAYLIGHT
BEGIN:STANDARD
TZOFFSETFROM:-0600
TZOFFSETTO:-0700
TZNAME:MST
DTSTART:20251102T080000
END:STANDARD
END:VTIMEZONE
BEGIN:VTIMEZONE
TZID:America/Los_Angeles
BEGIN:DAYLIGHT
TZOFFSETFROM:-0800
TZOFFSETTO:-0700
TZNAME:PDT
DTSTART:20230312T100000
END:DAYLIGHT
BEGIN:STANDARD
TZOFFSETFROM:-0700
TZOFFSETTO:-0800
TZNAME:PST
DTSTART:20231105T090000
END:STANDARD
BEGIN:DAYLIGHT
TZOFFSETFROM:-0800
TZOFFSETTO:-0700
TZNAME:PDT
DTSTART:20240310T100000
END:DAYLIGHT
BEGIN:STANDARD
TZOFFSETFROM:-0700
TZOFFSETTO:-0800
TZNAME:PST
DTSTART:20241103T090000
END:STANDARD
BEGIN:DAYLIGHT
TZOFFSETFROM:-0800
TZOFFSETTO:-0700
TZNAME:PDT
DTSTART:20250309T100000
END:DAYLIGHT
BEGIN:STANDARD
TZOFFSETFROM:-0700
TZOFFSETTO:-0800
TZNAME:PST
DTSTART:20251102T090000
END:STANDARD
END:VTIMEZONE
BEGIN:VEVENT
DTSTART;TZID=America/Denver:20240926T190000
DTEND;TZID=America/Denver:20240926T230000
DTSTAMP:20260420T013544
CREATED:20240915T212425Z
LAST-MODIFIED:20240915T212425Z
UID:42530-1727377200-1727391600@notoriousjazz.com
SUMMARY:BRANDEE YOUNGER
DESCRIPTION:The sonically innovative harpist\, Brandee Younger\, is revolutionizing harp for the digital era. Over the past fifteen years\, she has worked relentlessly to stretch boundaries and limitations for harpists. In 2022\, she made history by becoming the first black woman to be nominated for a Grammy Award for Best Instrumental Composition. That same year\, she was also nominated for an NAACP Image Award. Ever-expanding as an artist\, she has worked with cultural icons including Common\, Lauryn Hill\, John Legend\, and Moses Sumney. Her current album\, Brand New Life\, builds on her already rich oeuvre\, and cements the harp’s place in pop culture. As the title of the album suggests\, Brand New Life is about forging new paths–artistic\, personal\, political\, and spiritual. On this album\, Younger salutes her musical foremother\, the trailblazing harpist Dorothy Ashby\, while also speaking to the sentiments of more recent generations. “We’re bringing new life to Dorothy Ashby’s popular and previously unreleased compositions. We’re creating new life…for the instrument\,” Younger said. Brand New Life is an album about living fully\, in neon bright color.
URL:https://notoriousjazz.com/event/brandee-younger-2
LOCATION:Dazzle\, 1080 14th Street\, Denver\, CO\, 80202\, United States
CATEGORIES:Club
ATTACH;FMTTYPE=image/jpeg:https://notoriousjazz.com/wp-content/uploads/2024/09/BRANDEE-YOUNGER.jpg
END:VEVENT
BEGIN:VEVENT
DTSTART;TZID=America/Los_Angeles:20240926T190000
DTEND;TZID=America/Los_Angeles:20240927T220000
DTSTAMP:20260420T013544
CREATED:20240915T192816Z
LAST-MODIFIED:20240915T192845Z
UID:42518-1727377200-1727474400@notoriousjazz.com
SUMMARY:MARQUIS HILL
DESCRIPTION:With Makaya McCraven\, Joel Ross & others \n\nWinner of the 2014 Thelonious Monk International Trumpet Competition\, Chicago-born trumpeter Marquis Hill has\, in a comparatively short time\, established his well-deserved reputation as a leading figure among today’s crop of most adventurous jazz musicians. He returns with compositions from his new album and band project\, Composers Collective\, featuring an all-star ensemble that includes keyboardist Mike King\, bassist Junius Paul\, vibraphonist Joel Ross\, and drummer Makaya McCraven. \n\n\nA singular artist with a warm\, soul-drenched sound and an advanced command of composition\, Hill accepted the prestigious Monk honor as an acknowledgment of a major career already in progress rather than the first spark from a neophyte\, with four albums as a leader already under his belt\, and a distinctive ensemble approach firmly established.
URL:https://notoriousjazz.com/event/marquis-hill-2
LOCATION:SFJazz Center | Joe Henderson Lab\, 201 Franklin Street\, San Francisco\, CA\, 94102\, United States
CATEGORIES:Concert
ATTACH;FMTTYPE=image/jpeg:https://notoriousjazz.com/wp-content/uploads/2024/09/MARQUIS-HILL.jpg
END:VEVENT
END:VCALENDAR