BEGIN:VCALENDAR
VERSION:2.0
PRODID:-//Notorious Jazz - ECPv6.15.17//NONSGML v1.0//EN
CALSCALE:GREGORIAN
METHOD:PUBLISH
X-ORIGINAL-URL:https://notoriousjazz.com
X-WR-CALDESC:Events for Notorious Jazz
REFRESH-INTERVAL;VALUE=DURATION:PT1H
X-Robots-Tag:noindex
X-PUBLISHED-TTL:PT1H
BEGIN:VTIMEZONE
TZID:America/New_York
BEGIN:DAYLIGHT
TZOFFSETFROM:-0500
TZOFFSETTO:-0400
TZNAME:EDT
DTSTART:20230312T070000
END:DAYLIGHT
BEGIN:STANDARD
TZOFFSETFROM:-0400
TZOFFSETTO:-0500
TZNAME:EST
DTSTART:20231105T060000
END:STANDARD
BEGIN:DAYLIGHT
TZOFFSETFROM:-0500
TZOFFSETTO:-0400
TZNAME:EDT
DTSTART:20240310T070000
END:DAYLIGHT
BEGIN:STANDARD
TZOFFSETFROM:-0400
TZOFFSETTO:-0500
TZNAME:EST
DTSTART:20241103T060000
END:STANDARD
BEGIN:DAYLIGHT
TZOFFSETFROM:-0500
TZOFFSETTO:-0400
TZNAME:EDT
DTSTART:20250309T070000
END:DAYLIGHT
BEGIN:STANDARD
TZOFFSETFROM:-0400
TZOFFSETTO:-0500
TZNAME:EST
DTSTART:20251102T060000
END:STANDARD
END:VTIMEZONE
BEGIN:VEVENT
DTSTART;TZID=America/New_York:20241001T190000
DTEND;TZID=America/New_York:20241001T203000
DTSTAMP:20260419T235426
CREATED:20240929T195256Z
LAST-MODIFIED:20240929T195256Z
UID:42724-1727809200-1727814600@notoriousjazz.com
SUMMARY:JOE ALTERMAN
DESCRIPTION:Atlanta native Joe Alterman expresses a certain upbeat naivete\, with a broad smile and bright eyes that make you feel welcome. One would not guess that this is a man hailed by greats; Ramsey Lewis describes his piano playing as ‘a joy to behold’\, Les McCann states ‘As a man and musician he is already a giant’. Journalist Nat Hentoff championed three of Alterman’s albums\, as well as his writing (Joe wrote liner notes to three Wynton Marsalis/JALC albums\, calling one of Joe’s columns “one of the very best pieces on the essence of jazz\, the spirit of jazz\, that I’ve ever read\, and I’m not exaggerating.” \nJoe Alterman began at NYU with a BA and Masters in Jazz Piano\, followed by performances with Houston Person\, Les McCann\, Dick Gregory\, and Ramsey Lewis. Downbeat describes his sound as ‘ rooted in the blues\, and with a touch reminiscent of the great pianists of the 1950s—Red Garland\, Ahmad Jamal\, Bill Evans. It is clear Joe hits all of the necessary points for Jazz critics and fans alike. \nCover: $20.00 | General Admission\, Table Seating
URL:https://notoriousjazz.com/event/joe-alterman-3
LOCATION:Eddie’s Attic\, 515-B North McDonough Street\, Decatur\, GA\, 30030\, United States
CATEGORIES:Club
ATTACH;FMTTYPE=image/jpeg:https://notoriousjazz.com/wp-content/uploads/2024/09/JOE-ALTERMAN.jpg
END:VEVENT
BEGIN:VEVENT
DTSTART;TZID=America/New_York:20241001T200000
DTEND;TZID=America/New_York:20241001T220000
DTSTAMP:20260419T235426
CREATED:20240929T165109Z
LAST-MODIFIED:20240929T165109Z
UID:42691-1727812800-1727820000@notoriousjazz.com
SUMMARY:AUDREY SILVER TRIO
DESCRIPTION:Audrey Silver’s voice is like pure sterling. Her phrasing is exquisite\, her clarity and enunciation on par with the great Jo Stafford and her breath control is a talent so often\, and so wrongfully overlooked rivals Sinatra’s. She honed her craft through private study with singers Shelia Jordan and Mark Murphy. She has worked with pianist Bruce Barth\, trumpeter Marcus Printup\, upright bassist Paul Beaudry\, drummer Anthony Pinciotti\, vibraphonist Tom Beckham and guitarist Gary Ciprut. \nNo Cover | No Minimum
URL:https://notoriousjazz.com/event/audrey-silver-trio
LOCATION:Silvana\, 300 West 116th Street\, New York\, NY\, 10026\, United States
CATEGORIES:Club
ATTACH;FMTTYPE=image/jpeg:https://notoriousjazz.com/wp-content/uploads/2024/09/AUDREY-SILVER.jpg
END:VEVENT
END:VCALENDAR