BEGIN:VCALENDAR
VERSION:2.0
PRODID:-//Notorious Jazz - ECPv6.15.17//NONSGML v1.0//EN
CALSCALE:GREGORIAN
METHOD:PUBLISH
X-WR-CALNAME:Notorious Jazz
X-ORIGINAL-URL:https://notoriousjazz.com
X-WR-CALDESC:Events for Notorious Jazz
REFRESH-INTERVAL;VALUE=DURATION:PT1H
X-Robots-Tag:noindex
X-PUBLISHED-TTL:PT1H
BEGIN:VTIMEZONE
TZID:America/New_York
BEGIN:DAYLIGHT
TZOFFSETFROM:-0500
TZOFFSETTO:-0400
TZNAME:EDT
DTSTART:20230312T070000
END:DAYLIGHT
BEGIN:STANDARD
TZOFFSETFROM:-0400
TZOFFSETTO:-0500
TZNAME:EST
DTSTART:20231105T060000
END:STANDARD
BEGIN:DAYLIGHT
TZOFFSETFROM:-0500
TZOFFSETTO:-0400
TZNAME:EDT
DTSTART:20240310T070000
END:DAYLIGHT
BEGIN:STANDARD
TZOFFSETFROM:-0400
TZOFFSETTO:-0500
TZNAME:EST
DTSTART:20241103T060000
END:STANDARD
BEGIN:DAYLIGHT
TZOFFSETFROM:-0500
TZOFFSETTO:-0400
TZNAME:EDT
DTSTART:20250309T070000
END:DAYLIGHT
BEGIN:STANDARD
TZOFFSETFROM:-0400
TZOFFSETTO:-0500
TZNAME:EST
DTSTART:20251102T060000
END:STANDARD
END:VTIMEZONE
BEGIN:VEVENT
DTSTART;TZID=America/New_York:20241005T190000
DTEND;TZID=America/New_York:20241005T220000
DTSTAMP:20260419T235336
CREATED:20240915T223531Z
LAST-MODIFIED:20240915T223531Z
UID:42533-1728154800-1728165600@notoriousjazz.com
SUMMARY:WYCLIFFE GORDON & ERIC REED
DESCRIPTION:Wycliffe Gordon and Eric Reed are veteran members of the Wynton Marsalis Septet and original members of Lincoln Center Jazz Orchestra. Wycliffe Gordon has had an impressive career touring the world performing hard-swinging straight-ahead jazz\, receiving great acclaim from audiences and critics alike. His unmatched modern mastery of the plunger mute and his exceptional technique and signature sound\, has solidified Gordon a place in musical history known as one of the top trombonists of his generation. \nWhen you think of hard-driving swing\, daring expression\, sophistication and elegance in artistry\, formidable technique and a thunderous sound\, there are only a very small handful of contemporary pianists you think of and one of them is most assuredly Eric Reed. But don’t think of him as just a pianist; Eric is one of his generation’s most advanced thinkers in music.
URL:https://notoriousjazz.com/event/wycliffe-gordon-eric-reed
LOCATION:The Commons\, 125 Ellis Street NE\, Atlanta\, GA\, 30303\, United States
CATEGORIES:Concert,Museum
ATTACH;FMTTYPE=image/jpeg:https://notoriousjazz.com/wp-content/uploads/2024/09/WYCLIFFE-GORDON-ERIC-REED.jpeg
END:VEVENT
END:VCALENDAR