BEGIN:VCALENDAR
VERSION:2.0
PRODID:-//Notorious Jazz - ECPv6.15.17//NONSGML v1.0//EN
CALSCALE:GREGORIAN
METHOD:PUBLISH
X-ORIGINAL-URL:https://notoriousjazz.com
X-WR-CALDESC:Events for Notorious Jazz
REFRESH-INTERVAL;VALUE=DURATION:PT1H
X-Robots-Tag:noindex
X-PUBLISHED-TTL:PT1H
BEGIN:VTIMEZONE
TZID:America/New_York
BEGIN:DAYLIGHT
TZOFFSETFROM:-0500
TZOFFSETTO:-0400
TZNAME:EDT
DTSTART:20230312T070000
END:DAYLIGHT
BEGIN:STANDARD
TZOFFSETFROM:-0400
TZOFFSETTO:-0500
TZNAME:EST
DTSTART:20231105T060000
END:STANDARD
BEGIN:DAYLIGHT
TZOFFSETFROM:-0500
TZOFFSETTO:-0400
TZNAME:EDT
DTSTART:20240310T070000
END:DAYLIGHT
BEGIN:STANDARD
TZOFFSETFROM:-0400
TZOFFSETTO:-0500
TZNAME:EST
DTSTART:20241103T060000
END:STANDARD
BEGIN:DAYLIGHT
TZOFFSETFROM:-0500
TZOFFSETTO:-0400
TZNAME:EDT
DTSTART:20250309T070000
END:DAYLIGHT
BEGIN:STANDARD
TZOFFSETFROM:-0400
TZOFFSETTO:-0500
TZNAME:EST
DTSTART:20251102T060000
END:STANDARD
END:VTIMEZONE
BEGIN:VEVENT
DTSTART;TZID=America/New_York:20241007T193000
DTEND;TZID=America/New_York:20241007T220000
DTSTAMP:20260419T235445
CREATED:20240929T220256Z
LAST-MODIFIED:20240929T220544Z
UID:42753-1728329400-1728338400@notoriousjazz.com
SUMMARY:JOE GRANSDEN JAM SESSION
DESCRIPTION:Trumpeter Joe Gransden has been playing for more than forty years. Not long after high school\, Joe was on the road as a sideman with the big bands of Tommy Dorsey and Glenn Miller. A number of A.F.M. contracted sideman gigs include Barry White\, The Moody Blues\, Kenny Rogers\, The Temptations\, Aretha Franklin\, The Whispers\, etc. Eventually moving to New York City\, he performed with numerous groups\, including sub work with Toshiko Akiyoshi and Chico O’Farrill at the famous Birdland Jazz Club. Meanwhile\, Joe formed his own group\, which performed in Brooklyn each week and included the venerable guitarist Joe Cohn and ex-Betty Carter bassist\, Matt Hughes. He leads a 16 piece big band along with configurations of quartet and quintet\, conducts a jazz camp and holds court with a weekly jazz jam every Monday evening. \nMusicians bring your instrument and join on stage! \nCover: Free
URL:https://notoriousjazz.com/event/joe-gransden-4
LOCATION:Napoleon’s\, 2836 Lavista Road\, Decatur\, GA\, 30033\, United States
CATEGORIES:Restaurant
ATTACH;FMTTYPE=image/jpeg:https://notoriousjazz.com/wp-content/uploads/2024/09/JOE-GRANSDEN.jpg
END:VEVENT
END:VCALENDAR