BEGIN:VCALENDAR
VERSION:2.0
PRODID:-//Notorious Jazz - ECPv6.15.17//NONSGML v1.0//EN
CALSCALE:GREGORIAN
METHOD:PUBLISH
X-WR-CALNAME:Notorious Jazz
X-ORIGINAL-URL:https://notoriousjazz.com
X-WR-CALDESC:Events for Notorious Jazz
REFRESH-INTERVAL;VALUE=DURATION:PT1H
X-Robots-Tag:noindex
X-PUBLISHED-TTL:PT1H
BEGIN:VTIMEZONE
TZID:America/Chicago
BEGIN:DAYLIGHT
TZOFFSETFROM:-0600
TZOFFSETTO:-0500
TZNAME:CDT
DTSTART:20230312T080000
END:DAYLIGHT
BEGIN:STANDARD
TZOFFSETFROM:-0500
TZOFFSETTO:-0600
TZNAME:CST
DTSTART:20231105T070000
END:STANDARD
BEGIN:DAYLIGHT
TZOFFSETFROM:-0600
TZOFFSETTO:-0500
TZNAME:CDT
DTSTART:20240310T080000
END:DAYLIGHT
BEGIN:STANDARD
TZOFFSETFROM:-0500
TZOFFSETTO:-0600
TZNAME:CST
DTSTART:20241103T070000
END:STANDARD
BEGIN:DAYLIGHT
TZOFFSETFROM:-0600
TZOFFSETTO:-0500
TZNAME:CDT
DTSTART:20250309T080000
END:DAYLIGHT
BEGIN:STANDARD
TZOFFSETFROM:-0500
TZOFFSETTO:-0600
TZNAME:CST
DTSTART:20251102T070000
END:STANDARD
END:VTIMEZONE
BEGIN:VEVENT
DTSTART;TZID=America/Chicago:20241023T183000
DTEND;TZID=America/Chicago:20241023T220000
DTSTAMP:20260419T235335
CREATED:20240929T205157Z
LAST-MODIFIED:20240929T205157Z
UID:42739-1729708200-1729720800@notoriousjazz.com
SUMMARY:PATRICIA BARBER
DESCRIPTION:Songwriter\, composer\, singer\, and pianist\, was born in Chicago and her father Floyd was a jazz saxophonist who played with Bud Freeman and Glenn Miller. She played saxophone and piano from a young age\, sang in musicals in high school\, and studied piano at the University of Iowa in the early 1970s. From there Barber went to Chicago and began performing regularly in bars and clubs. She won a Guggenheim Fellowship in music composition in 2003\, an unusual accomplishment for someone working in the field of popular songwriting. \nThe Band: Patricia Barber – piano\, vocals | Emma Dayhuff – bass | Greg Artry – drums | Neal Alger – guitar \nCover: $27.75 ~ $37.75
URL:https://notoriousjazz.com/event/patricia-barber
LOCATION:Winter’s Jazz Club\, 465 N McClurg Court\, Chicago\, IL\, 60611\, United States
CATEGORIES:Club
ATTACH;FMTTYPE=image/jpeg:https://notoriousjazz.com/wp-content/uploads/2024/09/PATRICIA-BARBER.jpeg
END:VEVENT
END:VCALENDAR