BEGIN:VCALENDAR
VERSION:2.0
PRODID:-//Notorious Jazz - ECPv6.15.17//NONSGML v1.0//EN
CALSCALE:GREGORIAN
METHOD:PUBLISH
X-ORIGINAL-URL:https://notoriousjazz.com
X-WR-CALDESC:Events for Notorious Jazz
REFRESH-INTERVAL;VALUE=DURATION:PT1H
X-Robots-Tag:noindex
X-PUBLISHED-TTL:PT1H
BEGIN:VTIMEZONE
TZID:America/New_York
BEGIN:DAYLIGHT
TZOFFSETFROM:-0500
TZOFFSETTO:-0400
TZNAME:EDT
DTSTART:20230312T070000
END:DAYLIGHT
BEGIN:STANDARD
TZOFFSETFROM:-0400
TZOFFSETTO:-0500
TZNAME:EST
DTSTART:20231105T060000
END:STANDARD
BEGIN:DAYLIGHT
TZOFFSETFROM:-0500
TZOFFSETTO:-0400
TZNAME:EDT
DTSTART:20240310T070000
END:DAYLIGHT
BEGIN:STANDARD
TZOFFSETFROM:-0400
TZOFFSETTO:-0500
TZNAME:EST
DTSTART:20241103T060000
END:STANDARD
BEGIN:DAYLIGHT
TZOFFSETFROM:-0500
TZOFFSETTO:-0400
TZNAME:EDT
DTSTART:20250309T070000
END:DAYLIGHT
BEGIN:STANDARD
TZOFFSETFROM:-0400
TZOFFSETTO:-0500
TZNAME:EST
DTSTART:20251102T060000
END:STANDARD
END:VTIMEZONE
BEGIN:VEVENT
DTSTART;TZID=America/New_York:20241024T190000
DTEND;TZID=America/New_York:20241024T203000
DTSTAMP:20260419T235444
CREATED:20241020T154800Z
LAST-MODIFIED:20241020T163256Z
UID:43007-1729796400-1729801800@notoriousjazz.com
SUMMARY:ALLYN JOHNSON
DESCRIPTION:CD Release Celebration \nThe native Washingtonian is a multi-talented musician\, composer\, arranger and producer whose trademark sound gives brilliance and fortitude to the art of jazz improvisation. While a student at the University of the District of Columbia\, Allyn was mentored by the late great jazz legend Calvin Jones. Allyn hopes to continue Jones’ rich legacy of service\, musicianship and academic excellence. He is revered by musical giants as well as the “young lions” of his generation. In 2024\, Allyn recorded a new trio album entitled “The Big Comeback” featuring Eric Kennedy on drums and Romeir Mendez on bass. \nAllyn Johnson ~ piano\nTim Green ~ alto saxophone\nHerman Burney ~ bass\nEric Kennedy ~ drums \nCover: $30~35 | $15 Streaming Pass (plus fees)
URL:https://notoriousjazz.com/event/allyn-johnson
LOCATION:Keystone Korner Baltimore\, 1350 Lancaster Street\, Baltimore\, MD\, 21231\, United States
CATEGORIES:Club
ATTACH;FMTTYPE=image/jpeg:https://notoriousjazz.com/wp-content/uploads/2024/10/ALLYN-JOHNSON.jpeg
END:VEVENT
END:VCALENDAR