BEGIN:VCALENDAR
VERSION:2.0
PRODID:-//Notorious Jazz - ECPv6.15.17//NONSGML v1.0//EN
CALSCALE:GREGORIAN
METHOD:PUBLISH
X-ORIGINAL-URL:https://notoriousjazz.com
X-WR-CALDESC:Events for Notorious Jazz
REFRESH-INTERVAL;VALUE=DURATION:PT1H
X-Robots-Tag:noindex
X-PUBLISHED-TTL:PT1H
BEGIN:VTIMEZONE
TZID:America/New_York
BEGIN:DAYLIGHT
TZOFFSETFROM:-0500
TZOFFSETTO:-0400
TZNAME:EDT
DTSTART:20230312T070000
END:DAYLIGHT
BEGIN:STANDARD
TZOFFSETFROM:-0400
TZOFFSETTO:-0500
TZNAME:EST
DTSTART:20231105T060000
END:STANDARD
BEGIN:DAYLIGHT
TZOFFSETFROM:-0500
TZOFFSETTO:-0400
TZNAME:EDT
DTSTART:20240310T070000
END:DAYLIGHT
BEGIN:STANDARD
TZOFFSETFROM:-0400
TZOFFSETTO:-0500
TZNAME:EST
DTSTART:20241103T060000
END:STANDARD
BEGIN:DAYLIGHT
TZOFFSETFROM:-0500
TZOFFSETTO:-0400
TZNAME:EDT
DTSTART:20250309T070000
END:DAYLIGHT
BEGIN:STANDARD
TZOFFSETFROM:-0400
TZOFFSETTO:-0500
TZNAME:EST
DTSTART:20251102T060000
END:STANDARD
END:VTIMEZONE
BEGIN:VTIMEZONE
TZID:America/Los_Angeles
BEGIN:DAYLIGHT
TZOFFSETFROM:-0800
TZOFFSETTO:-0700
TZNAME:PDT
DTSTART:20230312T100000
END:DAYLIGHT
BEGIN:STANDARD
TZOFFSETFROM:-0700
TZOFFSETTO:-0800
TZNAME:PST
DTSTART:20231105T090000
END:STANDARD
BEGIN:DAYLIGHT
TZOFFSETFROM:-0800
TZOFFSETTO:-0700
TZNAME:PDT
DTSTART:20240310T100000
END:DAYLIGHT
BEGIN:STANDARD
TZOFFSETFROM:-0700
TZOFFSETTO:-0800
TZNAME:PST
DTSTART:20241103T090000
END:STANDARD
BEGIN:DAYLIGHT
TZOFFSETFROM:-0800
TZOFFSETTO:-0700
TZNAME:PDT
DTSTART:20250309T100000
END:DAYLIGHT
BEGIN:STANDARD
TZOFFSETFROM:-0700
TZOFFSETTO:-0800
TZNAME:PST
DTSTART:20251102T090000
END:STANDARD
END:VTIMEZONE
BEGIN:VEVENT
DTSTART;TZID=America/New_York:20241029T190000
DTEND;TZID=America/New_York:20241030T210000
DTSTAMP:20260419T235427
CREATED:20241014T233232Z
LAST-MODIFIED:20241027T173425Z
UID:42934-1730228400-1730322000@notoriousjazz.com
SUMMARY:JOE ALTERMAN
DESCRIPTION:Atlanta native Joe Alterman expresses a certain upbeat naivete\, with a broad smile and bright eyes that make you feel welcome. One would not guess that this is a man hailed by greats; Ramsey Lewis describes his piano playing as ‘a joy to behold’. Les McCann states ‘As a man and musician he is already a giant’. \nJournalist Nat Hentoff championed three of Alterman’s albums\, as well as his writing (Joe wrote liner notes to three Wynton Marsalis/JALC albums\, calling one of Joe’s columns “one of the very best pieces on the essence of jazz\, the spirit of jazz\, that I’ve ever read\, and I’m not exaggerating.” \n7pm & 9pm Cover $40 The Club Reservations Not Available Please arrive 20-30 minutes before shows. Bar open from 5pm to 2am never a cover to enjoy cocktails or relax in our historic art deco music room after 10pm. \nJoe Alterman Trio | The Next Generation In Jazz \nNathaniel Schroeder – bass | Marlon Patton – drums | Joe Alterman – piano \nCover: $40.00\nShowtimes: 7:00pm & 9:00pm\n 
URL:https://notoriousjazz.com/event/joe-alterman-6
LOCATION:Zinc Bar\, 82 West 3rd Street\, New York City\, NY\, 10012\, United States
CATEGORIES:Club
ATTACH;FMTTYPE=image/jpeg:https://notoriousjazz.com/wp-content/uploads/2024/10/JOE-ALTERMAN.jpg
END:VEVENT
BEGIN:VEVENT
DTSTART;TZID=America/Los_Angeles:20241029T200000
DTEND;TZID=America/Los_Angeles:20241029T233000
DTSTAMP:20260419T235427
CREATED:20241020T192539Z
LAST-MODIFIED:20241020T192940Z
UID:43032-1730232000-1730244600@notoriousjazz.com
SUMMARY:MARVIN “SMITTY” SMITH
DESCRIPTION:The drummer was exposed to music at a young age\, receiving formal musical training at the age of three. After graduating from Waukegan East High School\, Smith attended Berklee School of Music\, graduating in 1981. Smith has recorded 200 albums with various artists\, as well as two solo albums. He has toured with\, among others\, Sting\, Dave Holland\, Sonny Rollins\, Willie Nelson and Steve Coleman. He is a former member of The New York Jazz Quartet\, and was the drummer for the Tonight Show with Jay Leno band\, led by Kevin Eubanks\, from January 30\, 1995 until the show’s end on May 29\, 2009. Smith was also the drummer for the Jay Leno Show band in 2009-10. \nChris Lowery – trumpet\nDale Fielder – alto\nAlex Johnson – tenor\nLemar Guillary – trombone\nAdam Ledbetter – piano\nRene Camacho – bass\nChristian Moraga – percussion \n$25 1st Set Inside Seating (+$4.25)\n$20.00 2nd Set Inside Seating (+A$4.25)\n$15.00 Patio Seating (+$4.25) | A live video concert you are NOT inside the club
URL:https://notoriousjazz.com/event/marvin-smitty-smith
LOCATION:The Baked Potato\, 3787 Cahuenga Boulevard\, Studio City\, CA\, 91604\, United States
CATEGORIES:Club
ATTACH;FMTTYPE=image/jpeg:https://notoriousjazz.com/wp-content/uploads/2024/10/MARVIN-22SMITTY22-SMITH.jpeg
END:VEVENT
END:VCALENDAR