BEGIN:VCALENDAR
VERSION:2.0
PRODID:-//Notorious Jazz - ECPv6.15.17//NONSGML v1.0//EN
CALSCALE:GREGORIAN
METHOD:PUBLISH
X-WR-CALNAME:Notorious Jazz
X-ORIGINAL-URL:https://notoriousjazz.com
X-WR-CALDESC:Events for Notorious Jazz
REFRESH-INTERVAL;VALUE=DURATION:PT1H
X-Robots-Tag:noindex
X-PUBLISHED-TTL:PT1H
BEGIN:VTIMEZONE
TZID:Europe/Paris
BEGIN:DAYLIGHT
TZOFFSETFROM:+0100
TZOFFSETTO:+0200
TZNAME:CEST
DTSTART:20230326T010000
END:DAYLIGHT
BEGIN:STANDARD
TZOFFSETFROM:+0200
TZOFFSETTO:+0100
TZNAME:CET
DTSTART:20231029T010000
END:STANDARD
BEGIN:DAYLIGHT
TZOFFSETFROM:+0100
TZOFFSETTO:+0200
TZNAME:CEST
DTSTART:20240331T010000
END:DAYLIGHT
BEGIN:STANDARD
TZOFFSETFROM:+0200
TZOFFSETTO:+0100
TZNAME:CET
DTSTART:20241027T010000
END:STANDARD
BEGIN:DAYLIGHT
TZOFFSETFROM:+0100
TZOFFSETTO:+0200
TZNAME:CEST
DTSTART:20250330T010000
END:DAYLIGHT
BEGIN:STANDARD
TZOFFSETFROM:+0200
TZOFFSETTO:+0100
TZNAME:CET
DTSTART:20251026T010000
END:STANDARD
END:VTIMEZONE
BEGIN:VEVENT
DTSTART;TZID=Europe/Paris:20241031T203000
DTEND;TZID=Europe/Paris:20241031T220000
DTSTAMP:20260419T220825
CREATED:20241020T203905Z
LAST-MODIFIED:20241020T203905Z
UID:43042-1730406600-1730412000@notoriousjazz.com
SUMMARY:BAPTISTE HERBIN
DESCRIPTION:Baptiste Herbin Trio ft André Ceccarelli releases his new album “Django!” For this new album\, Baptiste\, for the first time\, called upon an artistic director. He found in Daniel Yvinec an enlightened and stimulating interlocutor\, who after hearing him play a Django theme during a jam session\, suggested the subject of this album to him. \nTogether\, they then shape a repertoire that draws a fascinating universe around the guitarist; some of his emblematic compositions skillfully rethought\, intoxicating musette waltzes\, to which are added a choro dedicated to him by Herbin\, the moving homage of the pianist John Lewis\, and a stunning reinterpretation of “Night and Day” in which Baptiste takes up the original solo of Django harmonized for two saxophones with an elegance and a naturalness that confirm the merits of the enterprise. \n\nBaptiste Herbin – sax | Sylvain Romano – bass | André Ceccarelli – drums \nCover: 30.00 € Adult | 20.00 € Student
URL:https://notoriousjazz.com/event/baptiste-herbin
LOCATION:Sunset | Sunside\, 60 Rue des Lombards\, 75001 Paris\, France
CATEGORIES:Club
ATTACH;FMTTYPE=image/png:https://notoriousjazz.com/wp-content/uploads/2024/10/BAPTISTE-HERBIN.png
END:VEVENT
END:VCALENDAR