BEGIN:VCALENDAR
VERSION:2.0
PRODID:-//Notorious Jazz - ECPv6.15.17//NONSGML v1.0//EN
CALSCALE:GREGORIAN
METHOD:PUBLISH
X-WR-CALNAME:Notorious Jazz
X-ORIGINAL-URL:https://notoriousjazz.com
X-WR-CALDESC:Events for Notorious Jazz
REFRESH-INTERVAL;VALUE=DURATION:PT1H
X-Robots-Tag:noindex
X-PUBLISHED-TTL:PT1H
BEGIN:VTIMEZONE
TZID:America/Los_Angeles
BEGIN:DAYLIGHT
TZOFFSETFROM:-0800
TZOFFSETTO:-0700
TZNAME:PDT
DTSTART:20230312T100000
END:DAYLIGHT
BEGIN:STANDARD
TZOFFSETFROM:-0700
TZOFFSETTO:-0800
TZNAME:PST
DTSTART:20231105T090000
END:STANDARD
BEGIN:DAYLIGHT
TZOFFSETFROM:-0800
TZOFFSETTO:-0700
TZNAME:PDT
DTSTART:20240310T100000
END:DAYLIGHT
BEGIN:STANDARD
TZOFFSETFROM:-0700
TZOFFSETTO:-0800
TZNAME:PST
DTSTART:20241103T090000
END:STANDARD
BEGIN:DAYLIGHT
TZOFFSETFROM:-0800
TZOFFSETTO:-0700
TZNAME:PDT
DTSTART:20250309T100000
END:DAYLIGHT
BEGIN:STANDARD
TZOFFSETFROM:-0700
TZOFFSETTO:-0800
TZNAME:PST
DTSTART:20251102T090000
END:STANDARD
END:VTIMEZONE
BEGIN:VEVENT
DTSTART;TZID=America/Los_Angeles:20241104T200000
DTEND;TZID=America/Los_Angeles:20241104T230000
DTSTAMP:20260419T220749
CREATED:20241103T163800Z
LAST-MODIFIED:20241103T163901Z
UID:43253-1730750400-1730761200@notoriousjazz.com
SUMMARY:JACQUES LESURE
DESCRIPTION:Hosting the Jazz Jam Session every Monday Night \nJacques Lesure has performed and recorded with some of the top names in music. He has been fortunate to share the stage with musicians in many genres. He has played with Bernadette Peters\, Pharoah Sanders\, Gregory Porter\,Jimmy Smith\, Carmen Lundy\, the Clark Sisters\, Little Milton\, James Brown and numerous others. \nHe has appeared in commercials\, on television\, in stage in plays and motion pictures including the Oscar winning film\, La La Land. \n 
URL:https://notoriousjazz.com/event/jacques-lesure-3
LOCATION:The Lighthouse Cafe\, 30 Pier Avenue\, Hermosa Beach\, CA\, 90254\, United States
CATEGORIES:Club
ATTACH;FMTTYPE=image/jpeg:https://notoriousjazz.com/wp-content/uploads/2024/01/JACQUES-LESURE.jpeg
END:VEVENT
END:VCALENDAR