BEGIN:VCALENDAR
VERSION:2.0
PRODID:-//Notorious Jazz - ECPv6.15.17//NONSGML v1.0//EN
CALSCALE:GREGORIAN
METHOD:PUBLISH
X-WR-CALNAME:Notorious Jazz
X-ORIGINAL-URL:https://notoriousjazz.com
X-WR-CALDESC:Events for Notorious Jazz
REFRESH-INTERVAL;VALUE=DURATION:PT1H
X-Robots-Tag:noindex
X-PUBLISHED-TTL:PT1H
BEGIN:VTIMEZONE
TZID:America/Chicago
BEGIN:DAYLIGHT
TZOFFSETFROM:-0600
TZOFFSETTO:-0500
TZNAME:CDT
DTSTART:20230312T080000
END:DAYLIGHT
BEGIN:STANDARD
TZOFFSETFROM:-0500
TZOFFSETTO:-0600
TZNAME:CST
DTSTART:20231105T070000
END:STANDARD
BEGIN:DAYLIGHT
TZOFFSETFROM:-0600
TZOFFSETTO:-0500
TZNAME:CDT
DTSTART:20240310T080000
END:DAYLIGHT
BEGIN:STANDARD
TZOFFSETFROM:-0500
TZOFFSETTO:-0600
TZNAME:CST
DTSTART:20241103T070000
END:STANDARD
BEGIN:DAYLIGHT
TZOFFSETFROM:-0600
TZOFFSETTO:-0500
TZNAME:CDT
DTSTART:20250309T080000
END:DAYLIGHT
BEGIN:STANDARD
TZOFFSETFROM:-0500
TZOFFSETTO:-0600
TZNAME:CST
DTSTART:20251102T070000
END:STANDARD
END:VTIMEZONE
BEGIN:VTIMEZONE
TZID:America/New_York
BEGIN:DAYLIGHT
TZOFFSETFROM:-0500
TZOFFSETTO:-0400
TZNAME:EDT
DTSTART:20230312T070000
END:DAYLIGHT
BEGIN:STANDARD
TZOFFSETFROM:-0400
TZOFFSETTO:-0500
TZNAME:EST
DTSTART:20231105T060000
END:STANDARD
BEGIN:DAYLIGHT
TZOFFSETFROM:-0500
TZOFFSETTO:-0400
TZNAME:EDT
DTSTART:20240310T070000
END:DAYLIGHT
BEGIN:STANDARD
TZOFFSETFROM:-0400
TZOFFSETTO:-0500
TZNAME:EST
DTSTART:20241103T060000
END:STANDARD
BEGIN:DAYLIGHT
TZOFFSETFROM:-0500
TZOFFSETTO:-0400
TZNAME:EDT
DTSTART:20250309T070000
END:DAYLIGHT
BEGIN:STANDARD
TZOFFSETFROM:-0400
TZOFFSETTO:-0500
TZNAME:EST
DTSTART:20251102T060000
END:STANDARD
END:VTIMEZONE
BEGIN:VEVENT
DTSTART;TZID=America/Chicago:20241107T190000
DTEND;TZID=America/Chicago:20241107T210000
DTSTAMP:20260419T220825
CREATED:20241102T185459Z
LAST-MODIFIED:20241103T002316Z
UID:43213-1731006000-1731013200@notoriousjazz.com
SUMMARY:JUDITH OWEN
DESCRIPTION:Judith Owen is a performer whose stylistic range spans rock\, pop\, classical\, jazz\, blues\, and musical theatre. Owen is also a comedic actress and master storyteller. Judith grew up in London surrounded by classical music\, ballet\, theatre\, and the fine arts. Further\, she was also exposed to many jazz icons and Broadway musicals that her parents loved. Thus\, this mixture would become her signature sound. \nOwen quickly began performing at a variety of different venues around London. Her unique hybrid of classical/jazz-influenced styled sound soon affirmed a regular slot at the legendary Ronnie Scott’s. \nHer new live album\, 2024’s Comes Alive\, follows her hugely successful 2022 album Come On & Get It. That album received over 2.6 million album streams and more than a million YouTube views. Judith Owen Comes Alive features sixteen tracks recorded live over a weeklong residency in Bern\, Switzerland at Marians Jazzroom. \nOwen conceived of the project because of her childhood fascination with the music of the pioneering but oft forgotten women of jazz and blues. For example\, Julia Lee\, Blossom Dearie and Nellie Lutcher. She discovered these women hidden in her father’s record collection alongside Oscar Peterson and Jelly Roll Morton. There\, Owen became captivated and enchanted by these “unapologetic” chanteuses of the 40’s/50’s. They were singing about sex and enjoying it\, at a time when women were meant to sing about romance. Then\, Owen made it her mission to dig deep and find out more from both a musical and historical perspective. The result is a joyful\, uplifting\, and empowering project. Moreover\, she honors these entertaining women who broke the glass ceiling with their stiletto heels and were proud of it! \nCover: $30.00~$40.00
URL:https://notoriousjazz.com/event/judith-owen
LOCATION:Dakota\, 1010 Nicollet Mall\, Minneapolis\, MN\, 55403\, United States
CATEGORIES:Club
ATTACH;FMTTYPE=image/png:https://notoriousjazz.com/wp-content/uploads/2024/11/JUDITH-OWEN.png
END:VEVENT
BEGIN:VEVENT
DTSTART;TZID=America/New_York:20241107T190000
DTEND;TZID=America/New_York:20241107T213000
DTSTAMP:20260419T220825
CREATED:20241102T163804Z
LAST-MODIFIED:20241102T163804Z
UID:43199-1731006000-1731015000@notoriousjazz.com
SUMMARY:NCCU EAGLE'S NEST JAZZ JAM
DESCRIPTION:The NCCU Jazz Jam at Missy Lane’s brings together the talented musicians of North Carolina Central University for a dynamic evening of improvisation and collaboration. Expect an electrifying atmosphere as students and seasoned performers blend traditional and modern jazz in an intimate\, soulful setting. \nAdmission – $10 Cover
URL:https://notoriousjazz.com/event/nccu-eagles-nest-jazz-jam
LOCATION:Missy Lane’s Assembly Room\, 310 E. Main Street\, Durham\, NC\, 27701\, United States
CATEGORIES:Club
ATTACH;FMTTYPE=image/jpeg:https://notoriousjazz.com/wp-content/uploads/2024/11/NCCU-EAGLES-NEST.jpg
END:VEVENT
BEGIN:VEVENT
DTSTART;TZID=America/New_York:20241107T190000
DTEND;TZID=America/New_York:20241107T230000
DTSTAMP:20260419T220825
CREATED:20241103T175952Z
LAST-MODIFIED:20241103T180241Z
UID:43264-1731006000-1731020400@notoriousjazz.com
SUMMARY:JON COWHERD
DESCRIPTION:The pianist\, composer and arranger is best known as the co-founder and co-director of Brian Blade and the Fellowship Band. He has worked extensively as an arranger\, producer\, songwriter and accompanist with a vast range of artists\, such as Cassandra Wilson\, John Scofield and Lizz Wright to Joni Mitchell\, Brandi Carlile\, Rosanne Cash\, Norah Jones\, Glen Hansard and more. \nHe is also a leader in his own right having released three acclaimed albums of his own. For this night\, he performs in trio with an all-star rhythm section including drummer Brian Blade and bassist John Patitucci — the group from Cowherd’s most recent album Pride and Joy on Le Cowhich was named one of the year’s best by Downbeat critics\, NPR. \nThe Band: Jon Cowherd\, John Patitucci\, Brian Blade \nTickets: $40.00~$145.00
URL:https://notoriousjazz.com/event/jon-cowherd
LOCATION:Scullers Jazz Club\, 400 Soldiers Field Road\, Boston\, MA\, 02134\, United States
CATEGORIES:Club
ATTACH;FMTTYPE=image/jpeg:https://notoriousjazz.com/wp-content/uploads/2024/11/JON-COWHERD-JOHN-PATITUCCI-BRIAN-BLADE.jpg
END:VEVENT
BEGIN:VEVENT
DTSTART;TZID=America/New_York:20241107T190000
DTEND;TZID=America/New_York:20241110T230000
DTSTAMP:20260419T220825
CREATED:20241103T152714Z
LAST-MODIFIED:20241103T153151Z
UID:43248-1731006000-1731279600@notoriousjazz.com
SUMMARY:SPIKE WILNER
DESCRIPTION:Trio Contrafactus with special guest Peter Bernstein \n\nWilner’s career took off in New York’s vibrant jazz scene\, performing at iconic venues like the Village Gate and becoming a fixture at Smalls Jazz Club\, where he recorded “Late Night: Live At Smalls.” Over the past 15 years\, he’s collaborated with jazz greats such as Peter Bernstein\, Joe Magnarelli\, Grant Stewart\, Jesse Davis\, Eric Alexander\, Jim Rotundi\, Joe Farnsworth\, Bob Mover\, Ian Hedrickson-Smith\, Ryan Kisor\, Steve Davis\, Ralph Lalama\, Paul Gill\, Neal Miner\, Joe Strasser\, Ari Roland\, Chris Byars\, Sherman Irby\, Joel Frahm\, Omer Avital\, Stephon Harris and many others. \nAn accomplished educator\, Spike has taught at institutions like the Brooklyn Conservatory and Juilliard. With several albums to his name\, including “Portraits” and “Planet Jazz: In Orbit\,” Spike Wilner continues to captivate audiences with his masterful improvisation and deep understanding of jazz history. \nJazz guitarist Peter Bernstein has been a part of the jazz scene in New York and abroad since 1989. During that time he has participated in numerous recordings and performances with musicians from all generations. As a leader\, Peter has released nine albums and a DVD. As a sideman Peter has appeared in groups led by Sonny Rollins\, Bobby Hutcherson\, George Coleman\, Lou Donaldson\, Dr. Lonnie Smith\, Fathead Newman\, Joshua Redman\, Brad Mehldau\, Diana Krall\, Lee Konitz\, Jimmy Cobb and many more. Current projects include his album\, Monk\, with Doug Weiss and Bill Stewart\, a recently released solo record\, Solo Guitar – Live at Smalls\, and the highly acclaimed organ trio with organist Larry Goldings and drummer Bill Stewart. \nTickets: $25.50 ~ $55.50 \nShows: 7:00pm |  9:15pm
URL:https://notoriousjazz.com/event/spike-wilner
LOCATION:Black Cat\, 400 Eddy Street\, San Francisco\, CA\, 94109\, United States
CATEGORIES:Club
ATTACH;FMTTYPE=image/jpeg:https://notoriousjazz.com/wp-content/uploads/2024/11/SPIKE-WILNERPETER-BERNSTEIN.jpeg
END:VEVENT
END:VCALENDAR