BEGIN:VCALENDAR
VERSION:2.0
PRODID:-//Notorious Jazz - ECPv6.15.17//NONSGML v1.0//EN
CALSCALE:GREGORIAN
METHOD:PUBLISH
X-WR-CALNAME:Notorious Jazz
X-ORIGINAL-URL:https://notoriousjazz.com
X-WR-CALDESC:Events for Notorious Jazz
REFRESH-INTERVAL;VALUE=DURATION:PT1H
X-Robots-Tag:noindex
X-PUBLISHED-TTL:PT1H
BEGIN:VTIMEZONE
TZID:America/New_York
BEGIN:DAYLIGHT
TZOFFSETFROM:-0500
TZOFFSETTO:-0400
TZNAME:EDT
DTSTART:20230312T070000
END:DAYLIGHT
BEGIN:STANDARD
TZOFFSETFROM:-0400
TZOFFSETTO:-0500
TZNAME:EST
DTSTART:20231105T060000
END:STANDARD
BEGIN:DAYLIGHT
TZOFFSETFROM:-0500
TZOFFSETTO:-0400
TZNAME:EDT
DTSTART:20240310T070000
END:DAYLIGHT
BEGIN:STANDARD
TZOFFSETFROM:-0400
TZOFFSETTO:-0500
TZNAME:EST
DTSTART:20241103T060000
END:STANDARD
BEGIN:DAYLIGHT
TZOFFSETFROM:-0500
TZOFFSETTO:-0400
TZNAME:EDT
DTSTART:20250309T070000
END:DAYLIGHT
BEGIN:STANDARD
TZOFFSETFROM:-0400
TZOFFSETTO:-0500
TZNAME:EST
DTSTART:20251102T060000
END:STANDARD
END:VTIMEZONE
BEGIN:VEVENT
DTSTART;TZID=America/New_York:20241111T193000
DTEND;TZID=America/New_York:20241111T210000
DTSTAMP:20260419T220850
CREATED:20241110T033542Z
LAST-MODIFIED:20241110T033902Z
UID:43360-1731353400-1731358800@notoriousjazz.com
SUMMARY:STEVE ROSS SINGS FRED ASTAIRE
DESCRIPTION:Puttin’ On The Ritz: Steve Ross was raised in Washington\, DC\, and heard a lot of music at home\, some from his mother who played piano. In due course\, he studied piano himself and by the time he had attended Georgetown University\, spent a little time in a seminary\, and served in the US Army\, he had become an accomplished pianist\, drawing his repertoire not from contemporary pop but from the Great American Songbook. In the early 70s he settled in New York City where he soon became well known on the city’s cabaret scene. \nAt first a background pianist\, he was urged by club owners to sing and gradually began to do this\, eventually training as a singer. As his personal style developed\, so his reputation spread. Ted Hook\, owner of Backstage\, a piano bar in the midtown theatre district\, hired him. The association was hugely successful and in 1979 Hook opened a new club\, Onstage\, especially to showcase Ross’ talents. In 1981\, Ross was booked into the Oak Room at the Algonquin Hotel where he played a considerable part in establishing the room as a perennial favorite of artists and customers. \nAt some venues he would find himself accompanying leading entertainers who happened to be in the audience\, among them Liza Minnelli and Ginger Rogers. Ross toured Australia in 1986\, one of his shows there being recorded at Don Burrows’ Supper Club\, and he returned to that country in the late 90s. He has played many festivals\, including Perth in Australia\, Spoleto in Italy\, and Hong Kong. Other international venues include seasons at London’s Ritz Hotel and Pizza On The Park. In 1989\, he hosted a live cabaret series for BBC Television\, and back in America was host of New York Cabaret Nights\, a series for National Public Radio. \nCover: $30.00~$40.00
URL:https://notoriousjazz.com/event/steve-ross-sings-fred-astaire
LOCATION:Birdland\, 315 W 44th Street\, #5402\, New York City\, NY\, 10036\, United States
CATEGORIES:Club
ATTACH;FMTTYPE=image/png:https://notoriousjazz.com/wp-content/uploads/2024/11/STEVE-ROSS.png
END:VEVENT
END:VCALENDAR