BEGIN:VCALENDAR
VERSION:2.0
PRODID:-//Notorious Jazz - ECPv6.15.17//NONSGML v1.0//EN
CALSCALE:GREGORIAN
METHOD:PUBLISH
X-ORIGINAL-URL:https://notoriousjazz.com
X-WR-CALDESC:Events for Notorious Jazz
REFRESH-INTERVAL;VALUE=DURATION:PT1H
X-Robots-Tag:noindex
X-PUBLISHED-TTL:PT1H
BEGIN:VTIMEZONE
TZID:America/New_York
BEGIN:DAYLIGHT
TZOFFSETFROM:-0500
TZOFFSETTO:-0400
TZNAME:EDT
DTSTART:20230312T070000
END:DAYLIGHT
BEGIN:STANDARD
TZOFFSETFROM:-0400
TZOFFSETTO:-0500
TZNAME:EST
DTSTART:20231105T060000
END:STANDARD
BEGIN:DAYLIGHT
TZOFFSETFROM:-0500
TZOFFSETTO:-0400
TZNAME:EDT
DTSTART:20240310T070000
END:DAYLIGHT
BEGIN:STANDARD
TZOFFSETFROM:-0400
TZOFFSETTO:-0500
TZNAME:EST
DTSTART:20241103T060000
END:STANDARD
BEGIN:DAYLIGHT
TZOFFSETFROM:-0500
TZOFFSETTO:-0400
TZNAME:EDT
DTSTART:20250309T070000
END:DAYLIGHT
BEGIN:STANDARD
TZOFFSETFROM:-0400
TZOFFSETTO:-0500
TZNAME:EST
DTSTART:20251102T060000
END:STANDARD
END:VTIMEZONE
BEGIN:VEVENT
DTSTART;TZID=America/New_York:20241120T080000
DTEND;TZID=America/New_York:20241120T170000
DTSTAMP:20260419T220949
CREATED:20241110T053507Z
LAST-MODIFIED:20241110T053507Z
UID:43378-1732089600-1732122000@notoriousjazz.com
SUMMARY:BRYAN ANTHONY QUARTET
DESCRIPTION:Celebrating Sinatra! \nCharismatic crooner Bryan Anthony keeps the legacy of the Great Gentlemen of Song (especially Sinatra) alive and well in his immensely satisfying and sweetly nostalgic performances. A veteran vocalist of the Glenn Miller Orchestra\, Tommy Dorsey Orchestra\, and Nelson Riddle Orchestra\, Anthony provides stunning homages to the Swing Era for contemporary audiences. Parker Jazz Club is 21+ music venue \nCover: $20.00 ~ $30\,00
URL:https://notoriousjazz.com/event/bryan-anthony-quartet
LOCATION:Parker Jazz Club\, 117 W 4th St #107b\, Austin\, TX\, 78701\, United States
CATEGORIES:Club
ATTACH;FMTTYPE=image/jpeg:https://notoriousjazz.com/wp-content/uploads/2024/11/BRYAN-ANTHONY.jpeg
END:VEVENT
END:VCALENDAR