BEGIN:VCALENDAR
VERSION:2.0
PRODID:-//Notorious Jazz - ECPv6.15.17//NONSGML v1.0//EN
CALSCALE:GREGORIAN
METHOD:PUBLISH
X-ORIGINAL-URL:https://notoriousjazz.com
X-WR-CALDESC:Events for Notorious Jazz
REFRESH-INTERVAL;VALUE=DURATION:PT1H
X-Robots-Tag:noindex
X-PUBLISHED-TTL:PT1H
BEGIN:VTIMEZONE
TZID:America/New_York
BEGIN:DAYLIGHT
TZOFFSETFROM:-0500
TZOFFSETTO:-0400
TZNAME:EDT
DTSTART:20230312T070000
END:DAYLIGHT
BEGIN:STANDARD
TZOFFSETFROM:-0400
TZOFFSETTO:-0500
TZNAME:EST
DTSTART:20231105T060000
END:STANDARD
BEGIN:DAYLIGHT
TZOFFSETFROM:-0500
TZOFFSETTO:-0400
TZNAME:EDT
DTSTART:20240310T070000
END:DAYLIGHT
BEGIN:STANDARD
TZOFFSETFROM:-0400
TZOFFSETTO:-0500
TZNAME:EST
DTSTART:20241103T060000
END:STANDARD
BEGIN:DAYLIGHT
TZOFFSETFROM:-0500
TZOFFSETTO:-0400
TZNAME:EDT
DTSTART:20250309T070000
END:DAYLIGHT
BEGIN:STANDARD
TZOFFSETFROM:-0400
TZOFFSETTO:-0500
TZNAME:EST
DTSTART:20251102T060000
END:STANDARD
END:VTIMEZONE
BEGIN:VEVENT
DTSTART;TZID=America/New_York:20241121T190000
DTEND;TZID=America/New_York:20241121T223000
DTSTAMP:20260419T235445
CREATED:20241116T221702Z
LAST-MODIFIED:20241117T232014Z
UID:43465-1732215600-1732228200@notoriousjazz.com
SUMMARY:LORI WILLIAMS
DESCRIPTION:Acclaimed international Jazz vocalist Lori Williams has a most impressive resume as a performing artist\, music educator\, songwriter\, producer\, musical theater actress\, radio host\, business owner (PositiveMusicPM.org)\, and artist-in-residence with over 30 years of experience. Her annual vocal jazz tour and performance at music festivals have taken her to Europe (Austria\, Germany\, Slovakia\, Slovenia\, Russia\, Switzerland\, Czech Republic\, and Ukraine)\, Japan\,  The Caribbean (including Barbados\, British Virgin Islands\, Curaçao\, St. Lucia\, Turks and Caicos\, et. al)\, Mexico\, and across the USA. Her vocal jazz artist residencies have allowed her to work with and mentor students on college campuses in the United States and abroad. \nCover: $39.00 +fee
URL:https://notoriousjazz.com/event/lori-williams-3
LOCATION:South\, 600 N. Broad Street\, Philadelphia\, PA\, 19130\, United States
CATEGORIES:Club
ATTACH;FMTTYPE=image/png:https://notoriousjazz.com/wp-content/uploads/2024/11/LORI-WILLIAMS.png
END:VEVENT
BEGIN:VEVENT
DTSTART;TZID=America/New_York:20241121T193000
DTEND;TZID=America/New_York:20241121T210000
DTSTAMP:20260419T235445
CREATED:20241120T194047Z
LAST-MODIFIED:20241120T194047Z
UID:43547-1732217400-1732222800@notoriousjazz.com
SUMMARY:WYCLIFFE GORDON & FROST STUDIO JAZZ BAND
DESCRIPTION:Highly acclaimed musician Wycliffe Gordon enjoys an extraordinary career as a soloist\, as well as performing and touring with some of the world’s most sought-after jazz musicians. His high-energy\, traditional hard-swinging style captivates audiences across time–performing for dignitaries and heads- of-state to elementary school children. He is equally at home as a composer\, arranger and recording artist with over 50 recordings to his credit\, 24 of which he is leader or co-leader. He is one of America’s foremost music educators and currently serves as full time director of jazz studies at Augusta University and travels all over the world giving masterclasses and performances with college and university ensembles. \nPresenting Oscar Micheaux’s silent race film Within Our Gates\, synchronized with Wycliffe Gordon’s original score\, “Within These Gates of Mine.” This event powerfully fuses history and music\, highlighting the earliest surviving film by an African-American filmmaker. Within Our Gates is a dark and emotional indictment of American racial injustices. The concert features Gordon\, Etienne Charles\, a 20-piece jazz orchestra\, and vocalists. \nTickets: $15.00~$40.00
URL:https://notoriousjazz.com/event/wycliffe-gordon-frost-studio-jazz-band
LOCATION:Gusman Concert Hall\, 1314 Miller Drive\, Coral Gables\, FL\, 33146\, United States
CATEGORIES:Concert
ATTACH;FMTTYPE=image/png:https://notoriousjazz.com/wp-content/uploads/2023/08/WYCLIFFE-GORDON.png
END:VEVENT
BEGIN:VEVENT
DTSTART;TZID=America/New_York:20241121T220000
DTEND;TZID=America/New_York:20241121T235900
DTSTAMP:20260419T235445
CREATED:20241116T204520Z
LAST-MODIFIED:20241116T204520Z
UID:43459-1732226400-1732233540@notoriousjazz.com
SUMMARY:T.K. BLUE QUARTET
DESCRIPTION:jazz saxophonist\, flautist\, composer and educator from New York City\, his parents were Jamaican and Trinidadian\, and he has used their Afro-Caribbean musical styles in his own work. He has worked with\, among others\, Don Cherry\, Jayne Cortez\, the South African pianist Dollar Brand (now Abdullah Ibrahim)\, Randy Weston\, for whom he was musical director\, Jimmy Scott and fronts a powerhouse band of his own. \nCover: $35.00 +2 Drink Minimum
URL:https://notoriousjazz.com/event/t-k-blue-quartet-2
LOCATION:The Django\, 2 6th Avenue | The Roxy Hotel\, New York City\, NY\, 10013\, United States
CATEGORIES:Club
ATTACH;FMTTYPE=image/jpeg:https://notoriousjazz.com/wp-content/uploads/2024/11/T.K.-BLUE.jpg
END:VEVENT
END:VCALENDAR