BEGIN:VCALENDAR
VERSION:2.0
PRODID:-//Notorious Jazz - ECPv6.15.17//NONSGML v1.0//EN
CALSCALE:GREGORIAN
METHOD:PUBLISH
X-WR-CALNAME:Notorious Jazz
X-ORIGINAL-URL:https://notoriousjazz.com
X-WR-CALDESC:Events for Notorious Jazz
REFRESH-INTERVAL;VALUE=DURATION:PT1H
X-Robots-Tag:noindex
X-PUBLISHED-TTL:PT1H
BEGIN:VTIMEZONE
TZID:America/New_York
BEGIN:DAYLIGHT
TZOFFSETFROM:-0500
TZOFFSETTO:-0400
TZNAME:EDT
DTSTART:20230312T070000
END:DAYLIGHT
BEGIN:STANDARD
TZOFFSETFROM:-0400
TZOFFSETTO:-0500
TZNAME:EST
DTSTART:20231105T060000
END:STANDARD
BEGIN:DAYLIGHT
TZOFFSETFROM:-0500
TZOFFSETTO:-0400
TZNAME:EDT
DTSTART:20240310T070000
END:DAYLIGHT
BEGIN:STANDARD
TZOFFSETFROM:-0400
TZOFFSETTO:-0500
TZNAME:EST
DTSTART:20241103T060000
END:STANDARD
BEGIN:DAYLIGHT
TZOFFSETFROM:-0500
TZOFFSETTO:-0400
TZNAME:EDT
DTSTART:20250309T070000
END:DAYLIGHT
BEGIN:STANDARD
TZOFFSETFROM:-0400
TZOFFSETTO:-0500
TZNAME:EST
DTSTART:20251102T060000
END:STANDARD
END:VTIMEZONE
BEGIN:VEVENT
DTSTART;TZID=America/New_York:20241213T193000
DTEND;TZID=America/New_York:20241215T233000
DTSTAMP:20260419T204901
CREATED:20241202T022221Z
LAST-MODIFIED:20241202T022323Z
UID:43664-1734118200-1734305400@notoriousjazz.com
SUMMARY:ARTURO SANDOVAL
DESCRIPTION:A protégé of the legendary jazz master Dizzy Gillespie\, Arturo Sandoval was born  just two years after Gillespie became the first musician to bring Latin influences into American Jazz. Sandoval began studying classical trumpet at the age of twelve\, but it didn’t take him long to catch the excitement of the jazz world. He has since evolved into one of the world’s most acknowledged guardians of jazz trumpet and flugelhorn\, as well as a renowned classical artist\, pianist and composer. \nSandoval has been awarded 10 Grammy Awards\, and nominated 19 times; he has also received 6 Billboard Awards and an Emmy Award. The latter for his composing work on the entire underscore of the HBO movie based on his life\, “For Love or Country” that starred Andy Garcia as Arturo. His two latest Grammy award winning albums\, “Dear Diz “Everyday I think of you” and Tango “Como Yo Te Siento” are now available worldwide. Arturo Sandoval’s newest CD\, Eternamente Manzanero. Performing the music of revered Mexican romantic pianist/singer/songwriter\, Armando Manzanero\, this is a true labor of love. Performing Senor Manzanero’s music with co-headliner Jorge Calandrelli\, the album is a fresh\, modern and pleasant take on his beautiful bolero music. \nSandoval was a founding member of the Grammy Award-winning group Irakere\, whose explosive mixture of jazz\, classical\, rock and traditional Cuban music caused a sensation throughout the entertainment world. In 1981\, he left Irakere to form his own band\, which garnered enthusiastic praise from critics and audiences all over the world\, and continues to do so. \nTickets: $46.10 ~ $51.10
URL:https://notoriousjazz.com/event/arturo-sandoval-3
LOCATION:Yoshi’s\, 510 Embarcadero West\, Oakland\, CA\, 94607\, United States
CATEGORIES:Club
ATTACH;FMTTYPE=image/jpeg:https://notoriousjazz.com/wp-content/uploads/2022/07/ARTURO-SANDOVAL.jpg
END:VEVENT
END:VCALENDAR