BEGIN:VCALENDAR
VERSION:2.0
PRODID:-//Notorious Jazz - ECPv6.15.17//NONSGML v1.0//EN
CALSCALE:GREGORIAN
METHOD:PUBLISH
X-ORIGINAL-URL:https://notoriousjazz.com
X-WR-CALDESC:Events for Notorious Jazz
REFRESH-INTERVAL;VALUE=DURATION:PT1H
X-Robots-Tag:noindex
X-PUBLISHED-TTL:PT1H
BEGIN:VTIMEZONE
TZID:America/New_York
BEGIN:DAYLIGHT
TZOFFSETFROM:-0500
TZOFFSETTO:-0400
TZNAME:EDT
DTSTART:20240310T070000
END:DAYLIGHT
BEGIN:STANDARD
TZOFFSETFROM:-0400
TZOFFSETTO:-0500
TZNAME:EST
DTSTART:20241103T060000
END:STANDARD
BEGIN:DAYLIGHT
TZOFFSETFROM:-0500
TZOFFSETTO:-0400
TZNAME:EDT
DTSTART:20250309T070000
END:DAYLIGHT
BEGIN:STANDARD
TZOFFSETFROM:-0400
TZOFFSETTO:-0500
TZNAME:EST
DTSTART:20251102T060000
END:STANDARD
BEGIN:DAYLIGHT
TZOFFSETFROM:-0500
TZOFFSETTO:-0400
TZNAME:EDT
DTSTART:20260308T070000
END:DAYLIGHT
BEGIN:STANDARD
TZOFFSETFROM:-0400
TZOFFSETTO:-0500
TZNAME:EST
DTSTART:20261101T060000
END:STANDARD
END:VTIMEZONE
BEGIN:VEVENT
DTSTART;TZID=America/New_York:20250102T190000
DTEND;TZID=America/New_York:20250105T235900
DTSTAMP:20260419T192339
CREATED:20241230T045727Z
LAST-MODIFIED:20250101T134825Z
UID:44000-1735844400-1736121540@notoriousjazz.com
SUMMARY:JEFF "TAIN" WATTS
DESCRIPTION:Kick off the New Year by celebrating drummer Jeff “Tain” Watts’ 65th birthday at Dizzy’s Club. This multi-Grammy winner and Guggenheim fellow leads an all-star band for a high-energy\, four-night run. Tain’s distinct blend of swing\, innovation\, and soul\, honed through collaborations with legends like Wynton Marsalis and McCoy Tyner. The nights are sure to ignite the stage on fire. \nPerformance Lineup: Jeff “Tain” Watts\, drums | Ravi Coltrane\, saxophone | Paul Bollenback\, guitar  | James Francies\, piano | James Genus\, double bass \nTickets: $25.00~$60.00 | Some performances Sold Out
URL:https://notoriousjazz.com/event/jeff-tain-watts
LOCATION:Dizzy’s Club\, 10 Columbus Circle\, New York City\, NY\, 10019\, United States
CATEGORIES:Club
ATTACH;FMTTYPE=image/png:https://notoriousjazz.com/wp-content/uploads/2024/12/DIZZY-WATTS.png
END:VEVENT
BEGIN:VEVENT
DTSTART;TZID=America/New_York:20250105T080000
DTEND;TZID=America/New_York:20250105T170000
DTSTAMP:20260419T192339
CREATED:20250106T031644Z
LAST-MODIFIED:20250106T031644Z
UID:44093-1736064000-1736096400@notoriousjazz.com
SUMMARY:ANN HAMPTON CALLAWAY
DESCRIPTION:The Best of Ann Hampton Callaway\, the new show by the Tony nominated singer-songwriter. With her trio led by Grammy-winner Billy Stritch\, Callaway dazzles us with highlights from her hit shows The Streisand Songbook\, Ann Hampton Callaway Sings the ‘70s\, The Linda Ronstadt Songbook\, To Ella with Love\, From Sassy to Divine: The Sarah Vaughan Project\, and Finding Beauty: Inspired Classics and Originals. Come see why Christopher Loudon of Jazz Times calls her the “…superbly intelligent\, singularly creative pop-jazz stylist who can stand shoulder to shoulder with the likes of Streisand\, Ronstadt\, Shirley Horn\, and Dianne Reeves…” \nJoined by: Tim Horner on drums\, Martin Wind on bass \n  \nCover: $56.50~$62.00 \nStreaming: $28.50 \nAdditional food & beverage minimum of $25 per person.
URL:https://notoriousjazz.com/event/ann-hampton-callaway-2
LOCATION:54 Below\, 254 W 54th Street\, New York City\, NY\, 10019\, United States
CATEGORIES:Club
ATTACH;FMTTYPE=image/png:https://notoriousjazz.com/wp-content/uploads/2025/01/ANN-HAPTON-CALLAWAY-54-BELOW.png
END:VEVENT
BEGIN:VEVENT
DTSTART;TZID=America/New_York:20250105T160000
DTEND;TZID=America/New_York:20250105T193000
DTSTAMP:20260419T192339
CREATED:20241230T065158Z
LAST-MODIFIED:20241230T065158Z
UID:44006-1736092800-1736105400@notoriousjazz.com
SUMMARY:ABELITA MATEUS TRIO
DESCRIPTION:Singer\, pianist and São Paulo native Abelita Mateus is in the vanguard of the next wave of soulful and hypnotic 21st Century Brazilian music. \nA New Yorker since 2012\, her 2017 debut album Vivenda made the jazz chart’s Top 25 and Downbeat wrote that her 2018 follow-up record Mixed Feelings “shows off an impressive ability to synthesize the sounds of her Brazilian home with jazz\, the music that inspired her move to the States.” \nTickets: $25.00 +Fee
URL:https://notoriousjazz.com/event/abelita-mateus-trio
LOCATION:Jazz Forum Arts\, 1 Dixon Lane\, Tarrytown\, NY\, 10591\, United States
CATEGORIES:Club
ATTACH;FMTTYPE=image/png:https://notoriousjazz.com/wp-content/uploads/2024/12/ABELITA-MATEUS-JAZZ-FORUM-ARTS.png
END:VEVENT
END:VCALENDAR