BEGIN:VCALENDAR
VERSION:2.0
PRODID:-//Notorious Jazz - ECPv6.15.17//NONSGML v1.0//EN
CALSCALE:GREGORIAN
METHOD:PUBLISH
X-WR-CALNAME:Notorious Jazz
X-ORIGINAL-URL:https://notoriousjazz.com
X-WR-CALDESC:Events for Notorious Jazz
REFRESH-INTERVAL;VALUE=DURATION:PT1H
X-Robots-Tag:noindex
X-PUBLISHED-TTL:PT1H
BEGIN:VTIMEZONE
TZID:America/Bahia
BEGIN:STANDARD
TZOFFSETFROM:-0300
TZOFFSETTO:-0300
TZNAME:-03
DTSTART:20240101T000000
END:STANDARD
END:VTIMEZONE
BEGIN:VTIMEZONE
TZID:America/New_York
BEGIN:DAYLIGHT
TZOFFSETFROM:-0500
TZOFFSETTO:-0400
TZNAME:EDT
DTSTART:20240310T070000
END:DAYLIGHT
BEGIN:STANDARD
TZOFFSETFROM:-0400
TZOFFSETTO:-0500
TZNAME:EST
DTSTART:20241103T060000
END:STANDARD
BEGIN:DAYLIGHT
TZOFFSETFROM:-0500
TZOFFSETTO:-0400
TZNAME:EDT
DTSTART:20250309T070000
END:DAYLIGHT
BEGIN:STANDARD
TZOFFSETFROM:-0400
TZOFFSETTO:-0500
TZNAME:EST
DTSTART:20251102T060000
END:STANDARD
BEGIN:DAYLIGHT
TZOFFSETFROM:-0500
TZOFFSETTO:-0400
TZNAME:EDT
DTSTART:20260308T070000
END:DAYLIGHT
BEGIN:STANDARD
TZOFFSETFROM:-0400
TZOFFSETTO:-0500
TZNAME:EST
DTSTART:20261101T060000
END:STANDARD
END:VTIMEZONE
BEGIN:VEVENT
DTSTART;TZID=America/Bahia:20250125T170000
DTEND;TZID=America/Bahia:20250125T183000
DTSTAMP:20260419T153933
CREATED:20250109T174343Z
LAST-MODIFIED:20250109T214254Z
UID:44164-1737824400-1737829800@notoriousjazz.com
SUMMARY:PRINCESS LÁ TREMENDA
DESCRIPTION:The MPB Jazz show with Princess Lá Tremenda promises an unforgettable experience\, combining the smoothness and melodic richness of MPB with the freedom and complexity of jazz.  \nDuring the performance\, the public will be able to enjoy a diverse repertoire that includes classics by artists such as Caetano Veloso\, Buena Vista Social Club\, Luedji Luna\, Ray Charles… as well as original compositions by Princess herself. \nPrincess Lá Tremenda is an American singer and songwriter\, recognized for her unique ability to merge the rich tradition of Brazilian Popular Music with contemporary jazz influences. Born in New York City\, Princess brings with her a diverse musical heritage that includes elements of soul\, funk and blues\, creating an original style that captivates audiences around the world. \nWith a career marked by international collaborations and performances at renowned festivals\, Realities\, Public Squares… Princess is an artist who stands out for her magnetic stage presence and emotional interpretation. \nThe MPB Jazz show with Princess Lá Tremenda is not just a musical presentation\, but a cultural celebration that unites influences from different parts of the world. With her striking voice and charisma\, Princess promises to take the audience on an unforgettable musical journey. Don’t miss the opportunity to experience this unique experience! \nShowtime: 3:00pm Eastern | 5:oopm Bahia \nTickets: Ingresso Inteira (Full Ticket) R$ 40\,00 ($6.50) + R$ 4\,00 taxa ($.65) em até 10x R$ 5\,29 (up to $.86) \nIngresso Inteira meia-entrada (Half Price) R$ 20\,00 ($3.20) + R$ 2\,50 taxa ($.41) em até 4x R$ 6\,12 (up to $1.00}\n 
URL:https://notoriousjazz.com/event/princess-la-tremenda
LOCATION:FL
CATEGORIES:Theatre
ATTACH;FMTTYPE=image/png:https://notoriousjazz.com/wp-content/uploads/2025/01/PRINCESS-LA-TREMENDA-@-TEATRO-GAMBOA.png
END:VEVENT
BEGIN:VEVENT
DTSTART;TZID=America/New_York:20250125T173000
DTEND;TZID=America/New_York:20250126T230000
DTSTAMP:20260419T153933
CREATED:20250111T064637Z
LAST-MODIFIED:20250111T072741Z
UID:44202-1737826200-1737932400@notoriousjazz.com
SUMMARY:FREDA PAYNE
DESCRIPTION:Freda Payne is a Detroit native who never realized her talents until the early age of twelve. Her piano teacher discovered her singing ability and from that point on Freda was singing for local affairs around Detroit and even entered talent contest on local TV as well as the national TV show\, Ted Mack Original Amateur Hour. At age fourteen she joined The Don Large’s Make Way for Youth radio show broadcasted on station WJR in the penthouse of the Fisher Bldg. Freda’s first album deal was on the Impulse label with ABC Paramount in New York. After The Lights Go Down Low and much more. Recording her next album three years later on MGM records. Was an early protégé of Quincy Jones during his big band era\, also performed at the Montreux Jazz Festival in 2008 in honor of Quincy’s seventy fifth birthday celebration. \nShe has just released her latest 26th CD\, Capitol Records Studio Recording Jazz Big Band cd Let There Be Love full of Duets with Johnny Mathis\, Dee Dee Bridgewater\, Kurt Elling and Kenny Latimore that is charting the jazz charts. Her previous CD Come Back Love on the Artistry label for Mack Ave\, was a return to Freda’s true jazz roots \nTickets: $50.00 + $7.00 fee | $15 food/beverage minimum per person not included in ticket price.
URL:https://notoriousjazz.com/event/freda-payne
LOCATION:Blues Alley\, 1073 Wisconsin Avenue NW\, Washington\, DC\, 20007\, United States
CATEGORIES:Club
ATTACH;FMTTYPE=image/jpeg:https://notoriousjazz.com/wp-content/uploads/2025/01/FREDA-PAYNE-@-BLUES-ALLEY.jpeg
END:VEVENT
END:VCALENDAR