BEGIN:VCALENDAR
VERSION:2.0
PRODID:-//Notorious Jazz - ECPv6.15.17//NONSGML v1.0//EN
CALSCALE:GREGORIAN
METHOD:PUBLISH
X-WR-CALNAME:Notorious Jazz
X-ORIGINAL-URL:https://notoriousjazz.com
X-WR-CALDESC:Events for Notorious Jazz
REFRESH-INTERVAL;VALUE=DURATION:PT1H
X-Robots-Tag:noindex
X-PUBLISHED-TTL:PT1H
BEGIN:VTIMEZONE
TZID:America/Chicago
BEGIN:DAYLIGHT
TZOFFSETFROM:-0600
TZOFFSETTO:-0500
TZNAME:CDT
DTSTART:20240310T080000
END:DAYLIGHT
BEGIN:STANDARD
TZOFFSETFROM:-0500
TZOFFSETTO:-0600
TZNAME:CST
DTSTART:20241103T070000
END:STANDARD
BEGIN:DAYLIGHT
TZOFFSETFROM:-0600
TZOFFSETTO:-0500
TZNAME:CDT
DTSTART:20250309T080000
END:DAYLIGHT
BEGIN:STANDARD
TZOFFSETFROM:-0500
TZOFFSETTO:-0600
TZNAME:CST
DTSTART:20251102T070000
END:STANDARD
BEGIN:DAYLIGHT
TZOFFSETFROM:-0600
TZOFFSETTO:-0500
TZNAME:CDT
DTSTART:20260308T080000
END:DAYLIGHT
BEGIN:STANDARD
TZOFFSETFROM:-0500
TZOFFSETTO:-0600
TZNAME:CST
DTSTART:20261101T070000
END:STANDARD
END:VTIMEZONE
BEGIN:VEVENT
DTSTART;TZID=America/Chicago:20250129T193000
DTEND;TZID=America/Chicago:20250131T230000
DTSTAMP:20260419T135832
CREATED:20250109T220615Z
LAST-MODIFIED:20250126T140924Z
UID:44167-1738179000-1738364400@notoriousjazz.com
SUMMARY:TIERNEY SUTTON
DESCRIPTION:A 9-time Grammy nominee\, Tierney Sutton is known for her impeccable voice and superbly imaginative arrangements. She is heralded for her ability to transform even the most familiar song into a revelation. She is a story-teller. \nSince 1993 Sutton has fronted The Tierney Sutton Band. She will be making her debut at Jazz St Louis with her virtuoso bandmates of 30 years\, pianist Christian Jacob and bassist Trey Henry as well as young drum phenom CV Dashiell III. \nDirector Clint Eastwood has called Sutton “my favorite singer” and hired her\, along with TSB pianist Christian Jacob and The Tierney Sutton Band to score his 2016 film\, “Sully”. \nSutton has taught at USC’s Thornton School of Music\, The Jacobs school of Music at Indiana University\, The Los Angeles College of Music in Pasadena\, CA.\, and currently serves on the faculty of The Centre Des Musiques Didier Lockwood in France. She has given workshops and masterclasses throughout the world and has taught and mentored some of the finest new generation of singers including April Varner\, Sara Gazarek and Gretchen Parlato. \nTickets: $40.00~$50.00 \n 
URL:https://notoriousjazz.com/event/tierney-sutton-3
LOCATION:Jazz St. Louis\, 3536 Washington Avenue\, St. Louis\, MO\, 63103\, United States
CATEGORIES:Club
ATTACH;FMTTYPE=image/png:https://notoriousjazz.com/wp-content/uploads/2025/01/TIERNEY-SUTTON-@-JAZZ-ST.-LOUIS.png
END:VEVENT
END:VCALENDAR