BEGIN:VCALENDAR
VERSION:2.0
PRODID:-//Notorious Jazz - ECPv6.15.17//NONSGML v1.0//EN
CALSCALE:GREGORIAN
METHOD:PUBLISH
X-WR-CALNAME:Notorious Jazz
X-ORIGINAL-URL:https://notoriousjazz.com
X-WR-CALDESC:Events for Notorious Jazz
REFRESH-INTERVAL;VALUE=DURATION:PT1H
X-Robots-Tag:noindex
X-PUBLISHED-TTL:PT1H
BEGIN:VTIMEZONE
TZID:America/New_York
BEGIN:DAYLIGHT
TZOFFSETFROM:-0500
TZOFFSETTO:-0400
TZNAME:EDT
DTSTART:20240310T070000
END:DAYLIGHT
BEGIN:STANDARD
TZOFFSETFROM:-0400
TZOFFSETTO:-0500
TZNAME:EST
DTSTART:20241103T060000
END:STANDARD
BEGIN:DAYLIGHT
TZOFFSETFROM:-0500
TZOFFSETTO:-0400
TZNAME:EDT
DTSTART:20250309T070000
END:DAYLIGHT
BEGIN:STANDARD
TZOFFSETFROM:-0400
TZOFFSETTO:-0500
TZNAME:EST
DTSTART:20251102T060000
END:STANDARD
BEGIN:DAYLIGHT
TZOFFSETFROM:-0500
TZOFFSETTO:-0400
TZNAME:EDT
DTSTART:20260308T070000
END:DAYLIGHT
BEGIN:STANDARD
TZOFFSETFROM:-0400
TZOFFSETTO:-0500
TZNAME:EST
DTSTART:20261101T060000
END:STANDARD
END:VTIMEZONE
BEGIN:VEVENT
DTSTART;TZID=America/New_York:20250225T190000
DTEND;TZID=America/New_York:20250225T223000
DTSTAMP:20260419T122021
CREATED:20250217T034239Z
LAST-MODIFIED:20250217T034239Z
UID:44653-1740510000-1740522600@notoriousjazz.com
SUMMARY:KELLY GREEN QUARTET
DESCRIPTION:Kelly’s remarkable talent has led her to share the stage with jazz legends such as Christian McBride\, George Coleman\, and many others showcasing her exceptional skill\, empathy\, and musicality. She has captivated audiences at prestigious venues like The Kennedy Center and has toured with her band all over the US\, Europe\, and South America. \nKelly  Green ~ piano & vocals | Elijah J. Thomas ~ flutes | Luca Soul Rosenfield ~ bass | Evan Hyde ~ drums \nTickets: $35.00
URL:https://notoriousjazz.com/event/kelly-green-quartet
LOCATION:Zinc Bar\, 82 West 3rd Street\, New York City\, NY\, 10012\, United States
CATEGORIES:Club
ATTACH;FMTTYPE=image/png:https://notoriousjazz.com/wp-content/uploads/2025/02/KELLY-GREEN-@-ZINC-BAR.png
END:VEVENT
END:VCALENDAR