BEGIN:VCALENDAR
VERSION:2.0
PRODID:-//Notorious Jazz - ECPv6.15.17//NONSGML v1.0//EN
CALSCALE:GREGORIAN
METHOD:PUBLISH
X-WR-CALNAME:Notorious Jazz
X-ORIGINAL-URL:https://notoriousjazz.com
X-WR-CALDESC:Events for Notorious Jazz
REFRESH-INTERVAL;VALUE=DURATION:PT1H
X-Robots-Tag:noindex
X-PUBLISHED-TTL:PT1H
BEGIN:VTIMEZONE
TZID:America/Chicago
BEGIN:DAYLIGHT
TZOFFSETFROM:-0600
TZOFFSETTO:-0500
TZNAME:CDT
DTSTART:20240310T080000
END:DAYLIGHT
BEGIN:STANDARD
TZOFFSETFROM:-0500
TZOFFSETTO:-0600
TZNAME:CST
DTSTART:20241103T070000
END:STANDARD
BEGIN:DAYLIGHT
TZOFFSETFROM:-0600
TZOFFSETTO:-0500
TZNAME:CDT
DTSTART:20250309T080000
END:DAYLIGHT
BEGIN:STANDARD
TZOFFSETFROM:-0500
TZOFFSETTO:-0600
TZNAME:CST
DTSTART:20251102T070000
END:STANDARD
BEGIN:DAYLIGHT
TZOFFSETFROM:-0600
TZOFFSETTO:-0500
TZNAME:CDT
DTSTART:20260308T080000
END:DAYLIGHT
BEGIN:STANDARD
TZOFFSETFROM:-0500
TZOFFSETTO:-0600
TZNAME:CST
DTSTART:20261101T070000
END:STANDARD
END:VTIMEZONE
BEGIN:VTIMEZONE
TZID:America/Vancouver
BEGIN:DAYLIGHT
TZOFFSETFROM:-0800
TZOFFSETTO:-0700
TZNAME:PDT
DTSTART:20240310T100000
END:DAYLIGHT
BEGIN:STANDARD
TZOFFSETFROM:-0700
TZOFFSETTO:-0800
TZNAME:PST
DTSTART:20241103T090000
END:STANDARD
BEGIN:DAYLIGHT
TZOFFSETFROM:-0800
TZOFFSETTO:-0700
TZNAME:PDT
DTSTART:20250309T100000
END:DAYLIGHT
BEGIN:STANDARD
TZOFFSETFROM:-0700
TZOFFSETTO:-0800
TZNAME:PST
DTSTART:20251102T090000
END:STANDARD
BEGIN:DAYLIGHT
TZOFFSETFROM:-0800
TZOFFSETTO:-0700
TZNAME:PDT
DTSTART:20260308T100000
END:DAYLIGHT
BEGIN:STANDARD
TZOFFSETFROM:-0700
TZOFFSETTO:-0800
TZNAME:PST
DTSTART:20261101T090000
END:STANDARD
END:VTIMEZONE
BEGIN:VEVENT
DTSTART;TZID=America/Chicago:20250228T183000
DTEND;TZID=America/Chicago:20250302T230000
DTSTAMP:20260419T122021
CREATED:20250224T031211Z
LAST-MODIFIED:20250224T031211Z
UID:44738-1740767400-1740956400@notoriousjazz.com
SUMMARY:LAKECIA BENJAMIN
DESCRIPTION:Lakecia Benjamin is a 5-time Grammy-nominated saxophonist\, composer\, arranger\, and educator whose music blends jazz\, funk\, R&B\, and hip-hop. Known for her warm tone and dynamic performances\, she has collaborated with artists such as Missy Elliott\, Alicia Keys\, Gregory Porter\, and Terri Lyne Carrington. \nBenjamin has released several acclaimed albums\, including Pursuance: The Coltranes (2020) and Phoenix (2023)\, which earned three Grammy nominations. A New York City native\, she studied at the New School under jazz legends like Gary Bartz and Reggie Workman\, honing her craft while touring with luminaries across genres. \nTickets: $45.00~$50.00 \nShowtimes: \n\nFeb 28\, 2025 9:30PM\nMar 01\, 2025 7:30PM\nMar 01\, 2025 9:30PM\nMar 02\, 2025 6:30PM
URL:https://notoriousjazz.com/event/lakecia-benjamin-2
LOCATION:FL
CATEGORIES:Club
ATTACH;FMTTYPE=image/png:https://notoriousjazz.com/wp-content/uploads/2025/02/LAKECIA-BENJAMIN-@-JAZZ-ST.-LOUIS.png
END:VEVENT
BEGIN:VEVENT
DTSTART;TZID=America/Vancouver:20250302T200000
DTEND;TZID=America/Vancouver:20250302T220000
DTSTAMP:20260419T122021
CREATED:20250224T041323Z
LAST-MODIFIED:20250224T041349Z
UID:44748-1740945600-1740952800@notoriousjazz.com
SUMMARY:CHRISTIE GRACE
DESCRIPTION:Christie Grace returns to Frankie’s\, showcasing Burt Bacharach’s classics with her signature velvety voice Paul Shaffer describes as “sweet honey & fine wine.” Following last summer’s sold-out show\, she and her stellar band bring soulful new facets to these cherished songs. Jazz legend Sheila Jordan captures Christie’s evocative essence: “When I hear Christie sing\, I believeevery word. She’s beautiful and then some”. \nThe Band: Christie Grace – vocals\, Tom Arntzen – piano/vocals\, Bill Runge – tenor sax/ flute\, Conrad Good – bass\, Buff Allen – drums. \nTickets: $23.00
URL:https://notoriousjazz.com/event/christie-grace
LOCATION:Frankie’s Jazz Club\, 755 Beatty Street\, Vancouver\, British Columbia\, V6B 2M4\, Canada
CATEGORIES:Club
ATTACH;FMTTYPE=image/png:https://notoriousjazz.com/wp-content/uploads/2025/02/CHRISTIE-GRACE-@-FRANKIES-JAZZ-CLUB.png
END:VEVENT
END:VCALENDAR