BEGIN:VCALENDAR
VERSION:2.0
PRODID:-//Notorious Jazz - ECPv6.15.17//NONSGML v1.0//EN
CALSCALE:GREGORIAN
METHOD:PUBLISH
X-ORIGINAL-URL:https://notoriousjazz.com
X-WR-CALDESC:Events for Notorious Jazz
REFRESH-INTERVAL;VALUE=DURATION:PT1H
X-Robots-Tag:noindex
X-PUBLISHED-TTL:PT1H
BEGIN:VTIMEZONE
TZID:America/New_York
BEGIN:DAYLIGHT
TZOFFSETFROM:-0500
TZOFFSETTO:-0400
TZNAME:EDT
DTSTART:20240310T070000
END:DAYLIGHT
BEGIN:STANDARD
TZOFFSETFROM:-0400
TZOFFSETTO:-0500
TZNAME:EST
DTSTART:20241103T060000
END:STANDARD
BEGIN:DAYLIGHT
TZOFFSETFROM:-0500
TZOFFSETTO:-0400
TZNAME:EDT
DTSTART:20250309T070000
END:DAYLIGHT
BEGIN:STANDARD
TZOFFSETFROM:-0400
TZOFFSETTO:-0500
TZNAME:EST
DTSTART:20251102T060000
END:STANDARD
BEGIN:DAYLIGHT
TZOFFSETFROM:-0500
TZOFFSETTO:-0400
TZNAME:EDT
DTSTART:20260308T070000
END:DAYLIGHT
BEGIN:STANDARD
TZOFFSETFROM:-0400
TZOFFSETTO:-0500
TZNAME:EST
DTSTART:20261101T060000
END:STANDARD
END:VTIMEZONE
BEGIN:VEVENT
DTSTART;TZID=America/New_York:20250317T200000
DTEND;TZID=America/New_York:20250317T213000
DTSTAMP:20260419T123121
CREATED:20250302T154622Z
LAST-MODIFIED:20250302T155453Z
UID:44825-1742241600-1742247000@notoriousjazz.com
SUMMARY:JANE MONHEIT
DESCRIPTION:Jane Monheit is a jazz and adult contemporary vocalist with a deep passion for the Great American Songbook. With many highly acclaimed solo albums\, countless awards and accolades\, and over two decades of international touring experience\, Jane has not only been an extremely successful bandleader\, but has had the privilege of making music with some of the greatest musicians\, arrangers\, and producers in jazz. \nDuring her childhood\, Jane studied woodwinds and piano\, spent a decade performing in award winning choirs\, and participated in community theater on Long Island. Throughout all of this\, her focus remained on jazz\, especially interpretation of the Songbook. At the age of 20\, during her senior year at the prestigious Manhattan School Of Music\, Jane placed second in the Thelonious Monk Competition\, now known as the Hancock Competition. This led to an incredible career trajectory\, catapulting Jane into the jazz stratosphere nearly overnight. \nBy 22\, Jane was working with legends such as Tommy Flanagan\, Ron Carter\, and Kenny Barron\, recording her first albums\, and touring the planet. This led to collaborations with jazz luminaries such as Terence Blanchard\, Ivan Lins\, Tom Harrell\, John Pizzarelli\, Christian McBride\, Vince Mendoza\, Jorge Calandrelli\, and many more. Countless television appearances followed\, including David Letterman\, Conan O’Brien\, CBS Sunday Morning\, Good Morning America\, The Tonight Show\, The View\, and many popular international talk shows. Several successful film soundtracks have also included Jane’s music\, including Sky Captain And The World Of Tomorrow and Never Let Me Go. \nTICKETS: $25.00 ~ $40.00
URL:https://notoriousjazz.com/event/jane-monheit-4
LOCATION:City Winery Atlanta\, Ponce City Market\, 650 North Avenue NE\, Atlanta\, GA\, 30308\, United States
CATEGORIES:Club
ATTACH;FMTTYPE=image/png:https://notoriousjazz.com/wp-content/uploads/2025/03/JANE-MONHEIT-@-CITY-WINERY-ATL.png
END:VEVENT
END:VCALENDAR