BEGIN:VCALENDAR
VERSION:2.0
PRODID:-//Notorious Jazz - ECPv6.15.17//NONSGML v1.0//EN
CALSCALE:GREGORIAN
METHOD:PUBLISH
X-ORIGINAL-URL:https://notoriousjazz.com
X-WR-CALDESC:Events for Notorious Jazz
REFRESH-INTERVAL;VALUE=DURATION:PT1H
X-Robots-Tag:noindex
X-PUBLISHED-TTL:PT1H
BEGIN:VTIMEZONE
TZID:America/New_York
BEGIN:DAYLIGHT
TZOFFSETFROM:-0500
TZOFFSETTO:-0400
TZNAME:EDT
DTSTART:20240310T070000
END:DAYLIGHT
BEGIN:STANDARD
TZOFFSETFROM:-0400
TZOFFSETTO:-0500
TZNAME:EST
DTSTART:20241103T060000
END:STANDARD
BEGIN:DAYLIGHT
TZOFFSETFROM:-0500
TZOFFSETTO:-0400
TZNAME:EDT
DTSTART:20250309T070000
END:DAYLIGHT
BEGIN:STANDARD
TZOFFSETFROM:-0400
TZOFFSETTO:-0500
TZNAME:EST
DTSTART:20251102T060000
END:STANDARD
BEGIN:DAYLIGHT
TZOFFSETFROM:-0500
TZOFFSETTO:-0400
TZNAME:EDT
DTSTART:20260308T070000
END:DAYLIGHT
BEGIN:STANDARD
TZOFFSETFROM:-0400
TZOFFSETTO:-0500
TZNAME:EST
DTSTART:20261101T060000
END:STANDARD
END:VTIMEZONE
BEGIN:VEVENT
DTSTART;TZID=America/New_York:20250326T180000
DTEND;TZID=America/New_York:20250326T213000
DTSTAMP:20260419T123154
CREATED:20250313T022649Z
LAST-MODIFIED:20250313T122049Z
UID:45007-1743012000-1743024600@notoriousjazz.com
SUMMARY:CHARLES HEATH
DESCRIPTION:Originating from Chicago\, Illinois\, Charles “Rick” Heath IV is a versatile and renowned musician from local to international levels. Playing anything from Jazz and Blues to Gospel and Latin music\, his signature sound is prominent in the recording studios\, concert settings\, live Broadway theater platforms\, and currently as the drummer for pianist and jazz legend Ramsey Lewis. Some of his proudest accolades include works with Donald Byrd\, McCoy Tyner\, and Slide Hampton. He also served as the resident drummer with the national tour of Oprah Winfrey and Quincy Jones’ theater production of “The Color Purple.” He is often rotating hats of composer\, band leader\, recording artist\, musical director\, producer and teacher and simply inspires and outreaches to his surrounding communities at all times. \n\n\nHeath’s prominent sound can be heard on recordings with Ramsey Lewis\, Robert “Babe” Irving III\, Bobby Broom\, Zvonimir Tot\, Larry Gray\, Sergio Perez\, Ken Chaney and the Roger Harris Trio. He proudly launched his first independent recording project entitled “Conversations” encompassing the sound of his very own Charles Heath Quartet. \nCover Charge: $15.00 \nShowtimes:  6:00pm-7:15pm & 8:15-9:30pm
URL:https://notoriousjazz.com/event/45007
LOCATION:Andy’s\, 11 E Hubbard Street\, Chicago\, IL\, 60611\, United States
CATEGORIES:Club
ATTACH;FMTTYPE=image/png:https://notoriousjazz.com/wp-content/uploads/2025/03/CHARLES-HEATH-@-ANDYS.png
END:VEVENT
BEGIN:VEVENT
DTSTART;TZID=America/New_York:20250326T193000
DTEND;TZID=America/New_York:20250330T230000
DTSTAMP:20260419T123154
CREATED:20250312T205734Z
LAST-MODIFIED:20250312T205734Z
UID:44996-1743017400-1743375600@notoriousjazz.com
SUMMARY:MELISSA ALDANA
DESCRIPTION:Grammy-nominated saxophonist and composer Melissa Aldana brings her visionary sound to Jazz St. Louis\, including music from her latest Blue Note Records release\, Echoes Of The Inner Prophet. Blending deep introspection with dynamic collaboration\, Aldana’s music explores themes of personal growth\, storytelling\, and sonic innovation. Influenced by jazz legends like Wayne Shorter and Sonny Rollins\, she crafts compelling compositions that push the boundaries of modern jazz while honoring its rich tradition. Don’t miss this opportunity to experience one of today’s most captivating jazz artists live at Jazz St. Louis! \nPerforming: \nMelissa Aldana – saxophone\nSam Yahel – piano\nJoe Martin – bass\nJK Kim – drums \nTickets: $40.00 ~ $50.00 \nShow times: 7:30pm & 9:30pm | 3.27 @ 11:00am
URL:https://notoriousjazz.com/event/melissa-aldana
LOCATION:Jazz St. Louis\, 3536 Washington Avenue\, St. Louis\, MO\, 63103\, United States
CATEGORIES:Club
ATTACH;FMTTYPE=image/png:https://notoriousjazz.com/wp-content/uploads/2025/03/MELISSA-ALDANA-@-JAZZ-ST.-LOUIS.png
END:VEVENT
END:VCALENDAR