BEGIN:VCALENDAR
VERSION:2.0
PRODID:-//Notorious Jazz - ECPv6.15.17//NONSGML v1.0//EN
CALSCALE:GREGORIAN
METHOD:PUBLISH
X-ORIGINAL-URL:https://notoriousjazz.com
X-WR-CALDESC:Events for Notorious Jazz
REFRESH-INTERVAL;VALUE=DURATION:PT1H
X-Robots-Tag:noindex
X-PUBLISHED-TTL:PT1H
BEGIN:VTIMEZONE
TZID:Europe/Zurich
BEGIN:DAYLIGHT
TZOFFSETFROM:+0100
TZOFFSETTO:+0200
TZNAME:CEST
DTSTART:20240331T010000
END:DAYLIGHT
BEGIN:STANDARD
TZOFFSETFROM:+0200
TZOFFSETTO:+0100
TZNAME:CET
DTSTART:20241027T010000
END:STANDARD
BEGIN:DAYLIGHT
TZOFFSETFROM:+0100
TZOFFSETTO:+0200
TZNAME:CEST
DTSTART:20250330T010000
END:DAYLIGHT
BEGIN:STANDARD
TZOFFSETFROM:+0200
TZOFFSETTO:+0100
TZNAME:CET
DTSTART:20251026T010000
END:STANDARD
BEGIN:DAYLIGHT
TZOFFSETFROM:+0100
TZOFFSETTO:+0200
TZNAME:CEST
DTSTART:20260329T010000
END:DAYLIGHT
BEGIN:STANDARD
TZOFFSETFROM:+0200
TZOFFSETTO:+0100
TZNAME:CET
DTSTART:20261025T010000
END:STANDARD
END:VTIMEZONE
BEGIN:VTIMEZONE
TZID:America/New_York
BEGIN:DAYLIGHT
TZOFFSETFROM:-0500
TZOFFSETTO:-0400
TZNAME:EDT
DTSTART:20240310T070000
END:DAYLIGHT
BEGIN:STANDARD
TZOFFSETFROM:-0400
TZOFFSETTO:-0500
TZNAME:EST
DTSTART:20241103T060000
END:STANDARD
BEGIN:DAYLIGHT
TZOFFSETFROM:-0500
TZOFFSETTO:-0400
TZNAME:EDT
DTSTART:20250309T070000
END:DAYLIGHT
BEGIN:STANDARD
TZOFFSETFROM:-0400
TZOFFSETTO:-0500
TZNAME:EST
DTSTART:20251102T060000
END:STANDARD
BEGIN:DAYLIGHT
TZOFFSETFROM:-0500
TZOFFSETTO:-0400
TZNAME:EDT
DTSTART:20260308T070000
END:DAYLIGHT
BEGIN:STANDARD
TZOFFSETFROM:-0400
TZOFFSETTO:-0500
TZNAME:EST
DTSTART:20261101T060000
END:STANDARD
END:VTIMEZONE
BEGIN:VEVENT
DTSTART;TZID=Europe/Zurich:20250408T193000
DTEND;TZID=Europe/Zurich:20250412T233000
DTSTAMP:20260419T105457
CREATED:20250330T171254Z
LAST-MODIFIED:20250406T162606Z
UID:45166-1744140600-1744500600@notoriousjazz.com
SUMMARY:BILL CHARLAP QUARTET
DESCRIPTION:Hailing from New York City and a musical family\, this celebrated jazz pianists and Grammy winner Bill Charlap brings the celebrated soloist\, composer\, bandleader and outstanding saxophonist Nicole Glover exclusively to Bern for one week for the first time. \nHe has performed with many of the leading artists of our time including: Wynton Marsalis\, Dee Dee Bridgewater\, Ron Carter\, Phil Woods\, Gerry Mulligan and Tony Bennett. The album\, “Tony Bennett and Bill Charlap: The Silver Lining\, The Songs of Jerome Kern” (RPM) won a 2016 Grammy for Best Traditional Pop Vocal Album. \nCurrently\, Nicole is a member of Ursa Major\, led by bassist Christian McBride\, and she performs often with Wynton Marsalis and the Jazz at Lincoln Center Orchestra. In August 2023\, she toured Australia with JLCO\, performing Marsalis’ symphonic work “All Rise” with the Melbourne Symphony Orchestra and the Sydney Symphony Orchestra. \nThe Band: Bill Charlap\, piano | Nicole Glover\, saxophone | David Wong\, bass | Carl Allen\, drums \nTickets: First Show ~ CHF 54 ($61.22) | Second Show ~ CHF 44 ($49.88)
URL:https://notoriousjazz.com/event/bill-charlap-quartet
LOCATION:Marians Jazzroom\, Engestrasse 54\,  3012 Bern\, Switzerland
CATEGORIES:Club
ATTACH;FMTTYPE=image/png:https://notoriousjazz.com/wp-content/uploads/2025/03/NICOLE-GLOVER-BILL-CHARLAP-@-MARIANS-JAZZROOM.png
END:VEVENT
BEGIN:VEVENT
DTSTART;TZID=America/New_York:20250411T190000
DTEND;TZID=America/New_York:20250411T230000
DTSTAMP:20260419T105457
CREATED:20250404T022941Z
LAST-MODIFIED:20250404T113501Z
UID:45284-1744398000-1744412400@notoriousjazz.com
SUMMARY:STEVE DAVIS
DESCRIPTION:Featuring voclaist/actress Abena Koomson~Davis\, who has starred in the Broadway production of Fela!\, and for over 15 years\, Abena has been the lead vocalist of the funk rock band Van Davis. She is the musical director for the Resistance Revival Chorus\, and her song “Joy in Resistance” is featured on their debut album\, entitled “This Joy.” \nAbena’s debut jazz album on WJ3 Records\, entitled “Where is Love” features time-honored standards and original compositions co-written with her husband\, acclaimed jazz trombonist Steve Davis. \nThe late trumpet giant Freddie Hubbard called Steve Davis\, “one of the great trombone players in the world\,” and whether on record or on stage\, “Stevie D” and his group always produce compelling\, enjoyable music. \nSteve’s vocalist wife Abena is featured on this gig as she is on his newest all-star album\, We See\, his 21st as a leader. A protégé of both Jackie McLean and Art Blakey\, Davis is perhaps his generation’s leading trombonist. \nTickets: $35.00 +fee $2.75
URL:https://notoriousjazz.com/event/steve-davis
LOCATION:Jazz Forum Arts\, 1 Dixon Lane\, Tarrytown\, NY\, 10591\, United States
CATEGORIES:Club
ATTACH;FMTTYPE=image/png:https://notoriousjazz.com/wp-content/uploads/2025/04/STEVE-DAVIS-@-JAZZ-FORUM-ARTS.png
END:VEVENT
BEGIN:VEVENT
DTSTART;TZID=America/New_York:20250411T200000
DTEND;TZID=America/New_York:20250411T220000
DTSTAMP:20260419T105457
CREATED:20250330T222430Z
LAST-MODIFIED:20250330T223153Z
UID:45193-1744401600-1744408800@notoriousjazz.com
SUMMARY:ARTURO SANDOVAL
DESCRIPTION:A protégé of Dizzy Gillespie\, Arturo Sandoval is one of the most dynamic performers of our time\, and has been seen by millions at the Oscars\, the Grammy Awards and the Billboard Music Awards. Sandoval has been awarded 10 Grammy Awards\, and been nominated 19 times. He has received six Billboard Music Awards and an Emmy Award\, the latter for his composing work on the score of the HBO movie based on his life\, For Love or Country\, which starred Andy Garcia. In 2013\, Sandoval was awarded the Presidential Medal of Freedom. \nSandoval was a founding member of the Grammy Award-winning group Irakere\, whose explosive mixture of jazz\, classical\, rock and traditional Cuban music caused a sensation throughout the world. In 1981\, he left Irakere to form his own band\, which garnered praise from critics and audiences\, and continues to do so. \nHe is joined internationally renowned Cuban pianist Chucho Valdes. \nTickets: $40.00 ~ $130.00
URL:https://notoriousjazz.com/event/arturo-sandoval-5
LOCATION:Adrienne Arsht Center | Knight Concert Hall\, 1300 Biscayne Boulevard\, Miami\, FL\, 33132\, United States
CATEGORIES:Concert
ATTACH;FMTTYPE=image/png:https://notoriousjazz.com/wp-content/uploads/2025/03/ARTURO-SANDOVAL-@-ADRIENNE-ARSHT.png
END:VEVENT
END:VCALENDAR