BEGIN:VCALENDAR
VERSION:2.0
PRODID:-//Notorious Jazz - ECPv6.15.17//NONSGML v1.0//EN
CALSCALE:GREGORIAN
METHOD:PUBLISH
X-ORIGINAL-URL:https://notoriousjazz.com
X-WR-CALDESC:Events for Notorious Jazz
REFRESH-INTERVAL;VALUE=DURATION:PT1H
X-Robots-Tag:noindex
X-PUBLISHED-TTL:PT1H
BEGIN:VTIMEZONE
TZID:America/New_York
BEGIN:DAYLIGHT
TZOFFSETFROM:-0500
TZOFFSETTO:-0400
TZNAME:EDT
DTSTART:20240310T070000
END:DAYLIGHT
BEGIN:STANDARD
TZOFFSETFROM:-0400
TZOFFSETTO:-0500
TZNAME:EST
DTSTART:20241103T060000
END:STANDARD
BEGIN:DAYLIGHT
TZOFFSETFROM:-0500
TZOFFSETTO:-0400
TZNAME:EDT
DTSTART:20250309T070000
END:DAYLIGHT
BEGIN:STANDARD
TZOFFSETFROM:-0400
TZOFFSETTO:-0500
TZNAME:EST
DTSTART:20251102T060000
END:STANDARD
BEGIN:DAYLIGHT
TZOFFSETFROM:-0500
TZOFFSETTO:-0400
TZNAME:EDT
DTSTART:20260308T070000
END:DAYLIGHT
BEGIN:STANDARD
TZOFFSETFROM:-0400
TZOFFSETTO:-0500
TZNAME:EST
DTSTART:20261101T060000
END:STANDARD
END:VTIMEZONE
BEGIN:VEVENT
DTSTART;TZID=America/New_York:20250421T210000
DTEND;TZID=America/New_York:20250421T230000
DTSTAMP:20260419T104555
CREATED:20250404T125444Z
LAST-MODIFIED:20250404T125444Z
UID:45309-1745269200-1745276400@notoriousjazz.com
SUMMARY:GARY MOTLEY
DESCRIPTION:Late Night Jazz Lab: Muse & The Flame Sessions with Gary Motley Quartet live at Eddie’s Attic! \nJoin us for an electrifying evening of jazz innovation as acclaimed pianist Gary Motley and his dynamic ensemble featuring Terreon Gulley\, drums\, Rod Harris\, guitar\, and Andy Eulau\, bass\, transform Eddie’s Attic into an intimate jazz laboratory. This unique 90-minute experience combines masterful performance with hands-on learning in Atlanta’s premier listening room. \nThe Evening Unfolds \n9:00 PM – Experience the artistry of Gary Motley Quartet as they showcase selections from his latest project “Muse and The Flame\,” featuring original compositions that blend traditional jazz vocabulary with contemporary innovation. \nInteractive Jazz Lab \nThe evening features a special workshop segment where a selected student quartet will perform\, receiving real-time guidance and insights from the pros. This rare opportunity offers musicians and audiences alike a glimpse into the collaborative spirit of jazz mastery. \nHis latest album\, “Muse and the Flame\,” features bassist Edwin Livingston and drummer Clarence Penn\, adding to a catalog that showcases his distinct voice at the piano. When he’s not performing at major jazz festivals across the U.S. and internationally\, you’ll find him at Emory University\, where he founded the Jazz Studies program. There\, he launched a technology-based Jazz Studio\, reimagining how jazz education meets the digital age. \nTickets: $20.00 ~ $25.00
URL:https://notoriousjazz.com/event/gary-motley
LOCATION:Eddie’s Attic\, 515-B North McDonough Street\, Decatur\, GA\, 30030\, United States
CATEGORIES:Club
ATTACH;FMTTYPE=image/png:https://notoriousjazz.com/wp-content/uploads/2025/04/GARY-MOTLEY-@-EDDIES-ATTIC.png
END:VEVENT
END:VCALENDAR