BEGIN:VCALENDAR
VERSION:2.0
PRODID:-//Notorious Jazz - ECPv6.15.17//NONSGML v1.0//EN
CALSCALE:GREGORIAN
METHOD:PUBLISH
X-ORIGINAL-URL:https://notoriousjazz.com
X-WR-CALDESC:Events for Notorious Jazz
REFRESH-INTERVAL;VALUE=DURATION:PT1H
X-Robots-Tag:noindex
X-PUBLISHED-TTL:PT1H
BEGIN:VTIMEZONE
TZID:America/New_York
BEGIN:DAYLIGHT
TZOFFSETFROM:-0500
TZOFFSETTO:-0400
TZNAME:EDT
DTSTART:20240310T070000
END:DAYLIGHT
BEGIN:STANDARD
TZOFFSETFROM:-0400
TZOFFSETTO:-0500
TZNAME:EST
DTSTART:20241103T060000
END:STANDARD
BEGIN:DAYLIGHT
TZOFFSETFROM:-0500
TZOFFSETTO:-0400
TZNAME:EDT
DTSTART:20250309T070000
END:DAYLIGHT
BEGIN:STANDARD
TZOFFSETFROM:-0400
TZOFFSETTO:-0500
TZNAME:EST
DTSTART:20251102T060000
END:STANDARD
BEGIN:DAYLIGHT
TZOFFSETFROM:-0500
TZOFFSETTO:-0400
TZNAME:EDT
DTSTART:20260308T070000
END:DAYLIGHT
BEGIN:STANDARD
TZOFFSETFROM:-0400
TZOFFSETTO:-0500
TZNAME:EST
DTSTART:20261101T060000
END:STANDARD
END:VTIMEZONE
BEGIN:VEVENT
DTSTART;TZID=America/New_York:20250426T170000
DTEND;TZID=America/New_York:20250427T220000
DTSTAMP:20260419T093158
CREATED:20250404T121102Z
LAST-MODIFIED:20250504T012919Z
UID:45303-1745686800-1745791200@notoriousjazz.com
SUMMARY:KENNY GARRETT
DESCRIPTION:Newly named an NEA Jazz Master in 2023\, saxophonist Kenny Garrett is one of the most powerfully expressive\, uplifting\, and influential instrumentalists and bandleaders of our time. Kenny’s fiery quintet swings into Keystone Korner Baltimore for 2 nights\, Saturday & Sunday\, April 26th & 27th\, to celebrate his latest release\, Sounds From The Ancestors\, which reflects the rich jazz\, R&B\, and gospel history of his hometown of Detroit and deeply resonates with the Afro-Caribbean rhythms of Cuba\, Nigeria and Guadeloupe. \nWith his illustrious career that includes hallmark stints with Miles Davis\, Art Blakey and The Jazz Messengers\, Donald Byrd\, Freddie Hubbard\, Woody Shaw and the Duke Ellington Orchestra\, as well as a heralded career as a solo artist that began more than 30 years ago\, Kenny Garrett is easily recognized as one of modern jazz’s brightest and most influential living masters. And with the marvelous Sounds From The Ancestors\, the GRAMMY® Award-winning Garrett shows no signs of resting on his laurels. \nKenny Garrett ~ saxophones\nKeith Brown ~ piano\nCorcoran Holt ~ bass\nRudy Bird ~ percussion\nRonald Bruner ~ drums\nMelvin Santa ~ vocals & keys \nTickets: $45 – $55 | $4.16 – $4.86 Fees \nShows: Saturday ~ 6:00pm & 8:30pm | Sunday ~ 5:00pm & 7:30pm
URL:https://notoriousjazz.com/event/kenny-garrett-3
LOCATION:Keystone Korner Baltimore\, 1350 Lancaster Street\, Baltimore\, MD\, 21231\, United States
CATEGORIES:Club
ATTACH;FMTTYPE=image/png:https://notoriousjazz.com/wp-content/uploads/2025/04/KENNY-GARRETT-@-KEYSTONE-KORNER-BALTIMORE.png
END:VEVENT
END:VCALENDAR