BEGIN:VCALENDAR
VERSION:2.0
PRODID:-//Notorious Jazz - ECPv6.15.17//NONSGML v1.0//EN
CALSCALE:GREGORIAN
METHOD:PUBLISH
X-ORIGINAL-URL:https://notoriousjazz.com
X-WR-CALDESC:Events for Notorious Jazz
REFRESH-INTERVAL;VALUE=DURATION:PT1H
X-Robots-Tag:noindex
X-PUBLISHED-TTL:PT1H
BEGIN:VTIMEZONE
TZID:America/New_York
BEGIN:DAYLIGHT
TZOFFSETFROM:-0500
TZOFFSETTO:-0400
TZNAME:EDT
DTSTART:20240310T070000
END:DAYLIGHT
BEGIN:STANDARD
TZOFFSETFROM:-0400
TZOFFSETTO:-0500
TZNAME:EST
DTSTART:20241103T060000
END:STANDARD
BEGIN:DAYLIGHT
TZOFFSETFROM:-0500
TZOFFSETTO:-0400
TZNAME:EDT
DTSTART:20250309T070000
END:DAYLIGHT
BEGIN:STANDARD
TZOFFSETFROM:-0400
TZOFFSETTO:-0500
TZNAME:EST
DTSTART:20251102T060000
END:STANDARD
BEGIN:DAYLIGHT
TZOFFSETFROM:-0500
TZOFFSETTO:-0400
TZNAME:EDT
DTSTART:20260308T070000
END:DAYLIGHT
BEGIN:STANDARD
TZOFFSETFROM:-0400
TZOFFSETTO:-0500
TZNAME:EST
DTSTART:20261101T060000
END:STANDARD
END:VTIMEZONE
BEGIN:VEVENT
DTSTART;TZID=America/New_York:20250502T190000
DTEND;TZID=America/New_York:20250503T230000
DTSTAMP:20260419T093206
CREATED:20250427T204535Z
LAST-MODIFIED:20250427T205151Z
UID:45555-1746212400-1746313200@notoriousjazz.com
SUMMARY:JULIE DEXTER
DESCRIPTION:The world renowned\, award winning\, British singer\, songwriter and producer is considered by many to be one of the most influential female vocalists of our generation. Having shared the spotlight with a host of cutting-edge artists\, including Mint Condition\, Caron Wheeler\, Jill Scott\, Lalah Hathaway\, Omar\, Ledisi\, Doug Carn\, Third World and Maxi Priest to name a few\, Julie not only holds up her own with them but has been praised and respected by them too. \nInfluenced by legends such as Nancy Wilson\, Abbey Lincoln\, and Bob Marley\, as well as popular icons Omar and Sade\, Julie takes classic soul to the heart of Artistry. Fans and critics across the globe have followed her journey through the circles of Jazz\, Broken-Beat\, Bossa-Nova\, Reggae\, Afro-Beat and Soul and she was recently honored at the Black Women in Jazz Awards with the Afro Caribbean Soul of Jazz Award. \nIt was in 1999 that Julie took a leap of faith and moved to Atlanta\, Georgia where she now resides. She launched her own label\, Ketch A Vibe Records and in 2000 released the critically acclaimed EP Peace of Mind\, followed by Dexterity (2002) \,Conscious (2005) and New Again (2011). Moon Bossa\, a collaboration with Khari Simmons was released in 2007 and her single “Ketch A Vibe” was featured in national radio ads for Democratic Presidential Candidate Senator Barack Obama. Her latest release Deja Vu is an eclectic blend of Jazz\, Soul and Reggae. \nTickets: $33 per person | $3.95 Processing Fee
URL:https://notoriousjazz.com/event/julie-dexter-5
LOCATION:South\, 600 N. Broad Street\, Philadelphia\, PA\, 19130\, United States
CATEGORIES:Club
ATTACH;FMTTYPE=image/png:https://notoriousjazz.com/wp-content/uploads/2025/04/JULIE-DEXTER-@-SOTH-JAZZ.png
END:VEVENT
BEGIN:VEVENT
DTSTART;TZID=America/New_York:20250502T193000
DTEND;TZID=America/New_York:20250502T230000
DTSTAMP:20260419T093206
CREATED:20250420T161748Z
LAST-MODIFIED:20250420T161748Z
UID:45460-1746214200-1746226800@notoriousjazz.com
SUMMARY:NOAH JACKSON & FULL CIRCLE
DESCRIPTION:A Detroit original\, Noah Jackson is a bassist\, cellist\, and composer specializing in black american music and classical music.  Aimed with a curiosity to where sound could touch audiences from within\, he has both written and performed music for large international audiences since 2010. \nA graduate of Michigan State University (B.M.)\, and Manhattan School of Music (M.M.)\, Noah has performed with world renowned artists such as NEA Jazz Master Abdullah Ibrahim\, Branford Marsails\, Jason Marsalis\, The Marsalis Family\, Hugh Masekela\, Nnenna Freelon\, Kenny Garrett\, Wizard Harper\, George Burton\, Jazzmeia Horn\, and Christian Sands. \nShows ~ 7:30pm & 9:30pm \nTickets: $25.00
URL:https://notoriousjazz.com/event/noah-jackson-full-circle
LOCATION:Cliff Bell’s\, 2030 Park Avenue\, Detroit\, MI\, 48226\, United States
CATEGORIES:Club
ATTACH;FMTTYPE=image/png:https://notoriousjazz.com/wp-content/uploads/2025/04/NOAH-JACKSON-@-CLIFF-BELLS.png
END:VEVENT
BEGIN:VEVENT
DTSTART;TZID=America/New_York:20250502T193000
DTEND;TZID=America/New_York:20250503T230000
DTSTAMP:20260419T093206
CREATED:20250427T174316Z
LAST-MODIFIED:20250427T174407Z
UID:45546-1746214200-1746313200@notoriousjazz.com
SUMMARY:MONTY ALEXANDER
DESCRIPTION:The Real Deal Monty Alexander is a Kingston\, Jamaica born jazz pianist whose playing has a Caribbean influence and bright swinging feeling\, with a strong vocabulary of bebop jazz and blues rooted melodies. He was influenced by Louis Armstrong\, Duke Ellington\, Erroll Garner\, Nat King Cole\, Oscar Peterson\, Ahmad Jamal\, Les McCann\, and Frank Sinatra. \nAlexander also sings and plays the melodica. He is known for his surprising musical twists\, bright rhythmic sense\, and intense dramatic musical climaxes. His recording career has covered many of the well-known American songbook standards\, jazz standards\, pop hits\, and Jamaican songs from his original homeland. He performs frequently throughout the world at jazz festivals and clubs. \nThe Band: Monty Alexander ~ piano | Luke Sellick ~ bass | Jason Brown ~ drums \nTickets: $41.74~$53.38
URL:https://notoriousjazz.com/event/monty-alexander-6
LOCATION:Regattabar\, 1 Bennett Street\, Cambridge\, MA\, 02138\, United States
CATEGORIES:Club
ATTACH;FMTTYPE=image/png:https://notoriousjazz.com/wp-content/uploads/2025/04/MONTY-ALEXANDER-@-REGATTABAR.png
END:VEVENT
BEGIN:VEVENT
DTSTART;TZID=America/New_York:20250502T200000
DTEND;TZID=America/New_York:20250502T220000
DTSTAMP:20260419T093206
CREATED:20250427T164721Z
LAST-MODIFIED:20250427T164730Z
UID:45537-1746216000-1746223200@notoriousjazz.com
SUMMARY:LEESA RICHARDS
DESCRIPTION:Save Your Love For Me | Leesa Sings Nancy Wilson \nAs a part of Miami’s vibrant music scene\, singer/songwriter Leesa Richards is helping to shape and define its evolving sound. She has performed with a slate of powerhouse artists including Faith Hill\, The Bee Gees\, Kelly Clarkson\, Gloria Estefan\, and Carole King\, and recorded with Barbra Streisand and Lenny Kravitz\, among other artists. \nRichards grew up in music-rich Detroit and started showing an inclination towards the arts at a very early age. She began honing her vocal chops with soul greats Gerald Austin and Peabo Bryson and contemporary soul maverick Dionne Farris. \nTickets: $40.00 ~ $50.00 \nPresented by the Sunshine Jazz Organization
URL:https://notoriousjazz.com/event/leesa-richards
LOCATION:Lyric Theater\, 819 NW 2nd Avenue\, Miami\, FL\, 33136\, United States
CATEGORIES:Concert
ATTACH;FMTTYPE=image/png:https://notoriousjazz.com/wp-content/uploads/2025/04/LEESA-RICHARDS-@-LYRIC-THEATER.png
END:VEVENT
END:VCALENDAR