BEGIN:VCALENDAR
VERSION:2.0
PRODID:-//Notorious Jazz - ECPv6.15.17//NONSGML v1.0//EN
CALSCALE:GREGORIAN
METHOD:PUBLISH
X-ORIGINAL-URL:https://notoriousjazz.com
X-WR-CALDESC:Events for Notorious Jazz
REFRESH-INTERVAL;VALUE=DURATION:PT1H
X-Robots-Tag:noindex
X-PUBLISHED-TTL:PT1H
BEGIN:VTIMEZONE
TZID:America/Los_Angeles
BEGIN:DAYLIGHT
TZOFFSETFROM:-0800
TZOFFSETTO:-0700
TZNAME:PDT
DTSTART:20240310T100000
END:DAYLIGHT
BEGIN:STANDARD
TZOFFSETFROM:-0700
TZOFFSETTO:-0800
TZNAME:PST
DTSTART:20241103T090000
END:STANDARD
BEGIN:DAYLIGHT
TZOFFSETFROM:-0800
TZOFFSETTO:-0700
TZNAME:PDT
DTSTART:20250309T100000
END:DAYLIGHT
BEGIN:STANDARD
TZOFFSETFROM:-0700
TZOFFSETTO:-0800
TZNAME:PST
DTSTART:20251102T090000
END:STANDARD
BEGIN:DAYLIGHT
TZOFFSETFROM:-0800
TZOFFSETTO:-0700
TZNAME:PDT
DTSTART:20260308T100000
END:DAYLIGHT
BEGIN:STANDARD
TZOFFSETFROM:-0700
TZOFFSETTO:-0800
TZNAME:PST
DTSTART:20261101T090000
END:STANDARD
END:VTIMEZONE
BEGIN:VEVENT
DTSTART;TZID=America/Los_Angeles:20250508T190000
DTEND;TZID=America/Los_Angeles:20250508T220000
DTSTAMP:20260419T093206
CREATED:20250503T214808Z
LAST-MODIFIED:20250503T225614Z
UID:45634-1746730800-1746741600@notoriousjazz.com
SUMMARY:JAVIER SANTIAGO
DESCRIPTION:Pianist\, composer\, and in-demand sideman Javier Santiago is one of the most promising voices in the international music scene. As an accomplished producer\, beatmaker\, arranger and educator\, he has become a notable force in both the beat and hip-hop scenes as well as in the jazz world. His newest album is the 2024 release Warrior Energy. This jazz voyager is anticipating hearing this music \nTickets: $25.00
URL:https://notoriousjazz.com/event/javier-santiago
LOCATION:SFJazz Center | Joe Henderson Lab\, 201 Franklin Street\, San Francisco\, CA\, 94102\, United States
CATEGORIES:Concert
ATTACH;FMTTYPE=image/png:https://notoriousjazz.com/wp-content/uploads/2025/05/JAVIER-SANTIAGO-@-SF-JAZZ-CENTER.png
END:VEVENT
BEGIN:VEVENT
DTSTART;TZID=America/Los_Angeles:20250508T200000
DTEND;TZID=America/Los_Angeles:20250508T220000
DTSTAMP:20260419T093206
CREATED:20250504T011136Z
LAST-MODIFIED:20250504T011344Z
UID:45656-1746734400-1746741600@notoriousjazz.com
SUMMARY:CÉCILE MCLORIN SALVANT
DESCRIPTION:The three time Grammy winner and a MacArthur ‘Genius’ Award recipient revels in her multi-faceted world. Cécile McLorin Salvant\, an artist whose talents span composition\, vocal performance\, and visual art. Lauded by the legendary Jessye Norman for her unique voice and deep musicality\, she captivates audiences by weaving together the rich tapestries of vaudeville\, blues\, jazz\, baroque\, and folk music. Her gift for storytelling shines through in her exploration of powerful narratives\, forgotten songs\, and cultural connections. \nA winner of the Thelonious Monk competition in 2010\, Cécile has earned critical acclaim with three consecutive Grammy Awards for Best Jazz Vocal Album\, and her work\, including the Grammy-nominated albums Ghost Song and Mélusine\, showcases her incredible range and versatility. With roots in Miami and an educational background in French law and music in France\, and her latest project\, Ogresse\, is a genre-blending cantata poised to become an animated film. \nLocation: Royce Hall \nTickets: $42.08 ~ $52.67
URL:https://notoriousjazz.com/event/45656
LOCATION:The Nimoy\, 1262 Westwood Boulevard\, Los Angeles\, CA\, 90024\, United States
CATEGORIES:Concert
ATTACH;FMTTYPE=image/png:https://notoriousjazz.com/wp-content/uploads/2025/05/CECILE-MCLORIN-SALVANT-@-THE-NIMOY.png
END:VEVENT
END:VCALENDAR