BEGIN:VCALENDAR
VERSION:2.0
PRODID:-//Notorious Jazz - ECPv6.15.17//NONSGML v1.0//EN
CALSCALE:GREGORIAN
METHOD:PUBLISH
X-ORIGINAL-URL:https://notoriousjazz.com
X-WR-CALDESC:Events for Notorious Jazz
REFRESH-INTERVAL;VALUE=DURATION:PT1H
X-Robots-Tag:noindex
X-PUBLISHED-TTL:PT1H
BEGIN:VTIMEZONE
TZID:America/New_York
BEGIN:DAYLIGHT
TZOFFSETFROM:-0500
TZOFFSETTO:-0400
TZNAME:EDT
DTSTART:20240310T070000
END:DAYLIGHT
BEGIN:STANDARD
TZOFFSETFROM:-0400
TZOFFSETTO:-0500
TZNAME:EST
DTSTART:20241103T060000
END:STANDARD
BEGIN:DAYLIGHT
TZOFFSETFROM:-0500
TZOFFSETTO:-0400
TZNAME:EDT
DTSTART:20250309T070000
END:DAYLIGHT
BEGIN:STANDARD
TZOFFSETFROM:-0400
TZOFFSETTO:-0500
TZNAME:EST
DTSTART:20251102T060000
END:STANDARD
BEGIN:DAYLIGHT
TZOFFSETFROM:-0500
TZOFFSETTO:-0400
TZNAME:EDT
DTSTART:20260308T070000
END:DAYLIGHT
BEGIN:STANDARD
TZOFFSETFROM:-0400
TZOFFSETTO:-0500
TZNAME:EST
DTSTART:20261101T060000
END:STANDARD
END:VTIMEZONE
BEGIN:VEVENT
DTSTART;TZID=America/New_York:20250530T183000
DTEND;TZID=America/New_York:20250531T223000
DTSTAMP:20260419T092126
CREATED:20250525T170912Z
LAST-MODIFIED:20250525T173426Z
UID:45918-1748629800-1748730600@notoriousjazz.com
SUMMARY:ULYSSES OWENS JR.
DESCRIPTION:Three time GRAMMY™ Award-Winning Drummer Ulysses Owens Jr.\, known for being a drummer who (The New York Times) has said “take[s] a back seat to no one\,” and “a musician who balances excitement gracefully and shines with innovation.” Generation Y is a band concept that was conceived back in 2019 with the goal promoting the next generation of dynamic talent from the top music conservatories in NYC and beyond. \nLed by Ulysses Owens Jr. who is also a producer\, educator\, author and cultural entrepreneur\, he has been the driving force behind such great artists as Nicholas Payton\, Christian McBride\, Wynton Marsalis\, Mulgrew Miller\, Joey Alexander and many others. Through his relationship with these great bandleaders he learned of the legacy of Art Blakey and Betty Carter\, both of whom were renowned for their own bands (which became educational institutions) and launched the careers of many of today’s paradigm-shifting musicians on the jazz scene. \nShow Ticket $25 – $30 Dinner is required with all reservations. 6:30 PM SHOW – DINNER RESERVATIONS FROM 5:15 PM *9:00 PM SHOW – DINNER RESERVATIONS FROM 8:00 PM
URL:https://notoriousjazz.com/event/ulysses-owens-jr
LOCATION:The Jazz Corner\, 1000 William Hilton Parkway\, Hilton Head Island\, SC\, 29928\, United States
CATEGORIES:Club
ATTACH;FMTTYPE=image/png:https://notoriousjazz.com/wp-content/uploads/2025/05/ULYSSES-OWENS-JR.-@-THE-JAZZ-CORNER.png
END:VEVENT
BEGIN:VEVENT
DTSTART;TZID=America/New_York:20250531T193000
DTEND;TZID=America/New_York:20250531T230000
DTSTAMP:20260419T092126
CREATED:20250525T165137Z
LAST-MODIFIED:20250525T165137Z
UID:45915-1748719800-1748732400@notoriousjazz.com
SUMMARY:TONY EXUM JR.
DESCRIPTION:With a smooth and soulful sound that resonates deeply\, Tony has carved out a unique niche in the music world. His rise to international acclaim began in 2019 with the release of his captivating single “My Name’s Tony\,” which not only captured hearts but also secured a remarkable 12-week run on the Smooth Jazz Network’s top 100 chart. With performances that have graced esteemed festivals and venues like the Middle C Jazz in Charlotte\, San Diego Smooth Jazz Festival\, Winter Park Jazz Festival\, and Myrtle Beach Jazz Festival\, Boscov’s Berks Jazz Festival Tony’s artistry knows no bounds. \nCover: $40.00
URL:https://notoriousjazz.com/event/tony-exum-jr
LOCATION:The Velvet Note\, 4075 Old Milton Parkway\, Alpharetta\, GA\, 30005\, United States
CATEGORIES:Club
ATTACH;FMTTYPE=image/png:https://notoriousjazz.com/wp-content/uploads/2025/05/TONY-EXUM-JR.-@-THE-VELVET-NOTE.png
END:VEVENT
END:VCALENDAR