BEGIN:VCALENDAR
VERSION:2.0
PRODID:-//Notorious Jazz - ECPv6.15.17//NONSGML v1.0//EN
CALSCALE:GREGORIAN
METHOD:PUBLISH
X-ORIGINAL-URL:https://notoriousjazz.com
X-WR-CALDESC:Events for Notorious Jazz
REFRESH-INTERVAL;VALUE=DURATION:PT1H
X-Robots-Tag:noindex
X-PUBLISHED-TTL:PT1H
BEGIN:VTIMEZONE
TZID:America/New_York
BEGIN:DAYLIGHT
TZOFFSETFROM:-0500
TZOFFSETTO:-0400
TZNAME:EDT
DTSTART:20220313T070000
END:DAYLIGHT
BEGIN:STANDARD
TZOFFSETFROM:-0400
TZOFFSETTO:-0500
TZNAME:EST
DTSTART:20221106T060000
END:STANDARD
BEGIN:DAYLIGHT
TZOFFSETFROM:-0500
TZOFFSETTO:-0400
TZNAME:EDT
DTSTART:20230312T070000
END:DAYLIGHT
BEGIN:STANDARD
TZOFFSETFROM:-0400
TZOFFSETTO:-0500
TZNAME:EST
DTSTART:20231105T060000
END:STANDARD
BEGIN:DAYLIGHT
TZOFFSETFROM:-0500
TZOFFSETTO:-0400
TZNAME:EDT
DTSTART:20240310T070000
END:DAYLIGHT
BEGIN:STANDARD
TZOFFSETFROM:-0400
TZOFFSETTO:-0500
TZNAME:EST
DTSTART:20241103T060000
END:STANDARD
END:VTIMEZONE
BEGIN:VEVENT
DTSTART;TZID=America/New_York:20230820T190000
DTEND;TZID=America/New_York:20230820T210000
DTSTAMP:20260422T080301
CREATED:20230820T190045Z
LAST-MODIFIED:20230820T192708Z
UID:36712-1692558000-1692565200@notoriousjazz.com
SUMMARY:THE LEGENDARY COUNT BASIE ORCHESTRA
DESCRIPTION:Music In The Meadow \nThe Count Basie Orchestra\, today directed by Scotty Barnhart\, has won every respected jazz poll in the world at least once\, won 18 Grammy Awards. In the history of Jazz music\, there is only one bandleader that has the distinction of having his orchestra still performing sold out concerts all over the world\, with members personally chosen by him\, for over 30 years after his passing. Pianist and bandleader William James “Count” Basie was and still is an American institution that personifies the grandeur and excellence of Jazz. The Count Basie Orchestra\, today directed by Scotty Barnhart\, has won every respected jazz poll in the world at least once\, won 18 Grammy Awards\, performed for Kings\, Queens\, and other world Royalty\, appeared in several movies\, television shows\, at every major jazz festival and major concert hall in the world. \nGuest Vocalist: Carmen Bradford
URL:https://notoriousjazz.com/event/the-legendary-count-basie-orchestra
LOCATION:Stowe Performing Arts\, 854 Trapp Hill Road\, Stowe\, VT\, 05672\, United States
CATEGORIES:Concert
ATTACH;FMTTYPE=image/jpeg:https://notoriousjazz.com/wp-content/uploads/2023/08/COUNT-BASIE-ORCHESTRA.jpg
END:VEVENT
END:VCALENDAR