BEGIN:VCALENDAR
VERSION:2.0
PRODID:-//Notorious Jazz - ECPv6.15.17//NONSGML v1.0//EN
CALSCALE:GREGORIAN
METHOD:PUBLISH
X-ORIGINAL-URL:https://notoriousjazz.com
X-WR-CALDESC:Events for Notorious Jazz
REFRESH-INTERVAL;VALUE=DURATION:PT1H
X-Robots-Tag:noindex
X-PUBLISHED-TTL:PT1H
BEGIN:VTIMEZONE
TZID:America/New_York
BEGIN:DAYLIGHT
TZOFFSETFROM:-0500
TZOFFSETTO:-0400
TZNAME:EDT
DTSTART:20220313T070000
END:DAYLIGHT
BEGIN:STANDARD
TZOFFSETFROM:-0400
TZOFFSETTO:-0500
TZNAME:EST
DTSTART:20221106T060000
END:STANDARD
BEGIN:DAYLIGHT
TZOFFSETFROM:-0500
TZOFFSETTO:-0400
TZNAME:EDT
DTSTART:20230312T070000
END:DAYLIGHT
BEGIN:STANDARD
TZOFFSETFROM:-0400
TZOFFSETTO:-0500
TZNAME:EST
DTSTART:20231105T060000
END:STANDARD
BEGIN:DAYLIGHT
TZOFFSETFROM:-0500
TZOFFSETTO:-0400
TZNAME:EDT
DTSTART:20240310T070000
END:DAYLIGHT
BEGIN:STANDARD
TZOFFSETFROM:-0400
TZOFFSETTO:-0500
TZNAME:EST
DTSTART:20241103T060000
END:STANDARD
END:VTIMEZONE
BEGIN:VEVENT
DTSTART;TZID=America/New_York:20230623T190000
DTEND;TZID=America/New_York:20230624T230000
DTSTAMP:20260421T090717
CREATED:20230528T010306Z
LAST-MODIFIED:20230528T010306Z
UID:35420-1687546800-1687647600@notoriousjazz.com
SUMMARY:MIKE LEDONNE GROOVER QUARTET
DESCRIPTION:Mike LeDonne’s Groover Quartet featuring Eric Alexander\, Peter Bernstein & Kenny Washington. \nWe’re quite proud of our newest Jazz Forum addition – a Hammond organ – and even more proud to debut it with this outstanding quintet of top-notch musicians\, led by keyboard great Mike LeDonne. \nFor many years\, LeDonne has been at the B-3 to lead The Groover Quartet\, a wildly popular weekly “grits and gravy” jazz gig at Smoke in Manhattan\, and he’s bringing that sound\, plus an additional horn\, to Tarrytown. Don’t miss it! \nShowtimes: 7:00pm & 9:30pm \nFees Applied To all Ticket Purchases
URL:https://notoriousjazz.com/event/mike-ledonne-groover-quartet
LOCATION:Jazz Forum Arts\, 1 Dixon Lane\, Tarrytown\, NY\, 10591\, United States
CATEGORIES:Club
ATTACH;FMTTYPE=image/png:https://notoriousjazz.com/wp-content/uploads/2023/05/MIKE-LEDONNE.png
END:VEVENT
BEGIN:VEVENT
DTSTART;TZID=America/New_York:20230625T160000
DTEND;TZID=America/New_York:20230625T203000
DTSTAMP:20260421T090717
CREATED:20230528T010828Z
LAST-MODIFIED:20230528T010828Z
UID:35423-1687708800-1687725000@notoriousjazz.com
SUMMARY:LEONIEKE SCHEUBLE QUARTET
DESCRIPTION:Leonieke Scheuble Organ Quartet featuring Bill Crow. \nLeonieke Scheuble is a gifted pianist and jazz organist who has a rare talent for blues and jazz improvisation at an unusually young age. She started to play piano after being inspired by “Ray\,” a movie based on the life of Ray Charles. Without any prior musical training\, she began to spend great lengths of time at the piano creating pieces that were rhythmically interesting and compositionally balanced. She was 5 or 6. \nAt age 7\, Leonieke recorded a handful of pieces including two of her own compositions. This was brought to the attention of Steve Ash\, a highly respected Jazz pianist\, who then agreed to take her on as a student. She has been with him ever since. \nRecent years Leonieke has been a featured artist at several high profile Jazz Festivals and she can been seen performing regularly at many of New York and New Jersey’s finest Jazz venues. \nShowtimes: 7:00pm & 9:30pm \nFees Applied To all Ticket Purchases
URL:https://notoriousjazz.com/event/leonieke-scheuble-quartet
LOCATION:Jazz Forum Arts\, 1 Dixon Lane\, Tarrytown\, NY\, 10591\, United States
CATEGORIES:Club
ATTACH;FMTTYPE=image/png:https://notoriousjazz.com/wp-content/uploads/2023/05/LEONIEKE-SCHEUBLE.png
END:VEVENT
END:VCALENDAR