BEGIN:VCALENDAR
VERSION:2.0
PRODID:-//Notorious Jazz - ECPv6.15.17//NONSGML v1.0//EN
CALSCALE:GREGORIAN
METHOD:PUBLISH
X-WR-CALNAME:Notorious Jazz
X-ORIGINAL-URL:https://notoriousjazz.com
X-WR-CALDESC:Events for Notorious Jazz
REFRESH-INTERVAL;VALUE=DURATION:PT1H
X-Robots-Tag:noindex
X-PUBLISHED-TTL:PT1H
BEGIN:VTIMEZONE
TZID:America/New_York
BEGIN:DAYLIGHT
TZOFFSETFROM:-0500
TZOFFSETTO:-0400
TZNAME:EDT
DTSTART:20230312T070000
END:DAYLIGHT
BEGIN:STANDARD
TZOFFSETFROM:-0400
TZOFFSETTO:-0500
TZNAME:EST
DTSTART:20231105T060000
END:STANDARD
BEGIN:DAYLIGHT
TZOFFSETFROM:-0500
TZOFFSETTO:-0400
TZNAME:EDT
DTSTART:20240310T070000
END:DAYLIGHT
BEGIN:STANDARD
TZOFFSETFROM:-0400
TZOFFSETTO:-0500
TZNAME:EST
DTSTART:20241103T060000
END:STANDARD
BEGIN:DAYLIGHT
TZOFFSETFROM:-0500
TZOFFSETTO:-0400
TZNAME:EDT
DTSTART:20250309T070000
END:DAYLIGHT
BEGIN:STANDARD
TZOFFSETFROM:-0400
TZOFFSETTO:-0500
TZNAME:EST
DTSTART:20251102T060000
END:STANDARD
END:VTIMEZONE
BEGIN:VEVENT
DTSTART;TZID=America/New_York:20240119T190000
DTEND;TZID=America/New_York:20240119T230000
DTSTAMP:20260420T200047
CREATED:20240114T021223Z
LAST-MODIFIED:20240114T021819Z
UID:38697-1705690800-1705705200@notoriousjazz.com
SUMMARY:TONY MONACO
DESCRIPTION:Tony Monaco may be the best organ player you have yet to hear of flying stealth while playing arguably some of the hottest B-3 around. Mentored by the legendary Jimmy Smith in what is considered the more classic style\, Monaco does not swing\, smolder or smoke. “Tony Monaco burns is this most fitting!” CriticalJazz Review2012. Tony Monaco began his keyboard life at age eight. When he was twelve\, his destiny as a jazz organist was sealed when he first heard Jimmy Smith. An enthusiastic student\, Tony began working in Jazz clubs as a teenager in his native Columbus\, Ohio\, guided by local organ gurus Hank Marr and Don Patterson. Four years later\, Jimmy Smith invited Tony to come play at his club in California\, a peak lifetime experience for Tony. \nIn April 2000\, Tony met fellow jazz organist Joey DeFrancesco\, who offered to produce a debut CD for him. This collaboration resulted in the critically acclaimed “Burnin Grooves”. The international success of the recording served as the catalyst for regional and national tours. Tony has since released 8 International releases and toured around the globe many times. Tony also toured and recorded with Pat Martino for over two years! As an ardent student of the organ\, it’s no surprise that Tony is an accomplished teacher as well. In addition to private students\, classes and clinics\, Tony has produced a series of instructional DVDs titled “Playing Jazz Hammond” that have become indispensable for many serious students of the organ. Tony continues to expand his catalogue using most update technologies. \nHe developed a system of giving lessons one on one online and gives lessons to students around the globe!  His passion for teaching allowed him to secure  his “Artist in Residence”  status at Hope College in Holland Michigan where he teaches students both online as well as regular workshops groups and one-on-ones at the College. Tony is very proud and excited to be releasing his 11th international CD “The Definition of Insanity” on Chicken Coup Records January 2019!  Featuring Jam\, Funk\, Vocals\, Italian Traditional and Latin with his current Trio ! Presently\, Tony maintains a very busy schedule that includes festival appearances \, clinics\, and workshops !
URL:https://notoriousjazz.com/event/tony-monaco
LOCATION:The Jazz Kitchen\, 5377 N College Avenue\, Indianapolis\, IN\, 46220\, United States
CATEGORIES:Club
ATTACH;FMTTYPE=image/png:https://notoriousjazz.com/wp-content/uploads/2024/01/TONY-MONACO.png
END:VEVENT
END:VCALENDAR