BEGIN:VCALENDAR
VERSION:2.0
PRODID:-//Notorious Jazz - ECPv6.15.17//NONSGML v1.0//EN
CALSCALE:GREGORIAN
METHOD:PUBLISH
X-ORIGINAL-URL:https://notoriousjazz.com
X-WR-CALDESC:Events for Notorious Jazz
REFRESH-INTERVAL;VALUE=DURATION:PT1H
X-Robots-Tag:noindex
X-PUBLISHED-TTL:PT1H
BEGIN:VTIMEZONE
TZID:America/Vancouver
BEGIN:DAYLIGHT
TZOFFSETFROM:-0800
TZOFFSETTO:-0700
TZNAME:PDT
DTSTART:20240310T100000
END:DAYLIGHT
BEGIN:STANDARD
TZOFFSETFROM:-0700
TZOFFSETTO:-0800
TZNAME:PST
DTSTART:20241103T090000
END:STANDARD
BEGIN:DAYLIGHT
TZOFFSETFROM:-0800
TZOFFSETTO:-0700
TZNAME:PDT
DTSTART:20250309T100000
END:DAYLIGHT
BEGIN:STANDARD
TZOFFSETFROM:-0700
TZOFFSETTO:-0800
TZNAME:PST
DTSTART:20251102T090000
END:STANDARD
BEGIN:DAYLIGHT
TZOFFSETFROM:-0800
TZOFFSETTO:-0700
TZNAME:PDT
DTSTART:20260308T100000
END:DAYLIGHT
BEGIN:STANDARD
TZOFFSETFROM:-0700
TZOFFSETTO:-0800
TZNAME:PST
DTSTART:20261101T090000
END:STANDARD
END:VTIMEZONE
BEGIN:VEVENT
DTSTART;TZID=America/Vancouver:20250110T200000
DTEND;TZID=America/Vancouver:20250111T220000
DTSTAMP:20260419T231656
CREATED:20250105T223236Z
LAST-MODIFIED:20250105T223638Z
UID:44087-1736539200-1736632800@notoriousjazz.com
SUMMARY:FROM NEW YORK: NICK HEMPTON QUARTET CD RELEASE
DESCRIPTION:In the summer of 2024\, Hempton made one of his regular visits to Vancouver to reunite with his very soulful co-conspirators Jesse Cahill and Nick Peck for a weekend at Frankie’s\, the city’s legendary jazz club. After some cajoling\, Van City tenor legend Cory Weeds agreed to join on stage to form a two-horn quartet. Mics were set up\, favourite tunes were chosen\, cocktails were consumed; and with the Frankie’s crowd in fine fettle\, urging us on with stomps and hollers\, we laid down a set of hard-driving soul jazz. \nIn between shows\, to balance the live feel\, the cats descended into the murky shadows of a grungy basement studio\, the carpeted walls dripping with years of accumulated funk. In keeping with the free blowing feel of the club gig\, the studio session took place live\, with no isolation and no safety net; and in the subterranean twilight the quartet knocked out a set of swingers in a couple of hours\, each tune needing only one or two takes. \nWeeds and Hempton are long-time friends and mutual admirers\, and it was a gas to engage in a little sporting\, good-natured combat\, tipping their hats to the great two-tenor matchups of the past: Dexter Gordon and Herschel Evans\, Gene Ammons and Sonny Stitt\, Johnny Griffin and Lockjaw Davis. And while they were wailing\, Peck & Cahill were getting down to serious business\, lighting the fire and keeping it burning until the last note faded. \nCelebrate the release of their new cd Horns Locked! \nThe Band: Nick Hempton~tenor sax\, Cory Weeds~tenor sax\, Nick Peck~organ and Jesse Cahill~drums \nCover: Sold Out | Both Shows
URL:https://notoriousjazz.com/event/from-new-york-nick-hempton-quartet-cd-release
LOCATION:Frankie’s Jazz Club\, 755 Beatty Street\, Vancouver\, British Columbia\, V6B 2M4\, Canada
CATEGORIES:Club
ATTACH;FMTTYPE=image/png:https://notoriousjazz.com/wp-content/uploads/2025/01/NICK-HEMPTON-QUARTET.png
END:VEVENT
END:VCALENDAR