BEGIN:VCALENDAR
VERSION:2.0
PRODID:-//Notorious Jazz - ECPv6.15.17//NONSGML v1.0//EN
CALSCALE:GREGORIAN
METHOD:PUBLISH
X-ORIGINAL-URL:https://notoriousjazz.com
X-WR-CALDESC:Events for Notorious Jazz
REFRESH-INTERVAL;VALUE=DURATION:PT1H
X-Robots-Tag:noindex
X-PUBLISHED-TTL:PT1H
BEGIN:VTIMEZONE
TZID:America/New_York
BEGIN:DAYLIGHT
TZOFFSETFROM:-0500
TZOFFSETTO:-0400
TZNAME:EDT
DTSTART:20240310T070000
END:DAYLIGHT
BEGIN:STANDARD
TZOFFSETFROM:-0400
TZOFFSETTO:-0500
TZNAME:EST
DTSTART:20241103T060000
END:STANDARD
BEGIN:DAYLIGHT
TZOFFSETFROM:-0500
TZOFFSETTO:-0400
TZNAME:EDT
DTSTART:20250309T070000
END:DAYLIGHT
BEGIN:STANDARD
TZOFFSETFROM:-0400
TZOFFSETTO:-0500
TZNAME:EST
DTSTART:20251102T060000
END:STANDARD
BEGIN:DAYLIGHT
TZOFFSETFROM:-0500
TZOFFSETTO:-0400
TZNAME:EDT
DTSTART:20260308T070000
END:DAYLIGHT
BEGIN:STANDARD
TZOFFSETFROM:-0400
TZOFFSETTO:-0500
TZNAME:EST
DTSTART:20261101T060000
END:STANDARD
END:VTIMEZONE
BEGIN:VEVENT
DTSTART;TZID=America/New_York:20250319T190000
DTEND;TZID=America/New_York:20250320T223000
DTSTAMP:20260419T201737
CREATED:20250302T163605Z
LAST-MODIFIED:20250302T163605Z
UID:44843-1742410800-1742509800@notoriousjazz.com
SUMMARY:AKIKO TSURUGA
DESCRIPTION:Akiko Tsuruga is a jazz composer\, Hammond B-3 organist and pianist from Osaka\, Japan. She was born in Osaka. Her parents bought her a small organ when she was three and she started learning to play standards. \nAfter landing in the mecca for jazz\, New York City\, it didn’t take long for Akiko to make her mark – It was during these early years that she had the great pleasure of sitting in\, playing gigs\, and eventually recording with jazz greats such as Frank Wess\, Jimmy Cobb\, Grady Tate and other top NY musicians. Her reputation ultimately drew attention of Lou Donaldson as he chose her in 2006 as his quartet’s organist. \nBut it was the meeting of organ legend Dr. Lonnie Smith that proved to have the greatest impact on Akiko’s musical development and career. He became an important mentor to Akiko\, and she considers him her greatest influence. She flourished and continued to be a constant draw on the NY jazz scene. \nPerformance Lineup: \nAkiko Tsuruga\, organ\nJoe Magnarelli\, trumpet\nMyron Walden\, tenor & baritone?saxophone\, flute\nByron Landham\, drums\nCharlie Sigler\, guitar \nTickets: $20.00 ~$50.00
URL:https://notoriousjazz.com/event/akiko-tsuruga
LOCATION:Dizzy’s Club\, 10 Columbus Circle\, New York City\, NY\, 10019\, United States
CATEGORIES:Club
ATTACH;FMTTYPE=image/png:https://notoriousjazz.com/wp-content/uploads/2025/03/AKIKO-TSURUGA-@-DIZZYS.png
END:VEVENT
END:VCALENDAR