BEGIN:VCALENDAR
VERSION:2.0
PRODID:-//Notorious Jazz - ECPv6.15.17//NONSGML v1.0//EN
CALSCALE:GREGORIAN
METHOD:PUBLISH
X-ORIGINAL-URL:https://notoriousjazz.com
X-WR-CALDESC:Events for Notorious Jazz
REFRESH-INTERVAL;VALUE=DURATION:PT1H
X-Robots-Tag:noindex
X-PUBLISHED-TTL:PT1H
BEGIN:VTIMEZONE
TZID:America/New_York
BEGIN:DAYLIGHT
TZOFFSETFROM:-0500
TZOFFSETTO:-0400
TZNAME:EDT
DTSTART:20220313T070000
END:DAYLIGHT
BEGIN:STANDARD
TZOFFSETFROM:-0400
TZOFFSETTO:-0500
TZNAME:EST
DTSTART:20221106T060000
END:STANDARD
BEGIN:DAYLIGHT
TZOFFSETFROM:-0500
TZOFFSETTO:-0400
TZNAME:EDT
DTSTART:20230312T070000
END:DAYLIGHT
BEGIN:STANDARD
TZOFFSETFROM:-0400
TZOFFSETTO:-0500
TZNAME:EST
DTSTART:20231105T060000
END:STANDARD
BEGIN:DAYLIGHT
TZOFFSETFROM:-0500
TZOFFSETTO:-0400
TZNAME:EDT
DTSTART:20240310T070000
END:DAYLIGHT
BEGIN:STANDARD
TZOFFSETFROM:-0400
TZOFFSETTO:-0500
TZNAME:EST
DTSTART:20241103T060000
END:STANDARD
END:VTIMEZONE
BEGIN:VEVENT
DTSTART;TZID=America/New_York:20231111T130000
DTEND;TZID=America/New_York:20231111T170000
DTSTAMP:20260422T013224
CREATED:20231029T193602Z
LAST-MODIFIED:20231029T194601Z
UID:37654-1699707600-1699722000@notoriousjazz.com
SUMMARY:FRAN VIELMA JAZZ ORCHESTRA
DESCRIPTION:Fran Vielma Jazz Orchestra features an outstanding cast of musicians from the Mid-Atlantic and East Coast regions performing his own writing\, as well as works by contemporary Pan-American jazz arrangers and composers.\n\nAbout the leader: “a percussion colourist of great distinction… leans heavily on his aptitude for\, and particular genius for counterpoint and most of important of all – his understanding of instrumental timbre…” –Raul Da Gama\, Latin Jazz Network 2018.\n\nHailing from Venezuelan Andes\, Fran Vielma is a critically acclaimed and award-winning multi-percussionist\, composer\, and educator. His continuous research on the rhythms of America\, and beyond\, is integrated with his attraction to concert music and the freedom of jazz.\n\nVielma recently premiered his suite “Common Grounds” at SFJAZZ commissioned by the prestigious Chamber Music America – New Jazz Works and has been a DC Commission on the Arts and Humanities Fellow since 2019. Additionally\, has been a Jazz Road Tours Grantee by South Arts.\n\nDJ Don Vik ~ 12:00pm
URL:https://notoriousjazz.com/event/fran-vielma-jazz-orchestra
LOCATION:Brightwood Park Community\, 713 Kennedy Street\, Washington\, DC\, 20011\, United States
CATEGORIES:Park
ATTACH;FMTTYPE=image/jpeg:https://notoriousjazz.com/wp-content/uploads/2023/10/FRAN-VIELMA.jpg
END:VEVENT
END:VCALENDAR