BEGIN:VCALENDAR
VERSION:2.0
PRODID:-//Notorious Jazz - ECPv6.15.17//NONSGML v1.0//EN
CALSCALE:GREGORIAN
METHOD:PUBLISH
X-ORIGINAL-URL:https://notoriousjazz.com
X-WR-CALDESC:Events for Notorious Jazz
REFRESH-INTERVAL;VALUE=DURATION:PT1H
X-Robots-Tag:noindex
X-PUBLISHED-TTL:PT1H
BEGIN:VTIMEZONE
TZID:America/New_York
BEGIN:DAYLIGHT
TZOFFSETFROM:-0500
TZOFFSETTO:-0400
TZNAME:EDT
DTSTART:20220313T070000
END:DAYLIGHT
BEGIN:STANDARD
TZOFFSETFROM:-0400
TZOFFSETTO:-0500
TZNAME:EST
DTSTART:20221106T060000
END:STANDARD
BEGIN:DAYLIGHT
TZOFFSETFROM:-0500
TZOFFSETTO:-0400
TZNAME:EDT
DTSTART:20230312T070000
END:DAYLIGHT
BEGIN:STANDARD
TZOFFSETFROM:-0400
TZOFFSETTO:-0500
TZNAME:EST
DTSTART:20231105T060000
END:STANDARD
BEGIN:DAYLIGHT
TZOFFSETFROM:-0500
TZOFFSETTO:-0400
TZNAME:EDT
DTSTART:20240310T070000
END:DAYLIGHT
BEGIN:STANDARD
TZOFFSETFROM:-0400
TZOFFSETTO:-0500
TZNAME:EST
DTSTART:20241103T060000
END:STANDARD
END:VTIMEZONE
BEGIN:VEVENT
DTSTART;TZID=America/New_York:20230813T160000
DTEND;TZID=America/New_York:20230813T193000
DTSTAMP:20260423T112211
CREATED:20230808T213553Z
LAST-MODIFIED:20230808T213704Z
UID:36615-1691942400-1691955000@notoriousjazz.com
SUMMARY:GREG ABATE QUARTET
DESCRIPTION:Greg Abate jazz saxophonist\, flutist\, composer continues as an International Jazz/Recording Artist with 225 days a year touring the globe. In the mid 70’s after finishing a four year program at Berklee College Of Music\, Greg played lead alto for the Ray Charles Orchestra for 2 years. In 1978 he formed his group Channel One which was a favorite in the New England area and from there had the opportunity to play tenor sax with the revived Artie Shaw Orchestra under leadership of Dick Johnson from 1986 to ’87. \nFollowing this experience Greg ventured out as post hard bop soloist playing Jazz Festivals\, Jazz Societies and Jazz Clubs throughout the U.S. Canada and abroad\, including most of Europe\, UK\, and Moscow and Georgia Russia. His newest release Gratitude\, with the Tim Ray Trio has received glowing reviews and a lot of international airplay.  Also\, check out Greg’s other recordings including special guests Phil Woods and other notable artists.
URL:https://notoriousjazz.com/event/greg-abate-quartet
LOCATION:Jazz Forum Arts\, 1 Dixon Lane\, Tarrytown\, NY\, 10591\, United States
CATEGORIES:Club
ATTACH;FMTTYPE=image/png:https://notoriousjazz.com/wp-content/uploads/2023/08/GREG-ABATE.png
END:VEVENT
END:VCALENDAR