BEGIN:VCALENDAR
VERSION:2.0
PRODID:-//Notorious Jazz - ECPv6.15.17//NONSGML v1.0//EN
CALSCALE:GREGORIAN
METHOD:PUBLISH
X-WR-CALNAME:Notorious Jazz
X-ORIGINAL-URL:https://notoriousjazz.com
X-WR-CALDESC:Events for Notorious Jazz
REFRESH-INTERVAL;VALUE=DURATION:PT1H
X-Robots-Tag:noindex
X-PUBLISHED-TTL:PT1H
BEGIN:VTIMEZONE
TZID:America/New_York
BEGIN:DAYLIGHT
TZOFFSETFROM:-0500
TZOFFSETTO:-0400
TZNAME:EDT
DTSTART:20210314T070000
END:DAYLIGHT
BEGIN:STANDARD
TZOFFSETFROM:-0400
TZOFFSETTO:-0500
TZNAME:EST
DTSTART:20211107T060000
END:STANDARD
BEGIN:DAYLIGHT
TZOFFSETFROM:-0500
TZOFFSETTO:-0400
TZNAME:EDT
DTSTART:20220313T070000
END:DAYLIGHT
BEGIN:STANDARD
TZOFFSETFROM:-0400
TZOFFSETTO:-0500
TZNAME:EST
DTSTART:20221106T060000
END:STANDARD
BEGIN:DAYLIGHT
TZOFFSETFROM:-0500
TZOFFSETTO:-0400
TZNAME:EDT
DTSTART:20230312T070000
END:DAYLIGHT
BEGIN:STANDARD
TZOFFSETFROM:-0400
TZOFFSETTO:-0500
TZNAME:EST
DTSTART:20231105T060000
END:STANDARD
END:VTIMEZONE
BEGIN:VEVENT
DTSTART;TZID=America/New_York:20221022T203000
DTEND;TZID=America/New_York:20221022T220000
DTSTAMP:20260422T202636
CREATED:20221014T035437Z
LAST-MODIFIED:20221016T001230Z
UID:32158-1666470600-1666476000@notoriousjazz.com
SUMMARY:CLIFTON ANDERSON QUINTET
DESCRIPTION:Clifton Anderson is considered one of the leading trombonists and composers performing in Jazz today. His performances embody the fertile and varied history of musical experiences he’s enjoyed working with a who’s-who of musical giants\, from Sonny Rollins\, McCoy Tyner\, Dizzy Gillespie\, Slide Hampton\, Lester Bowie\, Frank Foster\, Charlie Haden and Dee Dee Bridgewater to Stevie Wonder\, Keith Richards\, Paul Simon\, The Mighty Sparrow and Merv Griffin among others. He is not only noted for his rich personal sound on the horn but for his abilities as a composer and musical interpreter. His identifiable sound and memorable compositions have drawn an ever-expanding audience to his recordings and performances. \nClifton Anderson ~ Trombone \nAntoine Roney ~ Saxophone \nEdsel Gomez~ Piano \nBelden Bullock ~ Bass \nSteve Johns ~ Drums
URL:https://notoriousjazz.com/event/clifton-anderson-quintet
LOCATION:The Side Door\, Old Lyme Inn\, 85 Lyme Street\, Old Lyme\, CT\, 06371\, United States
CATEGORIES:Club
ATTACH;FMTTYPE=image/jpeg:https://notoriousjazz.com/wp-content/uploads/2022/10/CLIFTON-ANDERSON.jpg
END:VEVENT
BEGIN:VEVENT
DTSTART;TZID=America/New_York:20221026T193000
DTEND;TZID=America/New_York:20221026T230000
DTSTAMP:20260422T202636
CREATED:20220930T182445Z
LAST-MODIFIED:20220930T182445Z
UID:31955-1666812600-1666825200@notoriousjazz.com
SUMMARY:FRANK LACY QUARTET
DESCRIPTION:Trombonist Frank Lacy\, born August 9\, 1958 in Houston\, Texas has spent many years as a member of the Mingus Big Band\, and returns once more to Smalls \nSets: 7:30pm & 9:00pm \nWalk-in music charge is $25 | Reserve tickets are $35 Sunday through Thursdays and $40 on Friday and Saturday.
URL:https://notoriousjazz.com/event/frank-lacy-quartet
LOCATION:Smalls\, 183 West 10th Street - Basement\, New York City\, NY\, 10014\, United States
CATEGORIES:Club
ATTACH;FMTTYPE=image/jpeg:https://notoriousjazz.com/wp-content/uploads/2022/09/FRANK-LACY.jpg
END:VEVENT
END:VCALENDAR