BEGIN:VCALENDAR
VERSION:2.0
PRODID:-//Notorious Jazz - ECPv6.15.17//NONSGML v1.0//EN
CALSCALE:GREGORIAN
METHOD:PUBLISH
X-WR-CALNAME:Notorious Jazz
X-ORIGINAL-URL:https://notoriousjazz.com
X-WR-CALDESC:Events for Notorious Jazz
REFRESH-INTERVAL;VALUE=DURATION:PT1H
X-Robots-Tag:noindex
X-PUBLISHED-TTL:PT1H
BEGIN:VTIMEZONE
TZID:America/New_York
BEGIN:DAYLIGHT
TZOFFSETFROM:-0500
TZOFFSETTO:-0400
TZNAME:EDT
DTSTART:20240310T070000
END:DAYLIGHT
BEGIN:STANDARD
TZOFFSETFROM:-0400
TZOFFSETTO:-0500
TZNAME:EST
DTSTART:20241103T060000
END:STANDARD
BEGIN:DAYLIGHT
TZOFFSETFROM:-0500
TZOFFSETTO:-0400
TZNAME:EDT
DTSTART:20250309T070000
END:DAYLIGHT
BEGIN:STANDARD
TZOFFSETFROM:-0400
TZOFFSETTO:-0500
TZNAME:EST
DTSTART:20251102T060000
END:STANDARD
BEGIN:DAYLIGHT
TZOFFSETFROM:-0500
TZOFFSETTO:-0400
TZNAME:EDT
DTSTART:20260308T070000
END:DAYLIGHT
BEGIN:STANDARD
TZOFFSETFROM:-0400
TZOFFSETTO:-0500
TZNAME:EST
DTSTART:20261101T060000
END:STANDARD
END:VTIMEZONE
BEGIN:VEVENT
DTSTART;TZID=America/New_York:20250927T190000
DTEND;TZID=America/New_York:20250927T223000
DTSTAMP:20260420T073330
CREATED:20250926T161527Z
LAST-MODIFIED:20250928T011208Z
UID:47370-1758999600-1759012200@notoriousjazz.com
SUMMARY:BERNARD LINNETTE INTERACTIVE
DESCRIPTION:Drummer Bernard Linnette is a force of nature behind the kit\, blending precision\, groove\, and creativity in every performance. With roots in both jazz and R&B\, he has built a reputation for his ability to drive a band with thunderous power while also bringing subtle nuance to more intimate settings. His career has taken him to stages across the country\, where his dynamic playing consistently captivates audiences and earns the admiration of fellow musicians. \nBeyond his technical mastery\, Linnette is celebrated for his versatility and collaborative spirit\, making him a sought-after accompanist for both seasoned artists and rising stars. Whether laying down a swinging rhythm\, crafting complex polyrhythms\, or igniting the stage with high-energy solos\, he embodies the heartbeat of the music. With every performance\, Bernard Linnette proves why he is one of the most compelling drummers working today. \nThe Band: Bernard Linnette\, Drums | Frank Lacy\, Trombone | Chanda Leigh Adeogba\, Vocal | James Robertson\, Saxophone | Derrick White\, Trombone | Louis Herivaux\, Piano | Tommy Sauter\, Bass \nCover: $42.00
URL:https://notoriousjazz.com/event/bernard-linnette-interactive-2
LOCATION:The Velvet Note\, 4075 Old Milton Parkway\, Alpharetta\, GA\, 30005\, United States
CATEGORIES:Club
ATTACH;FMTTYPE=image/png:https://notoriousjazz.com/wp-content/uploads/2025/09/BERNARD-LINNETTE-@-THE-VELVET-NOTE.png
END:VEVENT
END:VCALENDAR