BEGIN:VCALENDAR
VERSION:2.0
PRODID:-//Notorious Jazz - ECPv6.15.17//NONSGML v1.0//EN
CALSCALE:GREGORIAN
METHOD:PUBLISH
X-WR-CALNAME:Notorious Jazz
X-ORIGINAL-URL:https://notoriousjazz.com
X-WR-CALDESC:Events for Notorious Jazz
REFRESH-INTERVAL;VALUE=DURATION:PT1H
X-Robots-Tag:noindex
X-PUBLISHED-TTL:PT1H
BEGIN:VTIMEZONE
TZID:America/New_York
BEGIN:DAYLIGHT
TZOFFSETFROM:-0500
TZOFFSETTO:-0400
TZNAME:EDT
DTSTART:20210314T070000
END:DAYLIGHT
BEGIN:STANDARD
TZOFFSETFROM:-0400
TZOFFSETTO:-0500
TZNAME:EST
DTSTART:20211107T060000
END:STANDARD
BEGIN:DAYLIGHT
TZOFFSETFROM:-0500
TZOFFSETTO:-0400
TZNAME:EDT
DTSTART:20220313T070000
END:DAYLIGHT
BEGIN:STANDARD
TZOFFSETFROM:-0400
TZOFFSETTO:-0500
TZNAME:EST
DTSTART:20221106T060000
END:STANDARD
BEGIN:DAYLIGHT
TZOFFSETFROM:-0500
TZOFFSETTO:-0400
TZNAME:EDT
DTSTART:20230312T070000
END:DAYLIGHT
BEGIN:STANDARD
TZOFFSETFROM:-0400
TZOFFSETTO:-0500
TZNAME:EST
DTSTART:20231105T060000
END:STANDARD
END:VTIMEZONE
BEGIN:VEVENT
DTSTART;TZID=America/New_York:20220706T153000
DTEND;TZID=America/New_York:20220706T170000
DTSTAMP:20260421T162025
CREATED:20220703T184334Z
LAST-MODIFIED:20220703T185226Z
UID:30784-1657121400-1657126800@notoriousjazz.com
SUMMARY:CHARLES WILSON QUINTET
DESCRIPTION:Charles Wilson – Drums\nHope Udobi – Piano\nTheljon Allen – Trumpet\nElijah Easton -sax\nMike Saunders – bass \nCharles “Charlie” Wilson is a drummer\, pianist and bass guitar player. He started playing music at the age of 5\, where he began taking lessons taught by Orlando Cotto at Nathan Carter’s School of Music in Baltimore. He attended Archbishop Curley High School under a music scholarship where he won several awards such as the North Texas Jazz Festival Outstanding Soloist Award and the Louis Armstrong Jazz Award. As a teen working under the City’s Youth Works Program\, he was assigned at Paul L. Dunbar High School’s Music Program where he worked under the leadership of one of the greatest educators and musicians of all times\, Charles Funn. \nActual Show Times: \nStreaming: Wed\, July 6\, 7:30 PM | $10 + $1.70 fee \nLive: Wed\, July 6\, 7:30 PM | $20 – $25 + $2.40 – $2.76 fee
URL:https://notoriousjazz.com/event/charles-wilson-quintet
LOCATION:Keystone Korner Baltimore\, 1350 Lancaster Street\, Baltimore\, MD\, 21231\, United States
CATEGORIES:Club
ATTACH;FMTTYPE=image/png:https://notoriousjazz.com/wp-content/uploads/2022/07/CHARLES-WILSON.png
END:VEVENT
BEGIN:VEVENT
DTSTART;TZID=America/New_York:20220727T140000
DTEND;TZID=America/New_York:20220727T170000
DTSTAMP:20260421T162025
CREATED:20220706T195740Z
LAST-MODIFIED:20220706T204921Z
UID:30929-1658930400-1658941200@notoriousjazz.com
SUMMARY:MONTCLAIR JAZZ FESTIVAL
DESCRIPTION:AKIKO TSURUGA QUARTET  \nRaised in Osaka\, Japan\, this talented musician began studying the organ at the age of three\, at the famed Yamaha Music School. After discovering her passion for jazz very early on in her musical journey\, Akiko launched her career immediately after graduating from the Osaka College of Music. While living and playing in Osaka\, she performed with several world- renowned jazz musicians from the United States.  \nWALLACE RONEY JR. \nJAZZ HOUSE alum by the talented young trumpeter Wallace Roney\, Jr. opens the evening as he continues to forge new paths on the legacy of his late parents Geri Allen and Wallace Roney\, Sr. \nActual Showtime: 6:00 pm~9:00 pm | Rain Date: July 28\, 2022 \n~ No Tickets Required | Suggested Donation: $10 \n~ Beach and Lawn Chairs: Welcomed \n~ Pop-Up Tents: Prohibited
URL:https://notoriousjazz.com/event/montclair-jazz-festival-2
LOCATION:Montclair Jazz Festival\, Lackawanna Plaza\, Montclair\, NJ\, United States
CATEGORIES:Festival
ATTACH;FMTTYPE=image/png:https://notoriousjazz.com/wp-content/uploads/2022/07/AKIKO-TSURUGA-WALLACE-RONEY-JR..png
END:VEVENT
END:VCALENDAR