BEGIN:VCALENDAR
VERSION:2.0
PRODID:-//Notorious Jazz - ECPv6.15.17//NONSGML v1.0//EN
CALSCALE:GREGORIAN
METHOD:PUBLISH
X-WR-CALNAME:Notorious Jazz
X-ORIGINAL-URL:https://notoriousjazz.com
X-WR-CALDESC:Events for Notorious Jazz
REFRESH-INTERVAL;VALUE=DURATION:PT1H
X-Robots-Tag:noindex
X-PUBLISHED-TTL:PT1H
BEGIN:VTIMEZONE
TZID:America/New_York
BEGIN:DAYLIGHT
TZOFFSETFROM:-0500
TZOFFSETTO:-0400
TZNAME:EDT
DTSTART:20210314T070000
END:DAYLIGHT
BEGIN:STANDARD
TZOFFSETFROM:-0400
TZOFFSETTO:-0500
TZNAME:EST
DTSTART:20211107T060000
END:STANDARD
BEGIN:DAYLIGHT
TZOFFSETFROM:-0500
TZOFFSETTO:-0400
TZNAME:EDT
DTSTART:20220313T070000
END:DAYLIGHT
BEGIN:STANDARD
TZOFFSETFROM:-0400
TZOFFSETTO:-0500
TZNAME:EST
DTSTART:20221106T060000
END:STANDARD
BEGIN:DAYLIGHT
TZOFFSETFROM:-0500
TZOFFSETTO:-0400
TZNAME:EDT
DTSTART:20230312T070000
END:DAYLIGHT
BEGIN:STANDARD
TZOFFSETFROM:-0400
TZOFFSETTO:-0500
TZNAME:EST
DTSTART:20231105T060000
END:STANDARD
END:VTIMEZONE
BEGIN:VTIMEZONE
TZID:America/Chicago
BEGIN:DAYLIGHT
TZOFFSETFROM:-0600
TZOFFSETTO:-0500
TZNAME:CDT
DTSTART:20210314T080000
END:DAYLIGHT
BEGIN:STANDARD
TZOFFSETFROM:-0500
TZOFFSETTO:-0600
TZNAME:CST
DTSTART:20211107T070000
END:STANDARD
BEGIN:DAYLIGHT
TZOFFSETFROM:-0600
TZOFFSETTO:-0500
TZNAME:CDT
DTSTART:20220313T080000
END:DAYLIGHT
BEGIN:STANDARD
TZOFFSETFROM:-0500
TZOFFSETTO:-0600
TZNAME:CST
DTSTART:20221106T070000
END:STANDARD
BEGIN:DAYLIGHT
TZOFFSETFROM:-0600
TZOFFSETTO:-0500
TZNAME:CDT
DTSTART:20230312T080000
END:DAYLIGHT
BEGIN:STANDARD
TZOFFSETFROM:-0500
TZOFFSETTO:-0600
TZNAME:CST
DTSTART:20231105T070000
END:STANDARD
END:VTIMEZONE
BEGIN:VEVENT
DTSTART;TZID=America/New_York:20221110T193000
DTEND;TZID=America/New_York:20221110T210000
DTSTAMP:20260421T101649
CREATED:20221030T185046Z
LAST-MODIFIED:20221030T202921Z
UID:32422-1668108600-1668114000@notoriousjazz.com
SUMMARY:CHARLES MCPHERSON & SEAN JONES
DESCRIPTION:Charles McPherson with Sean Jones featuring Jeb Patton\, Russell Hall & Billy Drummond \nThursday-Sunday\, November 10-13th\nThursday: 7:30pm\nFriday & Saturday: 7pm & 9:30pm\nSunday: 5pm & 7:30pm \nFour incredible nights with these five grand masters! \n“Charles is the very definition of excellence in our music. He is the definitive master on this instrument. He plays with exceptional harmonic accuracy and sophistication. He performs free-flowing\, melodic and thematically developed solos with unbelievable fire and an unparalleled depth of soul.” – Wynton Marsalis
URL:https://notoriousjazz.com/event/charles-mcpherson-sean-jones
LOCATION:Keystone Korner Baltimore\, 1350 Lancaster Street\, Baltimore\, MD\, 21231\, United States
CATEGORIES:Club
ATTACH;FMTTYPE=image/png:https://notoriousjazz.com/wp-content/uploads/2022/10/CHARLES-MCPHERSON-SEAN-JONES.png
END:VEVENT
BEGIN:VEVENT
DTSTART;TZID=America/New_York:20221115T200000
DTEND;TZID=America/New_York:20221120T233000
DTSTAMP:20260421T101649
CREATED:20221010T003928Z
LAST-MODIFIED:20221010T003928Z
UID:32074-1668542400-1668987000@notoriousjazz.com
SUMMARY:TOM HARRELL QUINTET
DESCRIPTION:The trumpeter Tom Harrell has been doing this a long time\, through various schools and vogues: He can play slow and fast and in between\, sometimes all within a single line. But his improvising is always temperate and proportionate. He keeps you on the hook\, but doesn’t shout\, doesn’t stop the clock. Plenty of improvisers are specialists in now-ness\, revealing a solo as a series of events\, or present-tense flashes. With Mr. Harrell\, it’s all one event. He’s always processing ahead and behind\, and you feel as if you’re hearing the whole of the narrative at all times\, from was to is to will be. \nTom Harrell – Trumpet\, Flugelhorn\nDayna Stephens – Saxophone\nLuis Perdomo – Piano\nUgonna Okegwo – Bass\nAdam Cruz – Drums
URL:https://notoriousjazz.com/event/tom-harrell-quintet
LOCATION:Village Vanguard\, 178 7th Avenue S\, New York City\, NY\, 10014\, United States
CATEGORIES:Club
ATTACH;FMTTYPE=image/jpeg:https://notoriousjazz.com/wp-content/uploads/2022/10/TOM-HARRELL.jpg
END:VEVENT
BEGIN:VEVENT
DTSTART;TZID=America/New_York:20221118T193000
DTEND;TZID=America/New_York:20221120T233000
DTSTAMP:20260421T101649
CREATED:20220703T220649Z
LAST-MODIFIED:20220919T234503Z
UID:30812-1668799800-1668987000@notoriousjazz.com
SUMMARY:THE COOKERS
DESCRIPTION:Each member of the Cookers has spent time leading his own series of groups\, and each has a keenly individual sound. But it’s the unmistakable power of teamwork that makes this music so commanding and resonates with a kind of depth and beauty that speaks of the seasoned track record of its principals (combined\, the group has over 250 years of experience in the jazz world and has been a part of over 1\,000 recordings). You can feel the collective weight of that experience in their CDs and especially in their live performances. \nDavid Weiss\, trumpet\nEddie Henderson\, trumpet\nDonald Harrison\, alto sax\nBilly Harper\, tenor sax\nGeorge Cables\, piano\nCecil McBee\, bass\nBilly Hart\, drums \nShowtimes: \nStreaming: Fri\, Sat\, November 18~19\, 7:30 pm | Sun\, November 20\, 5:00 pm\n$10 + $1.70 fee \nLive: Fri\, Sat\, November 18~19\, 7:30 & 10:00 pm | Sun\, November 20\, 5:00 pm\n$35 – $45 + $3.46 – $4.16 fee
URL:https://notoriousjazz.com/event/the-cookers
LOCATION:Keystone Korner Baltimore\, 1350 Lancaster Street\, Baltimore\, MD\, 21231\, United States
CATEGORIES:Club
ATTACH;FMTTYPE=image/png:https://notoriousjazz.com/wp-content/uploads/2022/07/THE-COOKERS.png
END:VEVENT
BEGIN:VEVENT
DTSTART;TZID=America/New_York:20221120T060000
DTEND;TZID=America/New_York:20221120T220000
DTSTAMP:20260421T101649
CREATED:20221110T145323Z
LAST-MODIFIED:20221110T145323Z
UID:32629-1668924000-1668981600@notoriousjazz.com
SUMMARY:INDIANAPOLIS JAZZ COLLECTIVE FEATURING TERRELL STAFFORD
DESCRIPTION:There is no better way to celebrate great jazz than with the Indianapolis Jazz Collective featuring Rob Dixon\, Steve Allee\, Kenny Phelps + Nick Tucker with featured guest artist trumpeter Terell Stafford. Join The Jazz Kitchen and these supreme\, creative musicians for a night that explores what jazz has to offer through standards\, jams and improvisation. \n“One of the great players of our time\, a fabulous trumpet player.” – McCoy Tyner \nTerell Stafford\, acclaimed trumpet player based in New York\, is recognized as an incredibly gifted and versatile player\, he combines a deep love of melody with his own brand of spirited and adventurous lyricism. Stafford’s exceptionally expressive and well defined musical talent allows him to dance in and around the rich trumpet tradition of his predecessors while making his own inroads. \nShowtimes: 6:00pm & 8:30pm
URL:https://notoriousjazz.com/event/indianapolis-jazz-collective-featuring-terrell-stafford
LOCATION:The Jazz Kitchen\, 5377 N College Avenue\, Indianapolis\, IN\, 46220\, United States
CATEGORIES:Club
ATTACH;FMTTYPE=image/png:https://notoriousjazz.com/wp-content/uploads/2022/11/TERRELL-STAFFORD.png
END:VEVENT
BEGIN:VEVENT
DTSTART;TZID=America/New_York:20221123T190000
DTEND;TZID=America/New_York:20221123T230000
DTSTAMP:20260421T101649
CREATED:20221117T193939Z
LAST-MODIFIED:20221117T194234Z
UID:32705-1669230000-1669244400@notoriousjazz.com
SUMMARY:JOE GRANSDEN JAZZ JAM
DESCRIPTION:At 42 years old\, Joe Gransden has already performed worldwide and released 14 CDs under his own name. Renowned first for the hard bop approach of his trumpet\, and his singing voice has been compared to that of Chet Baker and Frank Sinatra. Among his many gigs he leads the weekly jam session at Venkman’s. \nWHEN: EVERY WEDNESDAY
URL:https://notoriousjazz.com/event/joe-gransden-jazz-jam
LOCATION:Venkman’s\, 740 Ralph McGill Boulevard NE\, Atlanta\, GA\, 30312\, United States
CATEGORIES:Restaurant
ATTACH;FMTTYPE=image/jpeg:https://notoriousjazz.com/wp-content/uploads/2022/11/JOE-GRANSDEN.jpg
END:VEVENT
BEGIN:VEVENT
DTSTART;TZID=America/Chicago:20221125T193000
DTEND;TZID=America/Chicago:20221126T230000
DTSTAMP:20260421T101649
CREATED:20220920T221408Z
LAST-MODIFIED:20221012T173529Z
UID:31780-1669404600-1669503600@notoriousjazz.com
SUMMARY:JEREMY DAVENPORT
DESCRIPTION:A born entertainer known for his vocal and trumpet playing skills\, Jeremy Davenport infuses his unique style and mood of storytelling creating not only a modern edge but also the distinct feeling of a lifestyle reminiscent of a time when Jazz was at its peak of popularity. \nValet Parking ~ $10.00 prepaid \nValet parking is available for all Jazz St. Louis performances. Discounted $10 valet parking may be purchased when ordering your tickets. Please make sure to select the correct date and time when adding parking to your cart with your tickets before purchasing. \nPerformances: \nNovember 25 ~ 7:30pm | 9:30pm \nNovember 26~ 7:30pm | 9:30pm
URL:https://notoriousjazz.com/event/jeremy-davenport
LOCATION:Jazz St. Louis\, 3536 Washington Avenue\, St. Louis\, MO\, 63103\, United States
CATEGORIES:Club
ATTACH;FMTTYPE=image/jpeg:https://notoriousjazz.com/wp-content/uploads/2022/09/JEREMY-DAVENPORT.jpg
END:VEVENT
END:VCALENDAR