BEGIN:VCALENDAR
VERSION:2.0
PRODID:-//Notorious Jazz - ECPv6.15.17//NONSGML v1.0//EN
CALSCALE:GREGORIAN
METHOD:PUBLISH
X-ORIGINAL-URL:https://notoriousjazz.com
X-WR-CALDESC:Events for Notorious Jazz
REFRESH-INTERVAL;VALUE=DURATION:PT1H
X-Robots-Tag:noindex
X-PUBLISHED-TTL:PT1H
BEGIN:VTIMEZONE
TZID:America/New_York
BEGIN:DAYLIGHT
TZOFFSETFROM:-0500
TZOFFSETTO:-0400
TZNAME:EDT
DTSTART:20220313T070000
END:DAYLIGHT
BEGIN:STANDARD
TZOFFSETFROM:-0400
TZOFFSETTO:-0500
TZNAME:EST
DTSTART:20221106T060000
END:STANDARD
BEGIN:DAYLIGHT
TZOFFSETFROM:-0500
TZOFFSETTO:-0400
TZNAME:EDT
DTSTART:20230312T070000
END:DAYLIGHT
BEGIN:STANDARD
TZOFFSETFROM:-0400
TZOFFSETTO:-0500
TZNAME:EST
DTSTART:20231105T060000
END:STANDARD
BEGIN:DAYLIGHT
TZOFFSETFROM:-0500
TZOFFSETTO:-0400
TZNAME:EDT
DTSTART:20240310T070000
END:DAYLIGHT
BEGIN:STANDARD
TZOFFSETFROM:-0400
TZOFFSETTO:-0500
TZNAME:EST
DTSTART:20241103T060000
END:STANDARD
END:VTIMEZONE
BEGIN:VEVENT
DTSTART;TZID=America/New_York:20230104T143000
DTEND;TZID=America/New_York:20230104T170000
DTSTAMP:20260421T072835
CREATED:20230103T040754Z
LAST-MODIFIED:20230105T135021Z
UID:33531-1672842600-1672851600@notoriousjazz.com
SUMMARY:JOHN & DAVID SNEIDER GENERATIONS QUINTET
DESCRIPTION:Lineup:\nJohn “Scrapper” Sneider – Trumpet | David Sneider – Trumpet | Andy Watson – Drums | Ugonna Okegwo – Bass | Jeb Patton – Piano \nAcclaimed trumpeter John Sneider has worked with artists like Larry Goldings\, Andy Bey. Curtis Stigers\, Brad Mehldau and Madeleine Peyroux. His latest album is “The Scrapper” on the Cellar Live label.\nDavid Sneider\, also on trumpet\, is forging his own career path in NYC. The Winner of the Carmine Caruso International Jazz Trumpet Competition in 2021\, David is currently pursuing his masters degree at The Juilliard School of Music and performing with notable artists like Dom Salvador and Ulysses Owens Jr.
URL:https://notoriousjazz.com/event/john-david-sneider-generations-quintet
LOCATION:The Django\, 2 6th Avenue | The Roxy Hotel\, New York City\, NY\, 10013\, United States
CATEGORIES:Club
ATTACH;FMTTYPE=image/jpeg:https://notoriousjazz.com/wp-content/uploads/2023/01/JOHN-SNEIDER.jpg
END:VEVENT
BEGIN:VEVENT
DTSTART;TZID=America/New_York:20230105T223000
DTEND;TZID=America/New_York:20230106T010000
DTSTAMP:20260421T072835
CREATED:20230103T042643Z
LAST-MODIFIED:20230104T183600Z
UID:33537-1672957800-1672966800@notoriousjazz.com
SUMMARY:RICHIE VITALE QUINTET
DESCRIPTION:Trumpeter Richie Vitale has been a mainstay on the NYC jazz scene for decades. He’s led his quintet on tours of the US\, Europe and Asia\, and performed with legends like Frank Sinatra\, Tony Bennett\, Buddy Rich\, James Taylor and Sting. His seventh recording as a leader “Slow Groove”(out this year)\, attests to a mature and elegant voice matched with emotion and brilliance. \nCover + 2 Drink Minimum
URL:https://notoriousjazz.com/event/richie-vitale-quintet
LOCATION:The Django\, 2 6th Avenue | The Roxy Hotel\, New York City\, NY\, 10013\, United States
CATEGORIES:Club
ATTACH;FMTTYPE=image/jpeg:https://notoriousjazz.com/wp-content/uploads/2023/01/RICHIE-VITALE.jpg
END:VEVENT
BEGIN:VEVENT
DTSTART;TZID=America/New_York:20230106T080000
DTEND;TZID=America/New_York:20230108T170000
DTSTAMP:20260421T072835
CREATED:20230103T004054Z
LAST-MODIFIED:20230104T183730Z
UID:33525-1672992000-1673197200@notoriousjazz.com
SUMMARY:MIKE CLARK\, GARY BARTZ & EDDIE HENDERSON
DESCRIPTION:Eddie Henderson ~ Trumpet\nGary Bartz ~ Saxophone\nEssiet Essiet ~ Bass\nMike Clark ~ Drums\nJon Davis ~ Piano\n\n\nShowtimes:\nFriday & Saturday ~ 7:00pm | 9:30 pm\nBroadcast: 7:00 pm | $10.00\n\nSunday ~ 5:00 pm | 7:30 pm\nBroadcast ~ 5:00 pm | $10.00
URL:https://notoriousjazz.com/event/mike-clark-gary-bartz-eddie-henderson
LOCATION:Keystone Korner Baltimore\, 1350 Lancaster Street\, Baltimore\, MD\, 21231\, United States
CATEGORIES:Club
ATTACH;FMTTYPE=image/png:https://notoriousjazz.com/wp-content/uploads/2023/01/MIKE-CLARK-GARY-BARTZ-EDDIE-HENDERSON.png
END:VEVENT
BEGIN:VEVENT
DTSTART;TZID=America/New_York:20230120T200000
DTEND;TZID=America/New_York:20230120T220000
DTSTAMP:20260421T072835
CREATED:20221230T144808Z
LAST-MODIFIED:20221230T144808Z
UID:33489-1674244800-1674252000@notoriousjazz.com
SUMMARY:SEAN JONES' DIZZY SPELLZ
DESCRIPTION:Trumpeter Sean Jones’ Dizzy Spellz has wowed New York audiences for years with its interpretation of the late\, great jazz master Dizzy Gillespie. Armed with a turntablist and the tap dancing Appalachian style of Brinae Ali\, Jones and Dizzy Spellz put a new spin on Diz\, from his bebop beginnings to his later Afro-Cuban tunes. The band will serve as an amazing kick off to the 2023 Purdue Jazz Festival.
URL:https://notoriousjazz.com/event/sean-jones-dizzy-spellz
LOCATION:Loeb Playhouse\, 128 Memorial Mall Dr\, West Lafayette\, IN\, 47907\, United States
CATEGORIES:Concert
ATTACH;FMTTYPE=image/png:https://notoriousjazz.com/wp-content/uploads/2022/12/SEAN-JONES-DIZZY-SPELLZ.png
END:VEVENT
BEGIN:VEVENT
DTSTART;TZID=America/New_York:20230121T190000
DTEND;TZID=America/New_York:20230121T230000
DTSTAMP:20260421T072835
CREATED:20221230T053250Z
LAST-MODIFIED:20221230T053324Z
UID:33464-1674327600-1674342000@notoriousjazz.com
SUMMARY:JEREMY PELT QUINTET
DESCRIPTION:Prolific as both a leader and first-call collaborator\, the lyrical and swinging horn player is also a master of beautiful\, lush ballads and inventive compositions. He has appeared with such legends as Nancy Wilson\, Cedar Walton\, Louis Hayes\, Jimmy Heath\, and Ralph Peterson and large ensembles including Mingus Big Band\, Roy Hargrove Big Band\, and the Vanguard Jazz Orchestra. Pelt has recorded more than 20 critically acclaimed albums as a leader\, interpreting material uniquely and masterfully at every live performance. \n\nPerformers\n\nJeremy Pelt – trumpet | Chien Chien Lu – vibraphone | Victor Gould – piano | Vicente Archer – bass | Allan Mednard – drums \nShowtimes ~ 7:00pm | 9:00pm
URL:https://notoriousjazz.com/event/jeremy-pelt-quintet
LOCATION:Scullers Jazz Club\, 400 Soldiers Field Road\, Boston\, MA\, 02134\, United States
CATEGORIES:Club
ATTACH;FMTTYPE=image/jpeg:https://notoriousjazz.com/wp-content/uploads/2022/12/JEREMY-PELT.jpg
END:VEVENT
BEGIN:VEVENT
DTSTART;TZID=America/New_York:20230129T160000
DTEND;TZID=America/New_York:20230129T180000
DTSTAMP:20260421T072835
CREATED:20230111T031459Z
LAST-MODIFIED:20230111T031652Z
UID:33703-1675008000-1675015200@notoriousjazz.com
SUMMARY:SCOTTY BARNHART
DESCRIPTION:Unity Jazz Concert Series \nSpecial Guest ~ Stillwell High School Jazz Ensemble \nHosted By ~ WCLK 91.9FM’s Riva Blue \nTickets: $35.00 in advance | $40.00 at door (NO CASH) \nTickets Available at Unity-Jazz.Eventbrite.com\, UnityJazz.org or call 770-899-1991 \nDoors at 3:00pm
URL:https://notoriousjazz.com/event/scotty-barnhart
LOCATION:Emory Performing Arts Studio\, 1804 N. Decatur Road\, Atlanta\, GA\, 30307\, United States
CATEGORIES:Concert
ATTACH;FMTTYPE=image/jpeg:https://notoriousjazz.com/wp-content/uploads/2023/01/SCOTTY-BARNHART.jpg
END:VEVENT
END:VCALENDAR